From mboxrd@z Thu Jan 1 00:00:00 1970 Return-Path: Received: from mails.dpdk.org (mails.dpdk.org [217.70.189.124]) by inbox.dpdk.org (Postfix) with ESMTP id E88A646747 for ; Wed, 14 May 2025 16:04:12 +0200 (CEST) Received: from mails.dpdk.org (localhost [127.0.0.1]) by mails.dpdk.org (Postfix) with ESMTP id C469C402DC; Wed, 14 May 2025 16:04:12 +0200 (CEST) Received: from mail-oo1-f97.google.com (mail-oo1-f97.google.com [209.85.161.97]) by mails.dpdk.org (Postfix) with ESMTP id CFA31402C8 for ; Wed, 14 May 2025 16:04:10 +0200 (CEST) Received: by mail-oo1-f97.google.com with SMTP id 006d021491bc7-601ad30bc0cso598307eaf.0 for ; Wed, 14 May 2025 07:04:10 -0700 (PDT) DKIM-Signature: v=1; a=rsa-sha256; c=relaxed/relaxed; d=iol.unh.edu; s=unh-iol; t=1747231450; x=1747836250; darn=dpdk.org; h=references:in-reply-to:cc:to:from:subject:message-id:date:from:to :cc:subject:date:message-id:reply-to; bh=R6B5IYezdkclXeQIveG1zIh7m1Kh+JZ1VbYy9gg9M5E=; b=FKn7nniftY8kGj//TadZF2r31J/0Z42y6jRrjr2zIBzetZKy47xN9aB7BV0wHFGkc8 L9Ahet3FI5zHrjj1D1Nn/m7zeH7SKiOGvjksGj7NTUUfkpUp38IrlNtpvBld9UPMgLig s6WGy5QmOpdCI0N3D45jAI/m7MKtH/38Mk5Qk= X-Google-DKIM-Signature: v=1; a=rsa-sha256; c=relaxed/relaxed; d=1e100.net; s=20230601; t=1747231450; x=1747836250; h=references:in-reply-to:cc:to:from:subject:message-id:date :x-gm-message-state:from:to:cc:subject:date:message-id:reply-to; bh=R6B5IYezdkclXeQIveG1zIh7m1Kh+JZ1VbYy9gg9M5E=; b=CX2scN/x6GqL8ximQLwn6zrzc78hbUbkzURBnIV2VVF4cAjnUo5aRre18VzZHGyWlR xKrl3NsOAUGwnTKanovukhLwHcJReA4n4KDOv74kQNTgkAOpwaGEOUwWg14EYxTogPaE Kp385ybEzi0rjX4UdW/oQpzyhHCAp6A5RIBZctbiEUumC12KzqwCzrRhc+9HdVbZN5MZ p9Cna/Tp1PS+ijE2gk2l17RjnVU0MdNl/EwWG/9G6mxNov6Rhrwcthh9RnerM1hq0Hzm oxoGlaj1ryJUtX6FVvIJ+Fic3JdFKRXHc6uQf8ekumcRymF6fBPE6LuzFQEOTx7gZmLc CDeA== X-Gm-Message-State: AOJu0YwxthGPsVUTcXmMlTEKF47gtrrTUW9mu5epAhDjYAoyLAPxvYz4 vljeVBY/Uuy/LbVBqHtM+YiZ9hKe1vXPJdLIdj2kgIo1bo9bQ8oT9Qx+Q0tvZ7Xf57K1EBNxtGp oARlvBlQx9aQDtv3qaQUvRB14pA5q2IYPWyTofbfr70MCO614qGEbVglh X-Gm-Gg: ASbGncsWqWobz9BZYyCwZDPAoD/Qx7aZb9qQl6EKhlVcc/w7rH22BBfvxgHK0fPDlok evJBMnaG3QHjifA1cq7GNklbHY8nZQ7uxeAwBBP2DnBeVJBX1WYkQe7dJpynB6apLucO3Jm0QOl AlW5PKvuaJXZGKsHLs1uT1WTc963YGZnGZAlxDrazDGO1s8XP+NgzPOzcImz24eEgAC8V782iNa QAlNWNHp7lAGIKGVDDlea7S4UezqUh1ZYEq5z7soBJyDal1EZak6BrxAezGFzftmqNWW0mFoh+/ e1az3IuGb21o5Pmy7tJz2HRpFbj67Re4ZiEf X-Google-Smtp-Source: AGHT+IFC4cl9F9MI/JrfLd8+dVcd+N/FmNmcPZAvGwP9grVXqE2M6Xoxu7nFjGvDQvn9s+MmElQZcryQOM4h X-Received: by 2002:a05:6820:1e0a:b0:603:f809:ce19 with SMTP id 006d021491bc7-609de736f39mr2156451eaf.3.1747231449566; Wed, 14 May 2025 07:04:09 -0700 (PDT) Received: from postal.iol.unh.edu (postal.iol.unh.edu. [2606:4100:3880:1234::84]) by smtp-relay.gmail.com with ESMTPS id 006d021491bc7-6083fe3e7e4sm219281eaf.7.2025.05.14.07.04.09 (version=TLS1_2 cipher=ECDHE-ECDSA-AES128-GCM-SHA256 bits=128/128); Wed, 14 May 2025 07:04:09 -0700 (PDT) X-Relaying-Domain: iol.unh.edu Date: Wed, 14 May 2025 07:04:09 -0700 (PDT) Message-ID: <6824a2d9.050a0220.f19e6.b2e5SMTPIN_ADDED_MISSING@mx.google.com> Received: from [172.21.0.5] (unknown [172.18.0.240]) by postal.iol.unh.edu (Postfix) with ESMTP id 068DB6052471; Wed, 14 May 2025 10:04:09 -0400 (EDT) Subject: |SUCCESS| pw153438 [PATCH] examples: remove check for old broken pkg From: dpdklab@iol.unh.edu To: Test Report Cc: dpdk-test-reports@iol.unh.edu In-Reply-To: <20250514100306.11717-1-bruce.richardson@intel.com> References: <20250514100306.11717-1-bruce.richardson@intel.com> Content-Type: text/plain X-BeenThere: test-report@dpdk.org X-Mailman-Version: 2.1.29 Precedence: list List-Id: automatic DPDK test reports List-Unsubscribe: , List-Archive: List-Post: List-Help: List-Subscribe: , Errors-To: test-report-bounces@dpdk.org Test-Label: iol-compile-arm64-testing Test-Status: SUCCESS http://dpdk.org/patch/153438 _Testing PASS_ Submitter: Bruce Richardson Date: Wednesday, May 14 2025 10:03:06 DPDK git baseline: Repo:dpdk Branch: master CommitID:2bf836de46d36a81f9321f947fbfce52b3180782 153438 --> testing pass Upstream job id: Generic-DPDK-Compile-Meson#387801 Test environment and result as below: +----------------------------------------+--------------------+ | Environment | dpdk_meson_compile | +========================================+====================+ | RHEL9 (ARM) | PASS | +----------------------------------------+--------------------+ | Ubuntu 20.04 ARM GCC Cross Compile | PASS | +----------------------------------------+--------------------+ | Ubuntu 20.04 ARM SVE | PASS | +----------------------------------------+--------------------+ | Debian 12 with MUSDK | PASS | +----------------------------------------+--------------------+ | Fedora 40 (ARM) | PASS | +----------------------------------------+--------------------+ | Fedora 40 (ARM Clang) | PASS | +----------------------------------------+--------------------+ | Fedora 41 (ARM) | PASS | +----------------------------------------+--------------------+ | Fedora 41 (ARM Clang) | PASS | +----------------------------------------+--------------------+ | Ubuntu 20.04 (ARM) | PASS | +----------------------------------------+--------------------+ | Ubuntu 22.04 (ARM) | PASS | +----------------------------------------+--------------------+ | Ubuntu 24.04 (ARM) | PASS | +----------------------------------------+--------------------+ | CentOS Stream 9 (ARM) | PASS | +----------------------------------------+--------------------+ | CentOS Stream 10 (ARM) | PASS | +----------------------------------------+--------------------+ | Ubuntu 20.04 ARM Clang Cross Compile | PASS | +----------------------------------------+--------------------+ | Ubuntu 20.04 aarch32 GCC Cross Compile | PASS | +----------------------------------------+--------------------+ | Debian 12 (arm) | PASS | +----------------------------------------+--------------------+ RHEL9 (ARM) Kernel: Depends on container host Compiler: gcc 11.5.0 20240719 (Red Hat 11.5.0-2) Ubuntu 20.04 ARM GCC Cross Compile Kernel: Depends on container host Compiler: aarch64-linux-gnu-gcc (Ubuntu 9.4.0-1ubuntu1~20.04.2) 9.4.0 Ubuntu 20.04 ARM SVE Kernel: Depends on container host Compiler: gcc (Ubuntu 10.5.0-1ubuntu1~20.04) 10.5.0 Debian 12 with MUSDK Kernel: Depends on container host Compiler: gcc (Debian 12.2.0-14) 12.2.0 Fedora 40 (ARM) Kernel: Depends on container host Compiler: gcc 14.2.1 20240912 (Red Hat 14.2.1-3) Fedora 40 (ARM Clang) Kernel: Depends on container host Compiler: clang 18.1.8 (Fedora 18.1.8-1.fc40) Fedora 41 (ARM) Kernel: Depends on container host Compiler: gcc 14.2.1 20240912 (Red Hat 14.2.1-3) Fedora 41 (ARM Clang) Kernel: Depends on container host Compiler: clang 19.1.5 (Fedora 19.1.5-1.fc41) Ubuntu 20.04 (ARM) Kernel: Depends on container host Compiler: gcc (Ubuntu 9.4.0-1ubuntu1~20.04.2) 9.4.0 Ubuntu 22.04 (ARM) Kernel: Depends on container host Compiler: gcc (Ubuntu 11.4.0-1ubuntu1~22.04) 11.4.0 Ubuntu 24.04 (ARM) Kernel: Depends on container host Compiler: gcc (Ubuntu 13.3.0-6ubuntu2~24.04) 13.3.0 CentOS Stream 9 (ARM) Kernel: Depends on container host Compiler: gcc 11.5.0 20240719 (Red Hat 11.5.0-2) CentOS Stream 10 (ARM) Kernel: Depends on container host Compiler: gcc 14.2.1 20241104 (Red Hat 14.2.1-6) Ubuntu 20.04 ARM Clang Cross Compile Kernel: Depends on container host Compiler: clang 10.0.0-4ubuntu1 Ubuntu 20.04 aarch32 GCC Cross Compile Kernel: Depends on container host Compiler: gcc 9.4.0 Debian 12 (arm) Kernel: Depends on container host Compiler: gcc (Debian 12.2.0-14) 12.2.0 To view detailed results, visit: https://lab.dpdk.org/results/dashboard/patchsets/33170/ UNH-IOL DPDK Community Lab To manage your email subscriptions, visit: https://lab.dpdk.org/results/dashboard/preferences/subscriptions/