From mboxrd@z Thu Jan 1 00:00:00 1970 Return-Path: Received: from mails.dpdk.org (mails.dpdk.org [217.70.189.124]) by inbox.dpdk.org (Postfix) with ESMTP id 4971F46747 for ; Wed, 14 May 2025 16:34:06 +0200 (CEST) Received: from mails.dpdk.org (localhost [127.0.0.1]) by mails.dpdk.org (Postfix) with ESMTP id 28280402DC; Wed, 14 May 2025 16:34:06 +0200 (CEST) Received: from mail-pg1-f227.google.com (mail-pg1-f227.google.com [209.85.215.227]) by mails.dpdk.org (Postfix) with ESMTP id 1AD26402C8 for ; Wed, 14 May 2025 16:34:04 +0200 (CEST) Received: by mail-pg1-f227.google.com with SMTP id 41be03b00d2f7-b0b2d1f2845so4693616a12.3 for ; Wed, 14 May 2025 07:34:03 -0700 (PDT) DKIM-Signature: v=1; a=rsa-sha256; c=relaxed/relaxed; d=iol.unh.edu; s=unh-iol; t=1747233243; x=1747838043; darn=dpdk.org; h=references:in-reply-to:cc:to:from:subject:message-id:date:from:to :cc:subject:date:message-id:reply-to; bh=FW3jvJEPGB43Bxn9v2hNck8fKHmh/gOXtqiIBviLXBw=; b=QXiCMe5jQ9ZZoKGwSt64eV0cB+XUQbSSUFOwbW1TTDrrzAQ8t1xE/wHPQL2NEWJgKi uzNjnCvqj5q0rzEWgb6PvewCpJRFh+x3mPbTFieof+G28dT2WCWcSE6jKSk8yyQjuTZC QSPYeQyIJ5RaSMyO7ggU06C4u/RxTpfQIy8Dg= X-Google-DKIM-Signature: v=1; a=rsa-sha256; c=relaxed/relaxed; d=1e100.net; s=20230601; t=1747233243; x=1747838043; h=references:in-reply-to:cc:to:from:subject:message-id:date :x-gm-message-state:from:to:cc:subject:date:message-id:reply-to; bh=FW3jvJEPGB43Bxn9v2hNck8fKHmh/gOXtqiIBviLXBw=; b=baYEcym9PMZy7HOSj4ZGNUQOQ9MgvKrhMr8DV5d8AQit4m4SNJp5gzfB7H6tytjadS 07s368R2wDLGig+Hec+BmA95AzL2qZCoxoGWVyxIExIV6IRhayZA0sXq93hgeSLBswtX Y/uda0wjzklZW1tAOCaJ7zHmYTlGNxZTHKMIUE0ixE0rygHa2HdOzO87BYokLQ2aEN4P ZuU8WVYI6fE8VTfmDs3jD1mYR7SMqOKGKyfFzlHpcrB6xvUhvE0eTuJieoz4/fRzSV4+ L/KwMRTs/lFDiSBp0LwtRPi0VCRCQ4AgkRJSSjQZgvwKVHnoGKXIDm9+0d8U/7aaC1su vWyw== X-Gm-Message-State: AOJu0YyBDv8mwSyXN+oLKFnsBcTTEtkSs/92DYfdnic7oLgmKvUq3PsG TMsOCnCg6fSHfki3kyBiLe3BKitJqx1KdQHAhja0ePV8k13d9ngcNzhuf2/ykVi5ESUHrauZi08 GXJLJlED9Df2rCJHlCDasjUs1oXk5yNl3IwIOhrM0cF0709ap3JyXolxn X-Gm-Gg: ASbGnctSywzh6QIBSZ+QqWczZU1cKtWsNM5xOCG1aapBqIsWURLQqXnilUODWCi3Zub /13o1U2SJOuJFr9sYHUUNsWviHvGLBwEGvMId9nDCJHAs8tCkOKHzVI5Bz+EFJDoCAE8Gut5Lgy YxOzatfY9yN9D6zJPa55NfjoYHOLWALOCdzEpkGzvFf/jhR2He/DTzfgyeKKp5A9Sd04CSW9/RD WiiX4lWdBP2lyMgdvLAOAcmd4KoHWGANi2goMbL56nFudKI5K9TLAeJuh+5NmkXpoYDxBbNsj3R YU6Lbo7sX1iD7m0gx+WhZu/t8KcanFLimzLt X-Google-Smtp-Source: AGHT+IHctMmE/Rk00Fw+/H9kj63WrD7pS0/YBT/niwqZhEJKxgOoYLh0DUPb0BlxHNYDh3AkiK4xaLo+FM0i X-Received: by 2002:a17:903:2f86:b0:22e:7f20:52ed with SMTP id d9443c01a7336-2319813f8aemr41786625ad.20.1747233243023; Wed, 14 May 2025 07:34:03 -0700 (PDT) Received: from postal.iol.unh.edu (postal.iol.unh.edu. [2606:4100:3880:1234::84]) by smtp-relay.gmail.com with ESMTPS id d9443c01a7336-22fc581fafbsm5865425ad.25.2025.05.14.07.34.02 (version=TLS1_2 cipher=ECDHE-ECDSA-AES128-GCM-SHA256 bits=128/128); Wed, 14 May 2025 07:34:03 -0700 (PDT) X-Relaying-Domain: iol.unh.edu Date: Wed, 14 May 2025 07:34:03 -0700 (PDT) Message-ID: <6824a9db.170a0220.1144d.ee5dSMTPIN_ADDED_MISSING@mx.google.com> Received: from [172.21.0.8] (unknown [172.18.0.240]) by postal.iol.unh.edu (Postfix) with ESMTP id 806A66052471; Wed, 14 May 2025 10:34:02 -0400 (EDT) Subject: |SUCCESS| pw153437 [PATCH] [v2] test/crypto: increment dequeue timeo From: dpdklab@iol.unh.edu To: Test Report Cc: dpdk-test-reports@iol.unh.edu In-Reply-To: <20250514092941.1558-1-gmuthukrishn@marvell.com> References: <20250514092941.1558-1-gmuthukrishn@marvell.com> Content-Type: text/plain X-BeenThere: test-report@dpdk.org X-Mailman-Version: 2.1.29 Precedence: list List-Id: automatic DPDK test reports List-Unsubscribe: , List-Archive: List-Post: List-Help: List-Subscribe: , Errors-To: test-report-bounces@dpdk.org Test-Label: iol-unit-amd64-testing Test-Status: SUCCESS http://dpdk.org/patch/153437 _Testing PASS_ Submitter: Gowrishankar Muthukrishnan Date: Wednesday, May 14 2025 09:29:38 DPDK git baseline: Repo:dpdk Branch: master CommitID:ca1690ebd224f148268285b15b97441ccdbdd07e 153437 --> testing pass Upstream job id: Generic-VM-Unit-Test-DPDK#28510 Test environment and result as below: +---------------------+----------------+ | Environment | dpdk_unit_test | +=====================+================+ | Fedora 40 (Clang) | PASS | +---------------------+----------------+ | Debian 12 | PASS | +---------------------+----------------+ | Fedora 40 | PASS | +---------------------+----------------+ | CentOS Stream 9 | PASS | +---------------------+----------------+ | CentOS Stream 10 | PASS | +---------------------+----------------+ | Fedora 41 | PASS | +---------------------+----------------+ | Fedora 41 (Clang) | PASS | +---------------------+----------------+ | RHEL9 | PASS | +---------------------+----------------+ | Ubuntu 20.04 | PASS | +---------------------+----------------+ | Ubuntu 22.04 | PASS | +---------------------+----------------+ | Ubuntu 24.04 | PASS | +---------------------+----------------+ | RHEL8 | PASS | +---------------------+----------------+ | Windows Server 2022 | PASS | +---------------------+----------------+ Fedora 40 (Clang) Kernel: Depends on container host Compiler: clang 18.1.8 (Fedora 18.1.8-1.fc40) Debian 12 Kernel: Depends on container host Compiler: gcc (Debian 12.2.0-14) 12.2.0 Fedora 40 Kernel: Depends on container host Compiler: gcc 14.2.1 20240912 (Red Hat 14.2.1-3) CentOS Stream 9 Kernel: Depends on container host Compiler: gcc 11.5.0 20240719 (Red Hat 11.5.0-2) CentOS Stream 10 Kernel: Depends on container host Compiler: gcc 14.2.1 20241104 (Red Hat 14.2.1-6) Fedora 41 Kernel: Depends on container host Compiler: gcc 14.2.1 20240912 (Red Hat 14.2.1-3) Fedora 41 (Clang) Kernel: Depends on container host Compiler: clang 19.1.5 (Fedora 19.1.5-1.fc41) RHEL9 Kernel: Depends on container host Compiler: gcc 11.5.0 20240719 (Red Hat 11.5.0-2) Ubuntu 20.04 Kernel: Depends on container host Compiler: gcc (Ubuntu 9.4.0-1ubuntu1~20.04.2) 9.4.0 Ubuntu 22.04 Kernel: Depends on container host Compiler: gcc (Ubuntu 11.4.0-1ubuntu1~22.04) 11.4.0 Ubuntu 24.04 Kernel: Depends on container host Compiler: gcc (Ubuntu 13.3.0-6ubuntu2~24.04) 13.3.0 RHEL8 Kernel: Depends on container host Compiler: gcc 8.5.0 20210514 (Red Hat 8.5.0-22) Windows Server 2022 Kernel: 10.0.20348.2031 Compiler: clang 15.0.7, gcc 14.1.0 (MinGW), and MSVC VS 19.39.33521 To view detailed results, visit: https://lab.dpdk.org/results/dashboard/patchsets/33169/ UNH-IOL DPDK Community Lab To manage your email subscriptions, visit: https://lab.dpdk.org/results/dashboard/preferences/subscriptions/