From mboxrd@z Thu Jan 1 00:00:00 1970 Return-Path: Received: from mails.dpdk.org (mails.dpdk.org [217.70.189.124]) by inbox.dpdk.org (Postfix) with ESMTP id F03C646746 for ; Wed, 14 May 2025 17:08:28 +0200 (CEST) Received: from mails.dpdk.org (localhost [127.0.0.1]) by mails.dpdk.org (Postfix) with ESMTP id CCD57402DC; Wed, 14 May 2025 17:08:28 +0200 (CEST) Received: from mail-qk1-f227.google.com (mail-qk1-f227.google.com [209.85.222.227]) by mails.dpdk.org (Postfix) with ESMTP id 5077A402C8 for ; Wed, 14 May 2025 17:08:27 +0200 (CEST) Received: by mail-qk1-f227.google.com with SMTP id af79cd13be357-7cad6a4fae4so1164237285a.2 for ; Wed, 14 May 2025 08:08:27 -0700 (PDT) DKIM-Signature: v=1; a=rsa-sha256; c=relaxed/relaxed; d=iol.unh.edu; s=unh-iol; t=1747235306; x=1747840106; darn=dpdk.org; h=references:in-reply-to:cc:to:from:subject:message-id:date:from:to :cc:subject:date:message-id:reply-to; bh=4HWcg34kaZHyIej7SqPhWz6//szi8fYV+p6NkqOeI3c=; b=MgoiLTqSLEaQF/tpCKio2Cx7zzhhLsCbgkf6biCUqv2096LB4YQAZD+YviryZyhlRf Qr+yAIx0VYRn9ek1XnjgwSc50xnYZPEU0agw+aRI/F10jXf1oBgXR+QurL/x4Ens9y/u yWwmxj+oXzxZ4GnLIZzKp72FMRGRyfCK3MstE= X-Google-DKIM-Signature: v=1; a=rsa-sha256; c=relaxed/relaxed; d=1e100.net; s=20230601; t=1747235306; x=1747840106; h=references:in-reply-to:cc:to:from:subject:message-id:date :x-gm-message-state:from:to:cc:subject:date:message-id:reply-to; bh=4HWcg34kaZHyIej7SqPhWz6//szi8fYV+p6NkqOeI3c=; b=F2PT5D7/H/8ENTkDECv3yPww6NbZ15bPCUPuFirgd+y9F3LNH3tVh9TrF1vKBZxc5O J1OFA7yYKg5akandea/LZlf0NYDDnWrf/+tu3z0YaAQBFAlEvVvrGfPTGM7rq4/sOVFy gyOVpwfuptaysUwAS4X9z0CXVZIHvWZ5jkKB6OjHPKkoMXNTjzeCZG4eO0EtHKMa49/I sJyPiuPud4nYJxk5VdFDb1vpPTK4SBkzTxhBGOEwliaumXxAbpBaKF0wgi5TfkTfKbb0 nbgqM6/ouhb59eJFu5nypdxxo/DtVT5En94vLDMkB8w7ziDbq6Mi5AWOy65axOu7mjLP bsUQ== X-Gm-Message-State: AOJu0YyBSWxEdkOCVhS9tOFCyQDWlNzkNZ8nLKSxORpn61pUj6yNj3FE q3ltihpQJ3XqRefWQAKj/BwBOHPA/YSv2KCUo/7zJvIIM0qnrkgRpjAgvAB5VtyK2OHYroPnkap 3fQs8KoY1Q2ikJWvdzfXwHis5y50w1V5gRUIaFpsZ X-Gm-Gg: ASbGncsArWh+vyeWYZ8EeLX9eTVjVXlerZz/CnW3WcNF8533cxJC5R5FH8kRuPzKPRQ +pOxDnwP79RZgWI0ZFn3vkF8uv5fhQQ+inDB9egv6EWWccZT5Shx7KazMe/H5ydnCDFsgY1WO7L +0AvV8erKAeIWvQ2WbsSt1dToup/XtYbT/YKMr6KlFhC/vn5GV8dACEO1Q807hjs9fqaQLmAckE fj9ZsChOzYLeJ/jF00VCFc4PEUAfTaKn9QGZKGsN3qHXilgrS5VpBZD72ph9BD/fAuu0JGaqdez kVIRHkGxvi6x9NoW0MwB9WBqV/lKCHY0ohkH3VQlNKWyjYWtyRgeiHu4OLY= X-Google-Smtp-Source: AGHT+IGX4rDVofaZpMxmaWyuqnWb2DM/yzZdya4o/nKqFKI/2xFeLlCAthRqN8GVK9t2HcftKktel+dM9HXV X-Received: by 2002:ad4:5aa5:0:b0:6e8:fa72:be4c with SMTP id 6a1803df08f44-6f896e168c8mr53626386d6.1.1747235306535; Wed, 14 May 2025 08:08:26 -0700 (PDT) Received: from postal.iol.unh.edu (postal.iol.unh.edu. [132.177.123.84]) by smtp-relay.gmail.com with ESMTPS id 6a1803df08f44-6f6e39e8512sm6739516d6.10.2025.05.14.08.08.26 (version=TLS1_2 cipher=ECDHE-ECDSA-AES128-GCM-SHA256 bits=128/128); Wed, 14 May 2025 08:08:26 -0700 (PDT) X-Relaying-Domain: iol.unh.edu Date: Wed, 14 May 2025 08:08:26 -0700 (PDT) Message-ID: <6824b1ea.050a0220.334ac3.3be0SMTPIN_ADDED_MISSING@mx.google.com> Received: from [172.17.0.3] (unknown [172.18.0.74]) by postal.iol.unh.edu (Postfix) with ESMTP id 3E9BB6052471; Wed, 14 May 2025 11:08:26 -0400 (EDT) Subject: |SUCCESS| pw153435 [PATCH] [v2] net/mlx5: fix the maximal queue size From: dpdklab@iol.unh.edu To: Test Report Cc: dpdk-test-reports@iol.unh.edu In-Reply-To: <20250514075530.419423-1-viacheslavo@nvidia.com> References: <20250514075530.419423-1-viacheslavo@nvidia.com> Content-Type: text/plain X-BeenThere: test-report@dpdk.org X-Mailman-Version: 2.1.29 Precedence: list List-Id: automatic DPDK test reports List-Unsubscribe: , List-Archive: List-Post: List-Help: List-Subscribe: , Errors-To: test-report-bounces@dpdk.org Test-Label: iol-abi-testing Test-Status: SUCCESS http://dpdk.org/patch/153435 _Testing PASS_ Submitter: Viacheslav Ovsiienko Date: Wednesday, May 14 2025 07:55:30 DPDK git baseline: Repo:dpdk Branch: master CommitID:5c6ce0ca8f8683d0ebc2943c31256265c7c8b5e7 153435 --> testing pass Upstream job id: Generic-DPDK-Compile-ABI#126347 Test environment and result as below: +-------------------+----------+ | Environment | abi_test | +===================+==========+ | RHEL8 | PASS | +-------------------+----------+ | CentOS Stream 10 | PASS | +-------------------+----------+ | Debian 12 | PASS | +-------------------+----------+ | Fedora 41 | PASS | +-------------------+----------+ | Fedora 40 (Clang) | PASS | +-------------------+----------+ | Fedora 40 | PASS | +-------------------+----------+ | RHEL9 | PASS | +-------------------+----------+ | openSUSE Leap 15 | PASS | +-------------------+----------+ | Ubuntu 22.04 | PASS | +-------------------+----------+ | Ubuntu 24.04 | PASS | +-------------------+----------+ RHEL8 Kernel: Depends on container host Compiler: gcc 8.5.0 20210514 (Red Hat 8.5.0-22) CentOS Stream 10 Kernel: Depends on container host Compiler: gcc 14.2.1 20241104 (Red Hat 14.2.1-6) Debian 12 Kernel: Depends on container host Compiler: gcc (Debian 12.2.0-14) 12.2.0 Fedora 41 Kernel: Depends on container host Compiler: gcc 14.2.1 20240912 (Red Hat 14.2.1-3) Fedora 40 (Clang) Kernel: Depends on container host Compiler: clang 18.1.8 (Fedora 18.1.8-1.fc40) Fedora 40 Kernel: Depends on container host Compiler: gcc 14.2.1 20240912 (Red Hat 14.2.1-3) RHEL9 Kernel: Depends on container host Compiler: gcc 11.5.0 20240719 (Red Hat 11.5.0-2) openSUSE Leap 15 Kernel: Depends on container host Compiler: gcc (SUSE Linux) 7.5.0 Ubuntu 22.04 Kernel: Depends on container host Compiler: gcc (Ubuntu 11.4.0-1ubuntu1~22.04) 11.4.0 Ubuntu 24.04 Kernel: Depends on container host Compiler: gcc (Ubuntu 13.3.0-6ubuntu2~24.04) 13.3.0 To view detailed results, visit: https://lab.dpdk.org/results/dashboard/patchsets/33167/ UNH-IOL DPDK Community Lab To manage your email subscriptions, visit: https://lab.dpdk.org/results/dashboard/preferences/subscriptions/