From mboxrd@z Thu Jan 1 00:00:00 1970 Return-Path: Received: from mails.dpdk.org (mails.dpdk.org [217.70.189.124]) by inbox.dpdk.org (Postfix) with ESMTP id 4E2DA46747 for ; Wed, 14 May 2025 17:12:49 +0200 (CEST) Received: from mails.dpdk.org (localhost [127.0.0.1]) by mails.dpdk.org (Postfix) with ESMTP id 474C4402DC; Wed, 14 May 2025 17:12:49 +0200 (CEST) Received: from mail-pf1-f228.google.com (mail-pf1-f228.google.com [209.85.210.228]) by mails.dpdk.org (Postfix) with ESMTP id 1BF72402C8 for ; Wed, 14 May 2025 17:12:48 +0200 (CEST) Received: by mail-pf1-f228.google.com with SMTP id d2e1a72fcca58-740b3a18e26so6145759b3a.2 for ; Wed, 14 May 2025 08:12:48 -0700 (PDT) DKIM-Signature: v=1; a=rsa-sha256; c=relaxed/relaxed; d=iol.unh.edu; s=unh-iol; t=1747235567; x=1747840367; darn=dpdk.org; h=references:in-reply-to:cc:to:from:subject:message-id:date:from:to :cc:subject:date:message-id:reply-to; bh=MI5z0gA70R61WIQ6RaHVZPpq+38d3WdiKwz4dMPJcaU=; b=Y3ZwNKzR9cw/XV+W/HCGtPnd37O+dw84wSO1nTm1smfcw9006ObzLS5KyOpbZH2VNc XeZ9nNF/eUf6hpy/HB9wTndqMx2Y0iSwh350Hwq5677JVncmzbkJtw1zHLbiDkVBZPk0 is+VqkAc44yJ/VV8qYDGQ6+MDQcT7ETctrse8= X-Google-DKIM-Signature: v=1; a=rsa-sha256; c=relaxed/relaxed; d=1e100.net; s=20230601; t=1747235567; x=1747840367; h=references:in-reply-to:cc:to:from:subject:message-id:date :x-gm-message-state:from:to:cc:subject:date:message-id:reply-to; bh=MI5z0gA70R61WIQ6RaHVZPpq+38d3WdiKwz4dMPJcaU=; b=vmWsvrwlacgb8bO+k6aELdFIJ/J2d3dlJMExjo+3OTD01kN8XLmwznecYX09P5gKj1 VMo09o0YDXrT/lPRFWwRtTriyrVvfVAyhHgDofQhJ9Ox4wTaJpnqbxq5OUwWwiWQN/yk qhL/Ptlzlvu0plj+LbHSXe/GhqDgDIhVp8ziwNjojmlr09kV39hqyT5Ze2P6y/KPpWqM UyxYll5wlBthdjB76HTQFxW4/pjE8Y9c3autpx35+khGHQw2THOE0WwJAtzEtKEVgA/Y +0YO9LdYT+JXS0LMf4HHOrnQI3t1ERyvlFMzE1d2ifq0r/cFtGN6hvB5bYBKLU5WPIaW 5B8w== X-Gm-Message-State: AOJu0YwTudTUfJinC2+KbRAmasl27wd0fNrblfmx3zhg/84VzVTUTGjs XAhTzPYVwDFlfwf4T/97QISFU1+1Sv0GLj19k3bU+SLtNggotvB1wW9Wu2VruQuSc2PTc62G5sw 8RonLZkl2etZuC5bezikLu96M7/2nXFrTz/8EYUAGMJj/lTBuD0SnCfvg X-Gm-Gg: ASbGncttcTiITG6AHGoqpm+LiqeyuUUedrOoJla0cynsjZzV9NlYDELH+aRsymZGwRS f2NlvEkmLMvkO7Z5rXswNqNqdKCDBP00/PKYP3ZeVMvPK9KSLAXjsCmOTgoibPy0U8mJDoQv1Sh AcZEmC4FMCv5TkCUAGgbVYeLu6LX2YFkYjVW+kmC2JMHRB/xV49RpzjAHPndqzruR9p6vNVZgrI OBRNNQ4bSfJ2zpFdLUsriIJTZaewNYPhD3g2ea6p9GEC9Gr85Y6MUEJyxPNK8hjbnjO7jy0tdrO pl8i0X2/WyCu/Pq9QKrU7DWO1weeiROJD8iU X-Google-Smtp-Source: AGHT+IE9cpcpO3yXf2X23Z6Tknht9rCM5+XhzLS1ZSN8m93unMsoB90GlqR68o2Ju2XJKNNT/H1kYGoDBKiG X-Received: by 2002:a05:6a00:22c7:b0:740:9abe:4d94 with SMTP id d2e1a72fcca58-74289373385mr5758615b3a.21.1747235567140; Wed, 14 May 2025 08:12:47 -0700 (PDT) Received: from postal.iol.unh.edu (postal.iol.unh.edu. [2606:4100:3880:1234::84]) by smtp-relay.gmail.com with ESMTPS id d2e1a72fcca58-74237727a0dsm577339b3a.7.2025.05.14.08.12.47 (version=TLS1_2 cipher=ECDHE-ECDSA-AES128-GCM-SHA256 bits=128/128); Wed, 14 May 2025 08:12:47 -0700 (PDT) X-Relaying-Domain: iol.unh.edu Date: Wed, 14 May 2025 08:12:47 -0700 (PDT) Message-ID: <6824b2ef.050a0220.2afbd3.ed15SMTPIN_ADDED_MISSING@mx.google.com> Received: from [172.17.0.3] (unknown [172.18.0.74]) by postal.iol.unh.edu (Postfix) with ESMTP id 4E9376052471; Wed, 14 May 2025 11:12:46 -0400 (EDT) Subject: |SUCCESS| pw153436 [PATCH] crypto/qat: add caching of the asym confi From: dpdklab@iol.unh.edu To: Test Report Cc: dpdk-test-reports@iol.unh.edu In-Reply-To: <20250514080946.1633268-1-arkadiuszx.kusztal@intel.com> References: <20250514080946.1633268-1-arkadiuszx.kusztal@intel.com> Content-Type: text/plain X-BeenThere: test-report@dpdk.org X-Mailman-Version: 2.1.29 Precedence: list List-Id: automatic DPDK test reports List-Unsubscribe: , List-Archive: List-Post: List-Help: List-Subscribe: , Errors-To: test-report-bounces@dpdk.org Test-Label: iol-sample-apps-testing Test-Status: SUCCESS http://dpdk.org/patch/153436 _Testing PASS_ Submitter: Arkadiusz Kusztal Date: Wednesday, May 14 2025 08:09:46 DPDK git baseline: Repo:dpdk Branch: master CommitID:ca1690ebd224f148268285b15b97441ccdbdd07e 153436 --> testing pass Upstream job id: ACVP-FIPS-testing#9806 Test environment and result as below: +--------------------+----------------------+----------------------+ | Environment | compressdev_zlib_pmd | dpdk_fips_validation | +====================+======================+======================+ | Ubuntu 22.04 (ARM) | PASS | SKIPPED | +--------------------+----------------------+----------------------+ | Ubuntu 22.04 | PASS | SKIPPED | +--------------------+----------------------+----------------------+ | Ubuntu 20.04 | SKIPPED | PASS | +--------------------+----------------------+----------------------+ Ubuntu 22.04 (ARM) Kernel: 5.15.0-97-generic Compiler: gcc gcc (Ubuntu 11.4.0-1ubuntu1~22.04) 11.4.0 Ubuntu 22.04 Kernel: 5.15.0-100-generic Compiler: gcc gcc (Ubuntu 11.4.0-1ubuntu1~22.04) 11.4.0 Ubuntu 20.04 Kernel: Depends on container host Compiler: gcc (Ubuntu 9.4.0-1ubuntu1~20.04.2) 9.4.0 To view detailed results, visit: https://lab.dpdk.org/results/dashboard/patchsets/33168/ UNH-IOL DPDK Community Lab To manage your email subscriptions, visit: https://lab.dpdk.org/results/dashboard/preferences/subscriptions/