From mboxrd@z Thu Jan 1 00:00:00 1970 Return-Path: Received: from mails.dpdk.org (mails.dpdk.org [217.70.189.124]) by inbox.dpdk.org (Postfix) with ESMTP id BE2AF46747 for ; Wed, 14 May 2025 17:15:44 +0200 (CEST) Received: from mails.dpdk.org (localhost [127.0.0.1]) by mails.dpdk.org (Postfix) with ESMTP id 98445402DC; Wed, 14 May 2025 17:15:44 +0200 (CEST) Received: from mail-pf1-f226.google.com (mail-pf1-f226.google.com [209.85.210.226]) by mails.dpdk.org (Postfix) with ESMTP id 2DF98402C8 for ; Wed, 14 May 2025 17:15:44 +0200 (CEST) Received: by mail-pf1-f226.google.com with SMTP id d2e1a72fcca58-7426159273fso3605467b3a.3 for ; Wed, 14 May 2025 08:15:44 -0700 (PDT) DKIM-Signature: v=1; a=rsa-sha256; c=relaxed/relaxed; d=iol.unh.edu; s=unh-iol; t=1747235743; x=1747840543; darn=dpdk.org; h=references:in-reply-to:cc:to:from:subject:message-id:date:from:to :cc:subject:date:message-id:reply-to; bh=7rVAP0Yci5X9rJMcXAUsM8rgZPwaI17KTN4GmsWzyDU=; b=DWxV7iHve9dzB9uCFLfMHLg1CKvcYprhGjGTbIyba1VmortdgZ5v5ReTeSeJpTh/bF ECHADPok/ZUwew9QctumGEd8ldxbimS8iuEvD0IExFQsmzjn5JEcTL1RYcHlTAli/ar0 ARZGDixmKdjtIPnd/GR+8t/g/Pwa1R80s7oak= X-Google-DKIM-Signature: v=1; a=rsa-sha256; c=relaxed/relaxed; d=1e100.net; s=20230601; t=1747235743; x=1747840543; h=references:in-reply-to:cc:to:from:subject:message-id:date :x-gm-message-state:from:to:cc:subject:date:message-id:reply-to; bh=7rVAP0Yci5X9rJMcXAUsM8rgZPwaI17KTN4GmsWzyDU=; b=LEB17lKDwUhr018ckoW51R4Br29Y7IBs4nGWkEgyPipqr6nW31VZ69Vf++aS7zmqBl e2Q/rA37qyHSWNOFgJCAXfte3FFxuU2IxJe9wxxlVcBSziDe6gydkljmMJMOWdXBwKI4 pfNF0x3R7WfMIrcSRTF0yHiqNqj2lBRMaSExazZq3vYZ+NWanSjrC923q+rbMJDWPr7Z 24n+OSyXNlYVT8ZZW1Q4WDwT8zZZ2p2xXJivA3e1OZEtOAK0gYE+Mf09kU3Ot3+KDqYu uOMJrFRIAY8TflfZ+vAnZ59sU/Km7cRHS3AUnSEPI+W9S8xINOS9k+JCVPkD80hoV7D8 NnnQ== X-Gm-Message-State: AOJu0YzaekY8ZWaiN/O6fMFB4BXPCQ1c1RlJJve3fHIhZT50iUyMq0BZ fBO806zyXX6g9nlSFzRVUT01VX57oHFmLcRkWJGzUgJmyzBjKrEssUynZR+xraoQBOEE+nr+6Ch dDdSLvibQK4OZzPNaiV8ENgZiuWI6zza3JrhOK09zm/tUrr4T1jPZeuUW X-Gm-Gg: ASbGncubAJTS/baDe6audr7ef0obUrgRDSNJKva3PWj1uAFXb5MILvy6I5i4eDbyOQt 6ANVXl5Hch2W3mv9+szcEW+6ZbZMrQ6fxe+HUpko9q0vHLaVNqJ4X8nlS77Hm1BFGk5PSU1J0j8 ktrKvFBcDohiHPBdrzfw+rhubo4QN1JaBgZqoDr40ecE1LUCsNVDZeQLa+GhE+bOs3jQ4ohhd/U w0zHcXTnyhmPmRA68zguFARAD6i4ZKZMBTAXCdAXZChP6fXTAObBt8L0sTyydDKCbh2fb7nkxbY tBpRAdwh4GiopX3jJ/n2obtNggCfSfVpSyEe X-Google-Smtp-Source: AGHT+IHLJgoJoddL5gg7/F7mkblq9bog/TcT1Tz0/BPzfXg5z7b1xdfLI/gb2xxgFcObLyPo9gZDBPjme740 X-Received: by 2002:a05:6a00:3cc4:b0:736:ff65:3fcc with SMTP id d2e1a72fcca58-74289345e4bmr5253012b3a.16.1747235743199; Wed, 14 May 2025 08:15:43 -0700 (PDT) Received: from postal.iol.unh.edu (postal.iol.unh.edu. [2606:4100:3880:1234::84]) by smtp-relay.gmail.com with ESMTPS id d2e1a72fcca58-742377279ecsm669146b3a.10.2025.05.14.08.15.43 (version=TLS1_2 cipher=ECDHE-ECDSA-AES128-GCM-SHA256 bits=128/128); Wed, 14 May 2025 08:15:43 -0700 (PDT) X-Relaying-Domain: iol.unh.edu Date: Wed, 14 May 2025 08:15:43 -0700 (PDT) Message-ID: <6824b39f.050a0220.e1c61.46cdSMTPIN_ADDED_MISSING@mx.google.com> Received: from [172.21.0.7] (unknown [172.18.0.240]) by postal.iol.unh.edu (Postfix) with ESMTP id 63E876052471; Wed, 14 May 2025 11:15:42 -0400 (EDT) Subject: |SUCCESS| pw153435 [PATCH] [v2] net/mlx5: fix the maximal queue size From: dpdklab@iol.unh.edu To: Test Report Cc: dpdk-test-reports@iol.unh.edu In-Reply-To: <20250514075530.419423-1-viacheslavo@nvidia.com> References: <20250514075530.419423-1-viacheslavo@nvidia.com> Content-Type: text/plain X-BeenThere: test-report@dpdk.org X-Mailman-Version: 2.1.29 Precedence: list List-Id: automatic DPDK test reports List-Unsubscribe: , List-Archive: List-Post: List-Help: List-Subscribe: , Errors-To: test-report-bounces@dpdk.org Test-Label: iol-unit-amd64-testing Test-Status: SUCCESS http://dpdk.org/patch/153435 _Testing PASS_ Submitter: Viacheslav Ovsiienko Date: Wednesday, May 14 2025 07:55:30 DPDK git baseline: Repo:dpdk Branch: master CommitID:5c6ce0ca8f8683d0ebc2943c31256265c7c8b5e7 153435 --> testing pass Upstream job id: Generic-Unit-Test-DPDK#337722 Test environment and result as below: +-------------------+----------------+ | Environment | dpdk_unit_test | +===================+================+ | CentOS Stream 9 | PASS | +-------------------+----------------+ | CentOS Stream 10 | PASS | +-------------------+----------------+ | Debian 12 | PASS | +-------------------+----------------+ | Fedora 40 (Clang) | PASS | +-------------------+----------------+ | Fedora 40 | PASS | +-------------------+----------------+ | Fedora 41 | PASS | +-------------------+----------------+ | Fedora 41 (Clang) | PASS | +-------------------+----------------+ | Ubuntu 20.04 | PASS | +-------------------+----------------+ | RHEL9 | PASS | +-------------------+----------------+ | RHEL8 | PASS | +-------------------+----------------+ | Ubuntu 24.04 | PASS | +-------------------+----------------+ | Ubuntu 22.04 | PASS | +-------------------+----------------+ CentOS Stream 9 Kernel: Depends on container host Compiler: gcc 11.5.0 20240719 (Red Hat 11.5.0-2) CentOS Stream 10 Kernel: Depends on container host Compiler: gcc 14.2.1 20241104 (Red Hat 14.2.1-6) Debian 12 Kernel: Depends on container host Compiler: gcc (Debian 12.2.0-14) 12.2.0 Fedora 40 (Clang) Kernel: Depends on container host Compiler: clang 18.1.8 (Fedora 18.1.8-1.fc40) Fedora 40 Kernel: Depends on container host Compiler: gcc 14.2.1 20240912 (Red Hat 14.2.1-3) Fedora 41 Kernel: Depends on container host Compiler: gcc 14.2.1 20240912 (Red Hat 14.2.1-3) Fedora 41 (Clang) Kernel: Depends on container host Compiler: clang 19.1.5 (Fedora 19.1.5-1.fc41) Ubuntu 20.04 Kernel: Depends on container host Compiler: gcc (Ubuntu 9.4.0-1ubuntu1~20.04.2) 9.4.0 RHEL9 Kernel: Depends on container host Compiler: gcc 11.5.0 20240719 (Red Hat 11.5.0-2) RHEL8 Kernel: Depends on container host Compiler: gcc 8.5.0 20210514 (Red Hat 8.5.0-22) Ubuntu 24.04 Kernel: Depends on container host Compiler: gcc (Ubuntu 13.3.0-6ubuntu2~24.04) 13.3.0 Ubuntu 22.04 Kernel: Depends on container host Compiler: gcc (Ubuntu 11.4.0-1ubuntu1~22.04) 11.4.0 To view detailed results, visit: https://lab.dpdk.org/results/dashboard/patchsets/33167/ UNH-IOL DPDK Community Lab To manage your email subscriptions, visit: https://lab.dpdk.org/results/dashboard/preferences/subscriptions/