From mboxrd@z Thu Jan 1 00:00:00 1970 Return-Path: Received: from mails.dpdk.org (mails.dpdk.org [217.70.189.124]) by inbox.dpdk.org (Postfix) with ESMTP id B3E2946747 for ; Wed, 14 May 2025 17:15:56 +0200 (CEST) Received: from mails.dpdk.org (localhost [127.0.0.1]) by mails.dpdk.org (Postfix) with ESMTP id AEFE6402DC; Wed, 14 May 2025 17:15:56 +0200 (CEST) Received: from mail-io1-f98.google.com (mail-io1-f98.google.com [209.85.166.98]) by mails.dpdk.org (Postfix) with ESMTP id 8158C402C8 for ; Wed, 14 May 2025 17:15:55 +0200 (CEST) Received: by mail-io1-f98.google.com with SMTP id ca18e2360f4ac-85b3f92c8f8so758984539f.1 for ; Wed, 14 May 2025 08:15:55 -0700 (PDT) DKIM-Signature: v=1; a=rsa-sha256; c=relaxed/relaxed; d=iol.unh.edu; s=unh-iol; t=1747235755; x=1747840555; darn=dpdk.org; h=references:in-reply-to:cc:to:from:subject:message-id:date:from:to :cc:subject:date:message-id:reply-to; bh=hZAjG4DpQqIi7dQucEuRtXjAYNdCuU6DCIg7rZzATPA=; b=Ww2xpNM8svgTqsEUakDTQm2gKJLgNhofxt9fWydTkXlv/SyOsIIBxBhy2JpRQwy4yy jkASXQq5V9pFc9l0PZ+0nxAy5kzjunYvBM7dInmACymQM8+sfESbVwja/InLZlg426ee jnrkHB6A8lZUE2u8bLrXno5RLvS8UoOc3AWPQ= X-Google-DKIM-Signature: v=1; a=rsa-sha256; c=relaxed/relaxed; d=1e100.net; s=20230601; t=1747235755; x=1747840555; h=references:in-reply-to:cc:to:from:subject:message-id:date :x-gm-message-state:from:to:cc:subject:date:message-id:reply-to; bh=hZAjG4DpQqIi7dQucEuRtXjAYNdCuU6DCIg7rZzATPA=; b=BVWlrAVfY7T1RcQ0tMTll9/Sv5dmSByOqE7KQnTzjYxB7D6Nt7XjNguII61Xxj/HAS K60rQHHplPCxrpjYGNZtbFkEq6cgaYw2Ylg2m5eziBUZclECrFoL064uI3qdmiCIyAID FJYF9Q6kUdl8LiSThutURQ00SNlPXk4ZWqto3BV/I2xOp2oPpBMvkT74zJIpoSzP17/n gV3Tp/iHz9dsa9xWfgwfkNLcnGKxoGTrvIfChm7oytKymf54i3WWSstqd/PA4DBaDJd+ UHm3BQ8s/aJG0b6MvVn8UwvzAdffOYBUiy0xUUElEUsFneG6G0zT7VL6yGp0Ci/gBKLF bt0w== X-Gm-Message-State: AOJu0Yz8T+E+Z82hhdGWJBL/ZccLGppobM7fTQPaJ/4m+gzxUaRshVUV 4Qi0h5OhshrGHgBuPm9tH1orL0dqWPpwqQoZ0DMzs7Qe8LqXNdWtU8jgAZNJbSvuZD3CFTmsyaN iP1UX5I8qC0QQwF7ZsMX9vgSDjOhd9cWWT0qZZOvI X-Gm-Gg: ASbGncsuB7IarIabGayBLQCxsshHDcWYV37hn57DsEO1q6fpl01xDS7oKl69OJ9n7GL frVlA1bmcz/IfpZjZefeGZy/Qn9Qg4/LoI1fyK+6nB5k+6cmp7bKh3gGOuitsZhY4S0bTW4EjAu r508iI1Icje0OT2dQYVVQH17mu9UBG2WnF3HfDxJ2iS6A6gkSgtn2hJQMU0uQ9X81kI6ULlsEal 1y7qAZjzHaTB89ERX76IB/O86JMxFtfPVhV1o9Fg3ED462c7vGPuXGH7B4IlYs7wCPM3MmQSBkA Ycp+GLMKic6oPOBuQ5k/ynIZw2QNqz7sF4kVMNiLjmxXN/cV6/VB625m7XU= X-Google-Smtp-Source: AGHT+IFoi5+3pg3f4M0f4aBO59UP5ZAPELKiPc0r6ifjsvGPZ0u5eQtstfAgrt/g66/Gox4sL1oBI2vnS3IC X-Received: by 2002:a05:6602:36c8:b0:864:88f9:62f2 with SMTP id ca18e2360f4ac-86a08e3dcedmr431899639f.9.1747235754713; Wed, 14 May 2025 08:15:54 -0700 (PDT) Received: from postal.iol.unh.edu (postal.iol.unh.edu. [132.177.123.84]) by smtp-relay.gmail.com with ESMTPS id ca18e2360f4ac-86763620b3asm57575239f.3.2025.05.14.08.15.54 (version=TLS1_2 cipher=ECDHE-ECDSA-AES128-GCM-SHA256 bits=128/128); Wed, 14 May 2025 08:15:54 -0700 (PDT) X-Relaying-Domain: iol.unh.edu Date: Wed, 14 May 2025 08:15:54 -0700 (PDT) Message-ID: <6824b3aa.050a0220.1308bc.df7cSMTPIN_ADDED_MISSING@mx.google.com> Received: from [172.17.0.3] (unknown [172.18.0.74]) by postal.iol.unh.edu (Postfix) with ESMTP id 3B9306052471; Wed, 14 May 2025 11:15:54 -0400 (EDT) Subject: |SUCCESS| pw153436 [PATCH] crypto/qat: add caching of the asym confi From: dpdklab@iol.unh.edu To: Test Report Cc: dpdk-test-reports@iol.unh.edu In-Reply-To: <20250514080946.1633268-1-arkadiuszx.kusztal@intel.com> References: <20250514080946.1633268-1-arkadiuszx.kusztal@intel.com> Content-Type: text/plain X-BeenThere: test-report@dpdk.org X-Mailman-Version: 2.1.29 Precedence: list List-Id: automatic DPDK test reports List-Unsubscribe: , List-Archive: List-Post: List-Help: List-Subscribe: , Errors-To: test-report-bounces@dpdk.org Test-Label: iol-compile-amd64-testing Test-Status: SUCCESS http://dpdk.org/patch/153436 _Testing PASS_ Submitter: Arkadiusz Kusztal Date: Wednesday, May 14 2025 08:09:46 DPDK git baseline: Repo:dpdk Branch: master CommitID:ca1690ebd224f148268285b15b97441ccdbdd07e 153436 --> testing pass Upstream job id: Windows-Compile-DPDK-Native#28390 Test environment and result as below: +-----------------------------------+--------------------+-------------------+------------------+-------------------+-------------------------+ | Environment | dpdk_meson_compile | dpdk_compile_spdk | dpdk_compile_ovs | dpdk_msvc_compile | dpdk_llvm_clang_compile | +===================================+====================+===================+==================+===================+=========================+ | CentOS Stream 9 | PASS | PASS | SKIPPED | SKIPPED | SKIPPED | +-----------------------------------+--------------------+-------------------+------------------+-------------------+-------------------------+ | Fedora 40 (Clang) | PASS | PASS | SKIPPED | SKIPPED | SKIPPED | +-----------------------------------+--------------------+-------------------+------------------+-------------------+-------------------------+ | Debian 12 | PASS | PASS | SKIPPED | SKIPPED | SKIPPED | +-----------------------------------+--------------------+-------------------+------------------+-------------------+-------------------------+ | Fedora 40 | PASS | PASS | SKIPPED | SKIPPED | SKIPPED | +-----------------------------------+--------------------+-------------------+------------------+-------------------+-------------------------+ | Fedora 41 (Clang) | PASS | PASS | PASS | SKIPPED | SKIPPED | +-----------------------------------+--------------------+-------------------+------------------+-------------------+-------------------------+ | Fedora 41 | PASS | PASS | PASS | SKIPPED | SKIPPED | +-----------------------------------+--------------------+-------------------+------------------+-------------------+-------------------------+ | RHEL8 | PASS | SKIPPED | SKIPPED | SKIPPED | SKIPPED | +-----------------------------------+--------------------+-------------------+------------------+-------------------+-------------------------+ | openSUSE Leap 15 | PASS | SKIPPED | SKIPPED | SKIPPED | SKIPPED | +-----------------------------------+--------------------+-------------------+------------------+-------------------+-------------------------+ | RHEL9 | PASS | SKIPPED | SKIPPED | SKIPPED | SKIPPED | +-----------------------------------+--------------------+-------------------+------------------+-------------------+-------------------------+ | Ubuntu 20.04 | PASS | SKIPPED | SKIPPED | SKIPPED | SKIPPED | +-----------------------------------+--------------------+-------------------+------------------+-------------------+-------------------------+ | Ubuntu 24.04 | PASS | PASS | PASS | SKIPPED | SKIPPED | +-----------------------------------+--------------------+-------------------+------------------+-------------------+-------------------------+ | Ubuntu 22.04 | PASS | PASS | SKIPPED | SKIPPED | SKIPPED | +-----------------------------------+--------------------+-------------------+------------------+-------------------+-------------------------+ | FreeBSD 13.5 | PASS | SKIPPED | SKIPPED | SKIPPED | SKIPPED | +-----------------------------------+--------------------+-------------------+------------------+-------------------+-------------------------+ | Ubuntu 24.04 32 Bit Cross Compile | PASS | SKIPPED | SKIPPED | SKIPPED | SKIPPED | +-----------------------------------+--------------------+-------------------+------------------+-------------------+-------------------------+ | Alpine | PASS | SKIPPED | SKIPPED | SKIPPED | SKIPPED | +-----------------------------------+--------------------+-------------------+------------------+-------------------+-------------------------+ | FreeBSD 14.2 | PASS | SKIPPED | SKIPPED | SKIPPED | SKIPPED | +-----------------------------------+--------------------+-------------------+------------------+-------------------+-------------------------+ | CentOS Stream 10 | PASS | SKIPPED | SKIPPED | SKIPPED | SKIPPED | +-----------------------------------+--------------------+-------------------+------------------+-------------------+-------------------------+ | Windows Server 2022 | SKIPPED | SKIPPED | SKIPPED | PASS | PASS | +-----------------------------------+--------------------+-------------------+------------------+-------------------+-------------------------+ CentOS Stream 9 Kernel: Depends on container host Compiler: gcc 11.5.0 20240719 (Red Hat 11.5.0-2) Fedora 40 (Clang) Kernel: Depends on container host Compiler: clang 18.1.8 (Fedora 18.1.8-1.fc40) Debian 12 Kernel: Depends on container host Compiler: gcc (Debian 12.2.0-14) 12.2.0 Fedora 40 Kernel: Depends on container host Compiler: gcc 14.2.1 20240912 (Red Hat 14.2.1-3) Fedora 41 (Clang) Kernel: Depends on container host Compiler: clang 19.1.5 (Fedora 19.1.5-1.fc41) Fedora 41 Kernel: Depends on container host Compiler: gcc 14.2.1 20240912 (Red Hat 14.2.1-3) RHEL8 Kernel: Depends on container host Compiler: gcc 8.5.0 20210514 (Red Hat 8.5.0-22) openSUSE Leap 15 Kernel: Depends on container host Compiler: gcc (SUSE Linux) 7.5.0 RHEL9 Kernel: Depends on container host Compiler: gcc 11.5.0 20240719 (Red Hat 11.5.0-2) Ubuntu 20.04 Kernel: Depends on container host Compiler: gcc (Ubuntu 9.4.0-1ubuntu1~20.04.2) 9.4.0 Ubuntu 24.04 Kernel: Depends on container host Compiler: gcc (Ubuntu 13.3.0-6ubuntu2~24.04) 13.3.0 Ubuntu 22.04 Kernel: Depends on container host Compiler: gcc (Ubuntu 11.4.0-1ubuntu1~22.04) 11.4.0 FreeBSD 13.5 Kernel: 13.5-RELEASE Compiler: clang 19.1.7 Ubuntu 24.04 32 Bit Cross Compile Kernel: Depends on container host Compiler: gcc (Ubuntu 13.3.0-6ubuntu2~24.04) 13.3.0 Alpine Kernel: Depends on container host Compiler: gcc (Alpine 14.2.0) 14.2.0 FreeBSD 14.2 Kernel: 14.2-RELEASE Compiler: clang 18.1.6 CentOS Stream 10 Kernel: Depends on container host Compiler: gcc 14.2.1 20241104 (Red Hat 14.2.1-6) Windows Server 2022 Kernel: 10.0.20348.2031 Compiler: clang 15.0.7, gcc 14.1.0 (MinGW), and MSVC VS 19.39.33521 To view detailed results, visit: https://lab.dpdk.org/results/dashboard/patchsets/33168/ UNH-IOL DPDK Community Lab To manage your email subscriptions, visit: https://lab.dpdk.org/results/dashboard/preferences/subscriptions/