From mboxrd@z Thu Jan 1 00:00:00 1970 Return-Path: Received: from mails.dpdk.org (mails.dpdk.org [217.70.189.124]) by inbox.dpdk.org (Postfix) with ESMTP id 362BC46747 for ; Wed, 14 May 2025 17:38:52 +0200 (CEST) Received: from mails.dpdk.org (localhost [127.0.0.1]) by mails.dpdk.org (Postfix) with ESMTP id 314534068E; Wed, 14 May 2025 17:38:52 +0200 (CEST) Received: from mail-pl1-f227.google.com (mail-pl1-f227.google.com [209.85.214.227]) by mails.dpdk.org (Postfix) with ESMTP id 4872840684 for ; Wed, 14 May 2025 17:38:50 +0200 (CEST) Received: by mail-pl1-f227.google.com with SMTP id d9443c01a7336-22fac0694aaso53583705ad.1 for ; Wed, 14 May 2025 08:38:50 -0700 (PDT) DKIM-Signature: v=1; a=rsa-sha256; c=relaxed/relaxed; d=iol.unh.edu; s=unh-iol; t=1747237129; x=1747841929; darn=dpdk.org; h=references:in-reply-to:cc:to:from:subject:message-id:date:from:to :cc:subject:date:message-id:reply-to; bh=f6Uf1dN59QlpuFtvFMD5o54fRWcIgWsNscHXxKFInE4=; b=dL2LFJQEQCb0T3YVuOdiJKaUNEgYmal8AQxK2bGnKVRcyHdGD28kTXaVoh+3EvPxMn ObuHoktQ5oZHnfKvUapskme7pYxtVh3X8+I2NkGwGKwraNHSVk/dDjQmH/80VDcLZkwB ehje48VeowF2Cd16yJWWKH4PEJWEGr4qRgSX8= X-Google-DKIM-Signature: v=1; a=rsa-sha256; c=relaxed/relaxed; d=1e100.net; s=20230601; t=1747237129; x=1747841929; h=references:in-reply-to:cc:to:from:subject:message-id:date :x-gm-message-state:from:to:cc:subject:date:message-id:reply-to; bh=f6Uf1dN59QlpuFtvFMD5o54fRWcIgWsNscHXxKFInE4=; b=TbIb9AIUe+VhnPXTDug2GpQaFxtcd2cdFsFzUjXkXt6RTlkSlYtLuxDGffp3sduLD6 n15wKomX1SdX3p5+XCSFpa33vjuIlEweI32kpc2D+p/ORx5NfE/hsIrqE9Brj+WGQ1y5 fGEgtD0R8hShs87Q96apoW4eJB9XnKVKhM66EsprrawZHwQK/CyGZl4vg4hW9qYz+gPn WSyJPCs7bfRtzN6U/PEPIUdI27Z/nTHdtn0Uc57vM7kIMbPUQjSTZRFvGLgCqBSzxwiJ 7jGK/AaVzBda6gF/rEEhuywELMW+eTcMv4b9RDYyubz2SX5TVhUSvjNCKQbr36O0FzsD 6uqA== X-Gm-Message-State: AOJu0Yw0Q0M/fl+AdSP9vsy3D44cFJGlCFW0PBB4VxcEBtQjfFrakFWm tGUjIFBntNBfzXj0sHueARAdG5Mg5eo72rftWGAd7xt7gQ80vSnFcya3CgQ9ucL3FQT3C6enD07 HQoErzIRXPLDyIanyfgbnScgp+OhvwHoSHFTA+HWbd8cwPrxQzinzs+HK X-Gm-Gg: ASbGncsrsH7NMIT+P4ptiDUYkKFJ7HWbSKUv0pUDk6dF10zQUmwcFy4ksCUBPTMdr/4 PNl7OPyQjNaTWcPrTcQsFQuCGap2bNJKuBoCR7GqHkFXqbE3A/EqtCqsmU8ahYQDUEWxqd74pff VhSsYVTS5IvBtUSIcANklyjwnxmJ09DKkw04hL+GGWpFl+vapDQkE+jaAVkDWj/6qfX5JPoGliZ G9TP5Q5gaDOVnpNhJh4d5psOfF8wlhl6xtMs/sg3Bb2JYa2zorgXkcb4A0ja/ow6HbQTfIRLm8U fZd3UiyDpTCEVUvepIys6uKvZfdIeidcM5M/ X-Google-Smtp-Source: AGHT+IHXrSjwRop6ezYnzrJwvYUEfKlcvBF2MbWo6F/SK6e/cs3xDR+ptGmrRa2ntoAUDUPY/nC+CW3S3W5k X-Received: by 2002:a17:903:228e:b0:22e:9f5:6f17 with SMTP id d9443c01a7336-23198124d0cmr55895085ad.13.1747237129521; Wed, 14 May 2025 08:38:49 -0700 (PDT) Received: from postal.iol.unh.edu (postal.iol.unh.edu. [2606:4100:3880:1234::84]) by smtp-relay.gmail.com with ESMTPS id d9443c01a7336-22fc6f30752sm6828445ad.125.2025.05.14.08.38.49 (version=TLS1_2 cipher=ECDHE-ECDSA-AES128-GCM-SHA256 bits=128/128); Wed, 14 May 2025 08:38:49 -0700 (PDT) X-Relaying-Domain: iol.unh.edu Date: Wed, 14 May 2025 08:38:49 -0700 (PDT) Message-ID: <6824b909.170a0220.319ce4.48feSMTPIN_ADDED_MISSING@mx.google.com> Received: from [172.21.0.6] (unknown [172.18.0.240]) by postal.iol.unh.edu (Postfix) with ESMTP id B759B6052471; Wed, 14 May 2025 11:38:48 -0400 (EDT) Subject: |SUCCESS| pw153435 [PATCH] [v2] net/mlx5: fix the maximal queue size From: dpdklab@iol.unh.edu To: Test Report Cc: dpdk-test-reports@iol.unh.edu In-Reply-To: <20250514075530.419423-1-viacheslavo@nvidia.com> References: <20250514075530.419423-1-viacheslavo@nvidia.com> Content-Type: text/plain X-BeenThere: test-report@dpdk.org X-Mailman-Version: 2.1.29 Precedence: list List-Id: automatic DPDK test reports List-Unsubscribe: , List-Archive: List-Post: List-Help: List-Subscribe: , Errors-To: test-report-bounces@dpdk.org Test-Label: iol-compile-amd64-testing Test-Status: SUCCESS http://dpdk.org/patch/153435 _Testing PASS_ Submitter: Viacheslav Ovsiienko Date: Wednesday, May 14 2025 07:55:30 DPDK git baseline: Repo:dpdk Branch: master CommitID:5c6ce0ca8f8683d0ebc2943c31256265c7c8b5e7 153435 --> testing pass Upstream job id: Generic-DPDK-Compile-Meson#387902 Test environment and result as below: +-----------------------------------+--------------------+-------------------+------------------+-------------------+ | Environment | dpdk_meson_compile | dpdk_compile_spdk | dpdk_compile_ovs | dpdk_msvc_compile | +===================================+====================+===================+==================+===================+ | CentOS Stream 9 | PASS | PASS | SKIPPED | SKIPPED | +-----------------------------------+--------------------+-------------------+------------------+-------------------+ | CentOS Stream 10 | PASS | SKIPPED | SKIPPED | SKIPPED | +-----------------------------------+--------------------+-------------------+------------------+-------------------+ | Fedora 40 (Clang) | PASS | PASS | SKIPPED | SKIPPED | +-----------------------------------+--------------------+-------------------+------------------+-------------------+ | Debian 12 | PASS | PASS | SKIPPED | SKIPPED | +-----------------------------------+--------------------+-------------------+------------------+-------------------+ | Fedora 40 | PASS | PASS | SKIPPED | SKIPPED | +-----------------------------------+--------------------+-------------------+------------------+-------------------+ | Fedora 41 (Clang) | PASS | PASS | PASS | SKIPPED | +-----------------------------------+--------------------+-------------------+------------------+-------------------+ | openSUSE Leap 15 | PASS | SKIPPED | SKIPPED | SKIPPED | +-----------------------------------+--------------------+-------------------+------------------+-------------------+ | Fedora 41 | PASS | PASS | PASS | SKIPPED | +-----------------------------------+--------------------+-------------------+------------------+-------------------+ | RHEL8 | PASS | SKIPPED | SKIPPED | SKIPPED | +-----------------------------------+--------------------+-------------------+------------------+-------------------+ | Ubuntu 20.04 | PASS | SKIPPED | SKIPPED | SKIPPED | +-----------------------------------+--------------------+-------------------+------------------+-------------------+ | Ubuntu 24.04 | PASS | PASS | PASS | SKIPPED | +-----------------------------------+--------------------+-------------------+------------------+-------------------+ | Ubuntu 22.04 | PASS | PASS | SKIPPED | SKIPPED | +-----------------------------------+--------------------+-------------------+------------------+-------------------+ | Alpine | PASS | SKIPPED | SKIPPED | SKIPPED | +-----------------------------------+--------------------+-------------------+------------------+-------------------+ | Ubuntu 24.04 32 Bit Cross Compile | PASS | SKIPPED | SKIPPED | SKIPPED | +-----------------------------------+--------------------+-------------------+------------------+-------------------+ | FreeBSD 13.5 | PASS | SKIPPED | SKIPPED | SKIPPED | +-----------------------------------+--------------------+-------------------+------------------+-------------------+ | FreeBSD 14.2 | PASS | SKIPPED | SKIPPED | SKIPPED | +-----------------------------------+--------------------+-------------------+------------------+-------------------+ | RHEL9 | PASS | SKIPPED | SKIPPED | SKIPPED | +-----------------------------------+--------------------+-------------------+------------------+-------------------+ | Windows Server 2022 | SKIPPED | SKIPPED | SKIPPED | PASS | +-----------------------------------+--------------------+-------------------+------------------+-------------------+ CentOS Stream 9 Kernel: Depends on container host Compiler: gcc 11.5.0 20240719 (Red Hat 11.5.0-2) CentOS Stream 10 Kernel: Depends on container host Compiler: gcc 14.2.1 20241104 (Red Hat 14.2.1-6) Fedora 40 (Clang) Kernel: Depends on container host Compiler: clang 18.1.8 (Fedora 18.1.8-1.fc40) Debian 12 Kernel: Depends on container host Compiler: gcc (Debian 12.2.0-14) 12.2.0 Fedora 40 Kernel: Depends on container host Compiler: gcc 14.2.1 20240912 (Red Hat 14.2.1-3) Fedora 41 (Clang) Kernel: Depends on container host Compiler: clang 19.1.5 (Fedora 19.1.5-1.fc41) openSUSE Leap 15 Kernel: Depends on container host Compiler: gcc (SUSE Linux) 7.5.0 Fedora 41 Kernel: Depends on container host Compiler: gcc 14.2.1 20240912 (Red Hat 14.2.1-3) RHEL8 Kernel: Depends on container host Compiler: gcc 8.5.0 20210514 (Red Hat 8.5.0-22) Ubuntu 20.04 Kernel: Depends on container host Compiler: gcc (Ubuntu 9.4.0-1ubuntu1~20.04.2) 9.4.0 Ubuntu 24.04 Kernel: Depends on container host Compiler: gcc (Ubuntu 13.3.0-6ubuntu2~24.04) 13.3.0 Ubuntu 22.04 Kernel: Depends on container host Compiler: gcc (Ubuntu 11.4.0-1ubuntu1~22.04) 11.4.0 Alpine Kernel: Depends on container host Compiler: gcc (Alpine 14.2.0) 14.2.0 Ubuntu 24.04 32 Bit Cross Compile Kernel: Depends on container host Compiler: gcc (Ubuntu 13.3.0-6ubuntu2~24.04) 13.3.0 FreeBSD 13.5 Kernel: 13.5-RELEASE Compiler: clang 19.1.7 FreeBSD 14.2 Kernel: 14.2-RELEASE Compiler: clang 18.1.6 RHEL9 Kernel: Depends on container host Compiler: gcc 11.5.0 20240719 (Red Hat 11.5.0-2) Windows Server 2022 Kernel: 10.0.20348.2031 Compiler: clang 15.0.7, gcc 14.1.0 (MinGW), and MSVC VS 19.39.33521 To view detailed results, visit: https://lab.dpdk.org/results/dashboard/patchsets/33167/ UNH-IOL DPDK Community Lab To manage your email subscriptions, visit: https://lab.dpdk.org/results/dashboard/preferences/subscriptions/