From mboxrd@z Thu Jan 1 00:00:00 1970 Return-Path: Received: from mails.dpdk.org (mails.dpdk.org [217.70.189.124]) by inbox.dpdk.org (Postfix) with ESMTP id 721BE46747 for ; Wed, 14 May 2025 17:40:51 +0200 (CEST) Received: from mails.dpdk.org (localhost [127.0.0.1]) by mails.dpdk.org (Postfix) with ESMTP id 6C3C1402DC; Wed, 14 May 2025 17:40:51 +0200 (CEST) Received: from mail-yw1-f228.google.com (mail-yw1-f228.google.com [209.85.128.228]) by mails.dpdk.org (Postfix) with ESMTP id AB4F3402C8 for ; Wed, 14 May 2025 17:40:49 +0200 (CEST) Received: by mail-yw1-f228.google.com with SMTP id 00721157ae682-708a853c362so64461247b3.2 for ; Wed, 14 May 2025 08:40:49 -0700 (PDT) DKIM-Signature: v=1; a=rsa-sha256; c=relaxed/relaxed; d=iol.unh.edu; s=unh-iol; t=1747237249; x=1747842049; darn=dpdk.org; h=references:in-reply-to:cc:to:from:subject:message-id:date:from:to :cc:subject:date:message-id:reply-to; bh=InezzcFm8foEpl3j8o4789Yq9RHu3Zr8HU0aRkmW6bQ=; b=IsMNu8kXXckQea8iqte4WScQP8Ji1T0z7JY/IZi1TAWZj4QR5HdVJgrLo1iNQGumBc LErG1m+d1VoR7DvoujYs+uEdIy5bsIqm5ZKipdFC9ghOrE/WaaE6kNvbnM76HQnWqR8Q vE0073xlDiVWxAgdBaykXe0IZRDX1vGgWa1L8= X-Google-DKIM-Signature: v=1; a=rsa-sha256; c=relaxed/relaxed; d=1e100.net; s=20230601; t=1747237249; x=1747842049; h=references:in-reply-to:cc:to:from:subject:message-id:date :x-gm-message-state:from:to:cc:subject:date:message-id:reply-to; bh=InezzcFm8foEpl3j8o4789Yq9RHu3Zr8HU0aRkmW6bQ=; b=LsuOqlelXbgusa/rCdodRvLGCRJ0uaHcjYGKpt5SniQBvi09gnPp6HpmjFdCCaLDYV OcBwO/vicjFYPcd7+uIC3MCgj48MoxmK4g+NYxuuCGo+Vc0p1Ou6HfCbcuexBEmTVmmx FDgUirB4fyu08tiwVGqFNBMlk1D0qJaSxVRJd+cwEZexewcV99jgrzY2e01ZtAjJwCEi BsNkbCxXsNQFBHwzYsIjFIO5mqTsAaDQKssup2ufhzlyr+BpxaeDkt0V5gA90Ww9wj8a U1XxmF9COm6GLhJdrxukCP9SI7cv9GH0xV0T3D/lonlVLAsfJc0IFjseSgNOlZEhLigq on3Q== X-Gm-Message-State: AOJu0Yz8PHHJFqldHg84iwdffcvSfa4EA0MKXZL5wvu4ycl1opOKP45B fLbPUAI+E7XphgzXwS4c8KcHBLyLodBU7vHTKCFl/SwPfbhJw6GomnoL1QCTeVJ4WrLNPbu+EOP KO8BHeEvN8Z+qIpg06YtPMadFeuIaKp6aiWv+udj3 X-Gm-Gg: ASbGncvQIsE6nQRMNvu3Y2Kom5HvdU2mMJiA84fhjkqUco1slSCrhpxHPQawvjlhHLd cZk/htaAdLni7YHgKa2bGHIK/e86NpzUrF8N0Gwai6O6TN6honedOMxK0PEQGiHdqAMfxXxq1iv USF/avzothWSq7fM5luRt3W14PFCHbw/bx0gnpMEPvXBmE0Xw484RaO0FBqWBJ39mYaYY5Xd1/T yp2DwgtBgMBAWzv5NB/uiln3+zpHOASLO7CoRRXns/P6m2MSEOTXDAKHQj193kPo24GX2x54MqW nkUGFvvYqQmusznXW0p1SeJ1WT3SpytnSJxR7oLpy8cm+sut4kUlCkdrH3I= X-Google-Smtp-Source: AGHT+IHDdIK0OClb5GWSGgIMsxbIpDmWD2T7+frJAmE+qKqeJi8nckqwKL42T6FQoqhOY2RbElQygjll1P0s X-Received: by 2002:a05:690c:650e:b0:708:6a2c:1484 with SMTP id 00721157ae682-70c7f13e9f8mr53588547b3.17.1747237248731; Wed, 14 May 2025 08:40:48 -0700 (PDT) Received: from postal.iol.unh.edu (postal.iol.unh.edu. [132.177.123.84]) by smtp-relay.gmail.com with ESMTPS id 00721157ae682-70a3d75bba7sm4571177b3.19.2025.05.14.08.40.48 (version=TLS1_2 cipher=ECDHE-ECDSA-AES128-GCM-SHA256 bits=128/128); Wed, 14 May 2025 08:40:48 -0700 (PDT) X-Relaying-Domain: iol.unh.edu Date: Wed, 14 May 2025 08:40:48 -0700 (PDT) Message-ID: <6824b980.050a0220.30bbb6.819cSMTPIN_ADDED_MISSING@mx.google.com> Received: from [172.21.0.5] (unknown [172.18.0.240]) by postal.iol.unh.edu (Postfix) with ESMTP id 5D3876052471; Wed, 14 May 2025 11:40:48 -0400 (EDT) Subject: |SUCCESS| pw153435 [PATCH] [v2] net/mlx5: fix the maximal queue size From: dpdklab@iol.unh.edu To: Test Report Cc: dpdk-test-reports@iol.unh.edu In-Reply-To: <20250514075530.419423-1-viacheslavo@nvidia.com> References: <20250514075530.419423-1-viacheslavo@nvidia.com> Content-Type: text/plain X-BeenThere: test-report@dpdk.org X-Mailman-Version: 2.1.29 Precedence: list List-Id: automatic DPDK test reports List-Unsubscribe: , List-Archive: List-Post: List-Help: List-Subscribe: , Errors-To: test-report-bounces@dpdk.org Test-Label: iol-compile-amd64-testing Test-Status: SUCCESS http://dpdk.org/patch/153435 _Testing PASS_ Submitter: Viacheslav Ovsiienko Date: Wednesday, May 14 2025 07:55:30 DPDK git baseline: Repo:dpdk Branch: master CommitID:5c6ce0ca8f8683d0ebc2943c31256265c7c8b5e7 153435 --> testing pass Upstream job id: Generic-DPDK-Compile-Meson#387894 Test environment and result as below: +-----------------------------------+--------------------+-------------------+------------------+-------------------+ | Environment | dpdk_meson_compile | dpdk_compile_spdk | dpdk_compile_ovs | dpdk_msvc_compile | +===================================+====================+===================+==================+===================+ | CentOS Stream 9 | PASS | PASS | SKIPPED | SKIPPED | +-----------------------------------+--------------------+-------------------+------------------+-------------------+ | CentOS Stream 10 | PASS | SKIPPED | SKIPPED | SKIPPED | +-----------------------------------+--------------------+-------------------+------------------+-------------------+ | Fedora 40 (Clang) | PASS | PASS | SKIPPED | SKIPPED | +-----------------------------------+--------------------+-------------------+------------------+-------------------+ | Debian 12 | PASS | PASS | SKIPPED | SKIPPED | +-----------------------------------+--------------------+-------------------+------------------+-------------------+ | Fedora 40 | PASS | PASS | SKIPPED | SKIPPED | +-----------------------------------+--------------------+-------------------+------------------+-------------------+ | Fedora 41 (Clang) | PASS | PASS | PASS | SKIPPED | +-----------------------------------+--------------------+-------------------+------------------+-------------------+ | openSUSE Leap 15 | PASS | SKIPPED | SKIPPED | SKIPPED | +-----------------------------------+--------------------+-------------------+------------------+-------------------+ | Fedora 41 | PASS | PASS | PASS | SKIPPED | +-----------------------------------+--------------------+-------------------+------------------+-------------------+ | RHEL8 | PASS | SKIPPED | SKIPPED | SKIPPED | +-----------------------------------+--------------------+-------------------+------------------+-------------------+ | Ubuntu 20.04 | PASS | SKIPPED | SKIPPED | SKIPPED | +-----------------------------------+--------------------+-------------------+------------------+-------------------+ | Ubuntu 24.04 | PASS | PASS | PASS | SKIPPED | +-----------------------------------+--------------------+-------------------+------------------+-------------------+ | Ubuntu 22.04 | PASS | PASS | SKIPPED | SKIPPED | +-----------------------------------+--------------------+-------------------+------------------+-------------------+ | Alpine | PASS | SKIPPED | SKIPPED | SKIPPED | +-----------------------------------+--------------------+-------------------+------------------+-------------------+ | Ubuntu 24.04 32 Bit Cross Compile | PASS | SKIPPED | SKIPPED | SKIPPED | +-----------------------------------+--------------------+-------------------+------------------+-------------------+ | FreeBSD 13.5 | PASS | SKIPPED | SKIPPED | SKIPPED | +-----------------------------------+--------------------+-------------------+------------------+-------------------+ | FreeBSD 14.2 | PASS | SKIPPED | SKIPPED | SKIPPED | +-----------------------------------+--------------------+-------------------+------------------+-------------------+ | RHEL9 | PASS | SKIPPED | SKIPPED | SKIPPED | +-----------------------------------+--------------------+-------------------+------------------+-------------------+ | Windows Server 2022 | SKIPPED | SKIPPED | SKIPPED | PASS | +-----------------------------------+--------------------+-------------------+------------------+-------------------+ CentOS Stream 9 Kernel: Depends on container host Compiler: gcc 11.5.0 20240719 (Red Hat 11.5.0-2) CentOS Stream 10 Kernel: Depends on container host Compiler: gcc 14.2.1 20241104 (Red Hat 14.2.1-6) Fedora 40 (Clang) Kernel: Depends on container host Compiler: clang 18.1.8 (Fedora 18.1.8-1.fc40) Debian 12 Kernel: Depends on container host Compiler: gcc (Debian 12.2.0-14) 12.2.0 Fedora 40 Kernel: Depends on container host Compiler: gcc 14.2.1 20240912 (Red Hat 14.2.1-3) Fedora 41 (Clang) Kernel: Depends on container host Compiler: clang 19.1.5 (Fedora 19.1.5-1.fc41) openSUSE Leap 15 Kernel: Depends on container host Compiler: gcc (SUSE Linux) 7.5.0 Fedora 41 Kernel: Depends on container host Compiler: gcc 14.2.1 20240912 (Red Hat 14.2.1-3) RHEL8 Kernel: Depends on container host Compiler: gcc 8.5.0 20210514 (Red Hat 8.5.0-22) Ubuntu 20.04 Kernel: Depends on container host Compiler: gcc (Ubuntu 9.4.0-1ubuntu1~20.04.2) 9.4.0 Ubuntu 24.04 Kernel: Depends on container host Compiler: gcc (Ubuntu 13.3.0-6ubuntu2~24.04) 13.3.0 Ubuntu 22.04 Kernel: Depends on container host Compiler: gcc (Ubuntu 11.4.0-1ubuntu1~22.04) 11.4.0 Alpine Kernel: Depends on container host Compiler: gcc (Alpine 14.2.0) 14.2.0 Ubuntu 24.04 32 Bit Cross Compile Kernel: Depends on container host Compiler: gcc (Ubuntu 13.3.0-6ubuntu2~24.04) 13.3.0 FreeBSD 13.5 Kernel: 13.5-RELEASE Compiler: clang 19.1.7 FreeBSD 14.2 Kernel: 14.2-RELEASE Compiler: clang 18.1.6 RHEL9 Kernel: Depends on container host Compiler: gcc 11.5.0 20240719 (Red Hat 11.5.0-2) Windows Server 2022 Kernel: 10.0.20348.2031 Compiler: clang 15.0.7, gcc 14.1.0 (MinGW), and MSVC VS 19.39.33521 To view detailed results, visit: https://lab.dpdk.org/results/dashboard/patchsets/33167/ UNH-IOL DPDK Community Lab To manage your email subscriptions, visit: https://lab.dpdk.org/results/dashboard/preferences/subscriptions/