From mboxrd@z Thu Jan 1 00:00:00 1970 Return-Path: Received: from mails.dpdk.org (mails.dpdk.org [217.70.189.124]) by inbox.dpdk.org (Postfix) with ESMTP id 9177D46748 for ; Wed, 14 May 2025 18:22:08 +0200 (CEST) Received: from mails.dpdk.org (localhost [127.0.0.1]) by mails.dpdk.org (Postfix) with ESMTP id 6F657402DC; Wed, 14 May 2025 18:22:08 +0200 (CEST) Received: from mail-vs1-f99.google.com (mail-vs1-f99.google.com [209.85.217.99]) by mails.dpdk.org (Postfix) with ESMTP id E9DF4402C8 for ; Wed, 14 May 2025 18:22:06 +0200 (CEST) Received: by mail-vs1-f99.google.com with SMTP id ada2fe7eead31-4c4ecf86e8bso2382644137.2 for ; Wed, 14 May 2025 09:22:06 -0700 (PDT) DKIM-Signature: v=1; a=rsa-sha256; c=relaxed/relaxed; d=iol.unh.edu; s=unh-iol; t=1747239726; x=1747844526; darn=dpdk.org; h=references:in-reply-to:cc:to:from:subject:message-id:date:from:to :cc:subject:date:message-id:reply-to; bh=C9JAAhshQsh9R9dPDnWsHcUm8lM/QmsqOg7R974ajOM=; b=R4NfwdTrvfANQ707mj9NL1Fy5SRVymiB2JGQQ0GPXNlL/UX0BsxjNdUCrwUL+wffpd ZkrJshMUJMlS2dQTo0zaqbxMdg4HVsIZnxy+NZ8w+nfQE0sPMfW3/mJfbFeTne57LgYU 0yi7sWZh1wz4tRv8QkfIzaqHmbPCrDRBNnvrw= X-Google-DKIM-Signature: v=1; a=rsa-sha256; c=relaxed/relaxed; d=1e100.net; s=20230601; t=1747239726; x=1747844526; h=references:in-reply-to:cc:to:from:subject:message-id:date :x-gm-message-state:from:to:cc:subject:date:message-id:reply-to; bh=C9JAAhshQsh9R9dPDnWsHcUm8lM/QmsqOg7R974ajOM=; b=vf1ypLA4k/bG2AQYx3Vnob8zOmjCIBkNLz5CjvHBt5E19d3oJSjcNIxaMYQoM/nwmC wi1d/vS92iDVxvTk2bCNmZpUawknogpO61oYL1JoUzXwNJzYTzeKG9E19hM4u//J4rqs YaQeXKghNeCwLLe/y2ViMWcBgFJntF2rLo73I9q1U7wcI5ok5qz+wNlCVl5Fp/A2NxCy 5wTIoMzX+ZPVc/nLdrmjJaLFCmu//+lvDF8gYFZ0UcAInBUQoeho5UfjagSwnVnWrEcG pgS2k7cV15m2yDIyQ/btOr5BRDfeLsBPyxFFOYT4k00iKhQri2tr2c5AfKkT3+Avwg5J WP7w== X-Gm-Message-State: AOJu0YznMR7qL7juYnksVirCi0sp/HiAq4E2UBX+MhcK8+gTuhZ6WPWi 1irkXhU3V9PaEnZQbpZqwne7PzeteXGTGts1Jp3detfGDYmkbrzkB71xEMyeAwcI4e0OWLLjuro fdCjytpH1nTucX4SPPJoehYRRzx1iKLu3Pv8WEbtkdOOOJMDvCX0MaA2E X-Gm-Gg: ASbGncvHaei+9edMDzhcPBP2FMvpmJmCdY5rNHs7LQ5QrvgJrFPj+KTFHrmqfUQp9Bc +75VNgdvm5iMD4vcOsc5L0QBMADw5qdGMtPdRUMIwirgFgDiqiJ9HZvl9m1kox7wQDiqbZG4MG3 6PxiZOm3N0n/fn+5QVfSNG/ESHHCASx4Dzfs0SQkDJRBYijlF7wTluTtnAvBgTcFRUCfDqC4TQZ JTigQP3U/LFBT7nHafTsKd26umqflnnSTYC/+qTqfUWQ/cwlG6QEYqDdA06jNIB9hiddSNPxCd5 P94EIMduokHebI7pucSUP9byiRNRkwcO7wPu X-Google-Smtp-Source: AGHT+IGPEmx1OIjWEUSdZJkUiVfQAsdcjAjJXEYJrxLaYNcL0ek1R6bFvDGSzGsol5i+SomjnaIfyGdrqozf X-Received: by 2002:a05:6102:8026:b0:4db:154f:46c2 with SMTP id ada2fe7eead31-4df7dc88ad6mr3941574137.1.1747239726150; Wed, 14 May 2025 09:22:06 -0700 (PDT) Received: from postal.iol.unh.edu (postal.iol.unh.edu. [2606:4100:3880:1234::84]) by smtp-relay.gmail.com with ESMTPS id a1e0cc1a2514c-879f6196ba8sm335638241.2.2025.05.14.09.22.06 (version=TLS1_2 cipher=ECDHE-ECDSA-AES128-GCM-SHA256 bits=128/128); Wed, 14 May 2025 09:22:06 -0700 (PDT) X-Relaying-Domain: iol.unh.edu Date: Wed, 14 May 2025 09:22:06 -0700 (PDT) Message-ID: <6824c32e.050a0220.344e7.1c24SMTPIN_ADDED_MISSING@mx.google.com> Received: from [172.17.0.2] (unknown [172.18.0.75]) by postal.iol.unh.edu (Postfix) with ESMTP id C33686052471; Wed, 14 May 2025 12:22:05 -0400 (EDT) Subject: |SUCCESS| pw153435 [PATCH] [v2] net/mlx5: fix the maximal queue size From: dpdklab@iol.unh.edu To: Test Report Cc: dpdk-test-reports@iol.unh.edu In-Reply-To: <20250514075530.419423-1-viacheslavo@nvidia.com> References: <20250514075530.419423-1-viacheslavo@nvidia.com> Content-Type: text/plain X-BeenThere: test-report@dpdk.org X-Mailman-Version: 2.1.29 Precedence: list List-Id: automatic DPDK test reports List-Unsubscribe: , List-Archive: List-Post: List-Help: List-Subscribe: , Errors-To: test-report-bounces@dpdk.org Test-Label: iol-compile-amd64-testing Test-Status: SUCCESS http://dpdk.org/patch/153435 _Testing PASS_ Submitter: Viacheslav Ovsiienko Date: Wednesday, May 14 2025 07:55:30 DPDK git baseline: Repo:dpdk Branch: master CommitID:5c6ce0ca8f8683d0ebc2943c31256265c7c8b5e7 153435 --> testing pass Upstream job id: Windows-Compile-DPDK-Native#28392 Test environment and result as below: +-----------------------------------+--------------------+-------------------+------------------+-------------------+-------------------------+ | Environment | dpdk_meson_compile | dpdk_compile_spdk | dpdk_compile_ovs | dpdk_msvc_compile | dpdk_llvm_clang_compile | +===================================+====================+===================+==================+===================+=========================+ | CentOS Stream 9 | PASS | PASS | SKIPPED | SKIPPED | SKIPPED | +-----------------------------------+--------------------+-------------------+------------------+-------------------+-------------------------+ | CentOS Stream 10 | PASS | SKIPPED | SKIPPED | SKIPPED | SKIPPED | +-----------------------------------+--------------------+-------------------+------------------+-------------------+-------------------------+ | Fedora 40 (Clang) | PASS | PASS | SKIPPED | SKIPPED | SKIPPED | +-----------------------------------+--------------------+-------------------+------------------+-------------------+-------------------------+ | Debian 12 | PASS | PASS | SKIPPED | SKIPPED | SKIPPED | +-----------------------------------+--------------------+-------------------+------------------+-------------------+-------------------------+ | Fedora 40 | PASS | PASS | SKIPPED | SKIPPED | SKIPPED | +-----------------------------------+--------------------+-------------------+------------------+-------------------+-------------------------+ | Fedora 41 (Clang) | PASS | PASS | PASS | SKIPPED | SKIPPED | +-----------------------------------+--------------------+-------------------+------------------+-------------------+-------------------------+ | openSUSE Leap 15 | PASS | SKIPPED | SKIPPED | SKIPPED | SKIPPED | +-----------------------------------+--------------------+-------------------+------------------+-------------------+-------------------------+ | Fedora 41 | PASS | PASS | PASS | SKIPPED | SKIPPED | +-----------------------------------+--------------------+-------------------+------------------+-------------------+-------------------------+ | RHEL8 | PASS | SKIPPED | SKIPPED | SKIPPED | SKIPPED | +-----------------------------------+--------------------+-------------------+------------------+-------------------+-------------------------+ | Ubuntu 20.04 | PASS | SKIPPED | SKIPPED | SKIPPED | SKIPPED | +-----------------------------------+--------------------+-------------------+------------------+-------------------+-------------------------+ | Ubuntu 24.04 | PASS | PASS | PASS | SKIPPED | SKIPPED | +-----------------------------------+--------------------+-------------------+------------------+-------------------+-------------------------+ | Ubuntu 22.04 | PASS | PASS | SKIPPED | SKIPPED | SKIPPED | +-----------------------------------+--------------------+-------------------+------------------+-------------------+-------------------------+ | Alpine | PASS | SKIPPED | SKIPPED | SKIPPED | SKIPPED | +-----------------------------------+--------------------+-------------------+------------------+-------------------+-------------------------+ | Ubuntu 24.04 32 Bit Cross Compile | PASS | SKIPPED | SKIPPED | SKIPPED | SKIPPED | +-----------------------------------+--------------------+-------------------+------------------+-------------------+-------------------------+ | FreeBSD 13.5 | PASS | SKIPPED | SKIPPED | SKIPPED | SKIPPED | +-----------------------------------+--------------------+-------------------+------------------+-------------------+-------------------------+ | FreeBSD 14.2 | PASS | SKIPPED | SKIPPED | SKIPPED | SKIPPED | +-----------------------------------+--------------------+-------------------+------------------+-------------------+-------------------------+ | RHEL9 | PASS | SKIPPED | SKIPPED | SKIPPED | SKIPPED | +-----------------------------------+--------------------+-------------------+------------------+-------------------+-------------------------+ | Windows Server 2022 | SKIPPED | SKIPPED | SKIPPED | PASS | PASS | +-----------------------------------+--------------------+-------------------+------------------+-------------------+-------------------------+ CentOS Stream 9 Kernel: Depends on container host Compiler: gcc 11.5.0 20240719 (Red Hat 11.5.0-2) CentOS Stream 10 Kernel: Depends on container host Compiler: gcc 14.2.1 20241104 (Red Hat 14.2.1-6) Fedora 40 (Clang) Kernel: Depends on container host Compiler: clang 18.1.8 (Fedora 18.1.8-1.fc40) Debian 12 Kernel: Depends on container host Compiler: gcc (Debian 12.2.0-14) 12.2.0 Fedora 40 Kernel: Depends on container host Compiler: gcc 14.2.1 20240912 (Red Hat 14.2.1-3) Fedora 41 (Clang) Kernel: Depends on container host Compiler: clang 19.1.5 (Fedora 19.1.5-1.fc41) openSUSE Leap 15 Kernel: Depends on container host Compiler: gcc (SUSE Linux) 7.5.0 Fedora 41 Kernel: Depends on container host Compiler: gcc 14.2.1 20240912 (Red Hat 14.2.1-3) RHEL8 Kernel: Depends on container host Compiler: gcc 8.5.0 20210514 (Red Hat 8.5.0-22) Ubuntu 20.04 Kernel: Depends on container host Compiler: gcc (Ubuntu 9.4.0-1ubuntu1~20.04.2) 9.4.0 Ubuntu 24.04 Kernel: Depends on container host Compiler: gcc (Ubuntu 13.3.0-6ubuntu2~24.04) 13.3.0 Ubuntu 22.04 Kernel: Depends on container host Compiler: gcc (Ubuntu 11.4.0-1ubuntu1~22.04) 11.4.0 Alpine Kernel: Depends on container host Compiler: gcc (Alpine 14.2.0) 14.2.0 Ubuntu 24.04 32 Bit Cross Compile Kernel: Depends on container host Compiler: gcc (Ubuntu 13.3.0-6ubuntu2~24.04) 13.3.0 FreeBSD 13.5 Kernel: 13.5-RELEASE Compiler: clang 19.1.7 FreeBSD 14.2 Kernel: 14.2-RELEASE Compiler: clang 18.1.6 RHEL9 Kernel: Depends on container host Compiler: gcc 11.5.0 20240719 (Red Hat 11.5.0-2) Windows Server 2022 Kernel: 10.0.20348.2031 Compiler: clang 15.0.7, gcc 14.1.0 (MinGW), and MSVC VS 19.39.33521 To view detailed results, visit: https://lab.dpdk.org/results/dashboard/patchsets/33167/ UNH-IOL DPDK Community Lab To manage your email subscriptions, visit: https://lab.dpdk.org/results/dashboard/preferences/subscriptions/