From mboxrd@z Thu Jan 1 00:00:00 1970 Return-Path: Received: from mails.dpdk.org (mails.dpdk.org [217.70.189.124]) by inbox.dpdk.org (Postfix) with ESMTP id 3D2AC46748 for ; Wed, 14 May 2025 18:28:26 +0200 (CEST) Received: from mails.dpdk.org (localhost [127.0.0.1]) by mails.dpdk.org (Postfix) with ESMTP id 01017402DC; Wed, 14 May 2025 18:28:26 +0200 (CEST) Received: from mail-oo1-f97.google.com (mail-oo1-f97.google.com [209.85.161.97]) by mails.dpdk.org (Postfix) with ESMTP id 90457402C8 for ; Wed, 14 May 2025 18:28:24 +0200 (CEST) Received: by mail-oo1-f97.google.com with SMTP id 006d021491bc7-606668f8d51so44642eaf.0 for ; Wed, 14 May 2025 09:28:24 -0700 (PDT) DKIM-Signature: v=1; a=rsa-sha256; c=relaxed/relaxed; d=iol.unh.edu; s=unh-iol; t=1747240103; x=1747844903; darn=dpdk.org; h=references:in-reply-to:cc:to:from:subject:message-id:date:from:to :cc:subject:date:message-id:reply-to; bh=+tEL5huwEkBY+Ji6vKmmBfY3EE6JAansuFpDnCa3RmA=; b=K39D431SchptH/fZcA9xIupC54H883A2EklKnTzokm65dc2MvdHWQoC0UGIF/rIFDS PoV59F7qSMYLy4mKL9sj5q8TNEvj4J2+eEb5J0U8UJ3jl62dEaJ46gBmjG+GYVJlzUFi GdSjM51rSA16Fj8krpdY8NOCe9N6hBlfy4CXM= X-Google-DKIM-Signature: v=1; a=rsa-sha256; c=relaxed/relaxed; d=1e100.net; s=20230601; t=1747240103; x=1747844903; h=references:in-reply-to:cc:to:from:subject:message-id:date :x-gm-message-state:from:to:cc:subject:date:message-id:reply-to; bh=+tEL5huwEkBY+Ji6vKmmBfY3EE6JAansuFpDnCa3RmA=; b=HEFB7P+DMvHaii42GpS0sgGCACaY7SdMBEyfbKv52uTlkfsL4YZuWCg4V0f9dFdDbv BiGa0svYmtcGAmMETLgl9BTitOggR4r535beOR6IhJ4d9TE5/1sLqVf3ijnShyCPlx1F pffoSKlfrhhO16uC4EanyvbPa3sLzgu0czCTV7OJm63F/3kT6m7L+geW0bV/mMHj/Oge wfQ5ITsWO5Y7VHWggtLQPsukz+GOgvZmaULxd1SQw2vb02kpZyeJaZwQygX1iqh9QtTj 0rj7ur/kjQ9TY2B0IvLN/2BMArGyl86ULglDge0cG5OVuSUVhLDE2ALV/CthFkzBx2CN naaw== X-Gm-Message-State: AOJu0YwX8tNO9U4MtvZk93CHtKD7Jtx2iG5GbcP81NR102taXs/kPP02 KQ1gcJ3ARzDFI4ec0k7Fj0IBywlK19sOFnFcCIlYX+7UASfPq6WdsLnDnVyli6dGLgbrCO0f+4I fd1Qi2LD7a26rmyHftAM9V74LuD3WHvobDm8DLcTsyam2 X-Gm-Gg: ASbGnct8q2XF+oVdxVw4ximfN9qua4+ntB/ea/0yUNCCfI2Z9u5F4hDqwY4VTmV/RMm 54alN7r7RcNzQJHBWOzQiiHPkN765KVY7D/9zC2xJU5Nptb7h3HHkqoHX0XdqgN4f1PcYGWKJyN VSM1TRqZ9H/KqHSH1Om+OAOruhpvZxTpWhsX2gNWqHVcFUrCmumce5r0JoZXM+S71rUlBYy1GGV haXIRk+NPfkURDVaB+9Ip8g3t0Uvsr4PDr4c2YJ2cvaIzWQ4dd+hNJSwhP5RptCzmFLhbAsFlPa 8JknWJtDPZpRPWg5Bo/cs/pzbEMma1bFjCQEHZnyqACRO42//R7vJTZF5xM= X-Google-Smtp-Source: AGHT+IFu7+me6jx7un/BphIfwqw4pBVtC8lxwHI2SDKV6b4j0CRpD5I2crKOqCBc3Z2MXyBGgNoFZK8hkGJV X-Received: by 2002:a4a:cb96:0:b0:607:de46:fa94 with SMTP id 006d021491bc7-609ea1b3a16mr90325eaf.4.1747240103493; Wed, 14 May 2025 09:28:23 -0700 (PDT) Received: from postal.iol.unh.edu (postal.iol.unh.edu. [132.177.123.84]) by smtp-relay.gmail.com with ESMTPS id 006d021491bc7-6083fe08bfesm272927eaf.4.2025.05.14.09.28.23 (version=TLS1_2 cipher=ECDHE-ECDSA-AES128-GCM-SHA256 bits=128/128); Wed, 14 May 2025 09:28:23 -0700 (PDT) X-Relaying-Domain: iol.unh.edu Date: Wed, 14 May 2025 09:28:23 -0700 (PDT) Message-ID: <6824c4a7.050a0220.447f9.e97dSMTPIN_ADDED_MISSING@mx.google.com> Received: from [172.21.0.6] (unknown [172.18.0.240]) by postal.iol.unh.edu (Postfix) with ESMTP id 017D36052471; Wed, 14 May 2025 12:28:23 -0400 (EDT) Subject: |SUCCESS| pw153439 [PATCH] net/intel: reduce size of common Tx queue From: dpdklab@iol.unh.edu To: Test Report Cc: dpdk-test-reports@iol.unh.edu In-Reply-To: <20250514125733.1364644-1-shaiq.wani@intel.com> References: <20250514125733.1364644-1-shaiq.wani@intel.com> Content-Type: text/plain X-BeenThere: test-report@dpdk.org X-Mailman-Version: 2.1.29 Precedence: list List-Id: automatic DPDK test reports List-Unsubscribe: , List-Archive: List-Post: List-Help: List-Subscribe: , Errors-To: test-report-bounces@dpdk.org Test-Label: iol-abi-testing Test-Status: SUCCESS http://dpdk.org/patch/153439 _Testing PASS_ Submitter: Shaiq Wani Date: Wednesday, May 14 2025 12:57:33 DPDK git baseline: Repo:dpdk Branch: master CommitID:5b3328195d3c7cc013eb0d7a0b99ab6791d46a77 153439 --> testing pass Upstream job id: Generic-DPDK-Compile-ABI#126361 Test environment and result as below: +-------------------+----------+ | Environment | abi_test | +===================+==========+ | CentOS Stream 9 | PASS | +-------------------+----------+ | CentOS Stream 10 | PASS | +-------------------+----------+ | Debian 12 | PASS | +-------------------+----------+ | Fedora 41 (Clang) | PASS | +-------------------+----------+ | Fedora 40 (Clang) | PASS | +-------------------+----------+ | Fedora 40 | PASS | +-------------------+----------+ | openSUSE Leap 15 | PASS | +-------------------+----------+ | Fedora 41 | PASS | +-------------------+----------+ | RHEL8 | PASS | +-------------------+----------+ | RHEL9 | PASS | +-------------------+----------+ | Ubuntu 24.04 | PASS | +-------------------+----------+ | Ubuntu 22.04 | PASS | +-------------------+----------+ CentOS Stream 9 Kernel: Depends on container host Compiler: gcc 11.5.0 20240719 (Red Hat 11.5.0-2) CentOS Stream 10 Kernel: Depends on container host Compiler: gcc 14.2.1 20241104 (Red Hat 14.2.1-6) Debian 12 Kernel: Depends on container host Compiler: gcc (Debian 12.2.0-14) 12.2.0 Fedora 41 (Clang) Kernel: Depends on container host Compiler: clang 19.1.5 (Fedora 19.1.5-1.fc41) Fedora 40 (Clang) Kernel: Depends on container host Compiler: clang 18.1.8 (Fedora 18.1.8-1.fc40) Fedora 40 Kernel: Depends on container host Compiler: gcc 14.2.1 20240912 (Red Hat 14.2.1-3) openSUSE Leap 15 Kernel: Depends on container host Compiler: gcc (SUSE Linux) 7.5.0 Fedora 41 Kernel: Depends on container host Compiler: gcc 14.2.1 20240912 (Red Hat 14.2.1-3) RHEL8 Kernel: Depends on container host Compiler: gcc 8.5.0 20210514 (Red Hat 8.5.0-22) RHEL9 Kernel: Depends on container host Compiler: gcc 11.5.0 20240719 (Red Hat 11.5.0-2) Ubuntu 24.04 Kernel: Depends on container host Compiler: gcc (Ubuntu 13.3.0-6ubuntu2~24.04) 13.3.0 Ubuntu 22.04 Kernel: Depends on container host Compiler: gcc (Ubuntu 11.4.0-1ubuntu1~22.04) 11.4.0 To view detailed results, visit: https://lab.dpdk.org/results/dashboard/patchsets/33172/ UNH-IOL DPDK Community Lab To manage your email subscriptions, visit: https://lab.dpdk.org/results/dashboard/preferences/subscriptions/