From mboxrd@z Thu Jan 1 00:00:00 1970 Return-Path: Received: from mails.dpdk.org (mails.dpdk.org [217.70.189.124]) by inbox.dpdk.org (Postfix) with ESMTP id 2C08946748 for ; Wed, 14 May 2025 18:41:51 +0200 (CEST) Received: from mails.dpdk.org (localhost [127.0.0.1]) by mails.dpdk.org (Postfix) with ESMTP id 2585E402DC; Wed, 14 May 2025 18:41:51 +0200 (CEST) Received: from mail-qk1-f228.google.com (mail-qk1-f228.google.com [209.85.222.228]) by mails.dpdk.org (Postfix) with ESMTP id 2232D402C8 for ; Wed, 14 May 2025 18:41:50 +0200 (CEST) Received: by mail-qk1-f228.google.com with SMTP id af79cd13be357-7c54a9d3fcaso809583385a.2 for ; Wed, 14 May 2025 09:41:50 -0700 (PDT) DKIM-Signature: v=1; a=rsa-sha256; c=relaxed/relaxed; d=iol.unh.edu; s=unh-iol; t=1747240909; x=1747845709; darn=dpdk.org; h=references:in-reply-to:cc:to:from:subject:message-id:date:from:to :cc:subject:date:message-id:reply-to; bh=lQhZxPVhF2dcNn2YbIqVa27sZJWXZGE8wIfC3C0t9bY=; b=eQih81hlq2rY+DBhMCk2ZLWDQQR8Y9k95kV10dzAh+aYNTzLbVrgp0fg/IXtfpcTXz eQnL8J9rPAOolqRRiiLOCehm0ESZMjlzgeD/UrvcP8d288UhYOmCH3m1I9L1ck/y/mFZ yqkkYb7uFCRVUFc4obYNMMHU0h82zymycYRyU= X-Google-DKIM-Signature: v=1; a=rsa-sha256; c=relaxed/relaxed; d=1e100.net; s=20230601; t=1747240909; x=1747845709; h=references:in-reply-to:cc:to:from:subject:message-id:date :x-gm-message-state:from:to:cc:subject:date:message-id:reply-to; bh=lQhZxPVhF2dcNn2YbIqVa27sZJWXZGE8wIfC3C0t9bY=; b=E/XTpaV3i9a+cqGIdrdfSIhcGDHSVS77gtGNz15L3yBiPE1oSc4ePUqpVKujWb1PV/ cSlY/kdpw26Liarmddf1yLfba7v4egJ8IaqaaFrmBfK8B+OaBe3mBpK+GrX+1VbPKHLk 2tqpgN3yIf4+lYxdwSD9JTqefP/apCpTuufB+tS6ySz5eMs6X1aZgj1Iu9TEgN0eKiVG yVvQDe1ggxWe6PlTh8003BnFHcDOmy7NjpN3XUJ+g3VGsxkdMCdQmpiR8E4PJtaikvto hRcKs4L4grKBJksS2YylBSVVO10QZigdzwC3GHtf7aPP4B9d4NVlcDoXLnxxKVurtDiv cS0A== X-Gm-Message-State: AOJu0YwGn/A2EiA06VnQO2LrD/Q2Et4FRBMMm5AfX52r3vIfjkXB8ILX xDhxDUYB3sthXT0WOgrCgPe88nhF5A+TrxBzBpHORTuuCykqhFXmc5KFQikc5Ano9in2RJ5WbIB 0tQghSX2jLnhk+1wvvk8e8IE5nm8tyLMQefaAknGlHJptSprNYKSDAPFd X-Gm-Gg: ASbGncuvhpJElt4LTAbQSFn/Yi4w9AAQKkweFRk43cTUru/wK2Xq+9SuPI6blElfTn8 pMMV116D2SCdByvIyv7cYYu62i1GbQMOSqOFbNrxuOruJ6ixqpQH6p3/ioJU5otbemDS2PHrl28 B5zFN+Dmc5tydWWOi11UKM66MBiNCBVG7Lq+ngcAFLbrOGL58rgOwuse0qoKhsfgku1clbnVDdt xtr0P4NoTz0xXniPVsi08HuXhFUrDcmfVan3S7H08Q9kFtcchlPDwOmhRJz2UdvgaUD9q6CL528 fK3XXDX1aBQxxN0o9wUiGHR4V9bHipc/nstw X-Google-Smtp-Source: AGHT+IEgzng7t5v1mIRReGH94RCWe8FiAZJcF0rD/jMVetV+/pN7r6W0iSmxsNXipWw0M/BJ3pkkr23GiQfP X-Received: by 2002:a05:6214:20cf:b0:6f4:c84d:d1bd with SMTP id 6a1803df08f44-6f896df90bbmr58044556d6.6.1747240908872; Wed, 14 May 2025 09:41:48 -0700 (PDT) Received: from postal.iol.unh.edu (postal.iol.unh.edu. [2606:4100:3880:1234::84]) by smtp-relay.gmail.com with ESMTPS id 6a1803df08f44-6f6e3a0ef6fsm6931946d6.42.2025.05.14.09.41.48 (version=TLS1_2 cipher=ECDHE-ECDSA-AES128-GCM-SHA256 bits=128/128); Wed, 14 May 2025 09:41:48 -0700 (PDT) X-Relaying-Domain: iol.unh.edu Date: Wed, 14 May 2025 09:41:48 -0700 (PDT) Message-ID: <6824c7cc.050a0220.cae3a.7f50SMTPIN_ADDED_MISSING@mx.google.com> Received: from [172.17.0.3] (unknown [172.18.0.74]) by postal.iol.unh.edu (Postfix) with ESMTP id 973746052471; Wed, 14 May 2025 12:41:48 -0400 (EDT) Subject: |SUCCESS| pw153436 [PATCH] crypto/qat: add caching of the asym confi From: dpdklab@iol.unh.edu To: Test Report Cc: dpdk-test-reports@iol.unh.edu In-Reply-To: <20250514080946.1633268-1-arkadiuszx.kusztal@intel.com> References: <20250514080946.1633268-1-arkadiuszx.kusztal@intel.com> Content-Type: text/plain X-BeenThere: test-report@dpdk.org X-Mailman-Version: 2.1.29 Precedence: list List-Id: automatic DPDK test reports List-Unsubscribe: , List-Archive: List-Post: List-Help: List-Subscribe: , Errors-To: test-report-bounces@dpdk.org Test-Label: iol-compile-arm64-testing Test-Status: SUCCESS http://dpdk.org/patch/153436 _Testing PASS_ Submitter: Arkadiusz Kusztal Date: Wednesday, May 14 2025 08:09:46 DPDK git baseline: Repo:dpdk Branch: master CommitID:ca1690ebd224f148268285b15b97441ccdbdd07e 153436 --> testing pass Upstream job id: Generic-DPDK-Compile-Meson#387880 Test environment and result as below: +----------------------------------------+--------------------+ | Environment | dpdk_meson_compile | +========================================+====================+ | RHEL9 (ARM) | PASS | +----------------------------------------+--------------------+ | Ubuntu 20.04 ARM GCC Cross Compile | PASS | +----------------------------------------+--------------------+ | Ubuntu 20.04 ARM SVE | PASS | +----------------------------------------+--------------------+ | Debian 12 with MUSDK | PASS | +----------------------------------------+--------------------+ | Fedora 40 (ARM Clang) | PASS | +----------------------------------------+--------------------+ | Fedora 40 (ARM) | PASS | +----------------------------------------+--------------------+ | Fedora 41 (ARM Clang) | PASS | +----------------------------------------+--------------------+ | Fedora 41 (ARM) | PASS | +----------------------------------------+--------------------+ | Ubuntu 20.04 (ARM) | PASS | +----------------------------------------+--------------------+ | Ubuntu 22.04 (ARM) | PASS | +----------------------------------------+--------------------+ | Ubuntu 24.04 (ARM) | PASS | +----------------------------------------+--------------------+ | Debian 12 (arm) | PASS | +----------------------------------------+--------------------+ | CentOS Stream 10 (ARM) | PASS | +----------------------------------------+--------------------+ | CentOS Stream 9 (ARM) | PASS | +----------------------------------------+--------------------+ | Ubuntu 20.04 ARM Clang Cross Compile | PASS | +----------------------------------------+--------------------+ | Ubuntu 20.04 aarch32 GCC Cross Compile | PASS | +----------------------------------------+--------------------+ RHEL9 (ARM) Kernel: Depends on container host Compiler: gcc 11.5.0 20240719 (Red Hat 11.5.0-2) Ubuntu 20.04 ARM GCC Cross Compile Kernel: Depends on container host Compiler: aarch64-linux-gnu-gcc (Ubuntu 9.4.0-1ubuntu1~20.04.2) 9.4.0 Ubuntu 20.04 ARM SVE Kernel: Depends on container host Compiler: gcc (Ubuntu 10.5.0-1ubuntu1~20.04) 10.5.0 Debian 12 with MUSDK Kernel: Depends on container host Compiler: gcc (Debian 12.2.0-14) 12.2.0 Fedora 40 (ARM Clang) Kernel: Depends on container host Compiler: clang 18.1.8 (Fedora 18.1.8-1.fc40) Fedora 40 (ARM) Kernel: Depends on container host Compiler: gcc 14.2.1 20240912 (Red Hat 14.2.1-3) Fedora 41 (ARM Clang) Kernel: Depends on container host Compiler: clang 19.1.5 (Fedora 19.1.5-1.fc41) Fedora 41 (ARM) Kernel: Depends on container host Compiler: gcc 14.2.1 20240912 (Red Hat 14.2.1-3) Ubuntu 20.04 (ARM) Kernel: Depends on container host Compiler: gcc (Ubuntu 9.4.0-1ubuntu1~20.04.2) 9.4.0 Ubuntu 22.04 (ARM) Kernel: Depends on container host Compiler: gcc (Ubuntu 11.4.0-1ubuntu1~22.04) 11.4.0 Ubuntu 24.04 (ARM) Kernel: Depends on container host Compiler: gcc (Ubuntu 13.3.0-6ubuntu2~24.04) 13.3.0 Debian 12 (arm) Kernel: Depends on container host Compiler: gcc (Debian 12.2.0-14) 12.2.0 CentOS Stream 10 (ARM) Kernel: Depends on container host Compiler: gcc 14.2.1 20241104 (Red Hat 14.2.1-6) CentOS Stream 9 (ARM) Kernel: Depends on container host Compiler: gcc 11.5.0 20240719 (Red Hat 11.5.0-2) Ubuntu 20.04 ARM Clang Cross Compile Kernel: Depends on container host Compiler: clang 10.0.0-4ubuntu1 Ubuntu 20.04 aarch32 GCC Cross Compile Kernel: Depends on container host Compiler: gcc 9.4.0 To view detailed results, visit: https://lab.dpdk.org/results/dashboard/patchsets/33168/ UNH-IOL DPDK Community Lab To manage your email subscriptions, visit: https://lab.dpdk.org/results/dashboard/preferences/subscriptions/