From mboxrd@z Thu Jan 1 00:00:00 1970 Return-Path: Received: from mails.dpdk.org (mails.dpdk.org [217.70.189.124]) by inbox.dpdk.org (Postfix) with ESMTP id 8ED6546748 for ; Wed, 14 May 2025 18:43:39 +0200 (CEST) Received: from mails.dpdk.org (localhost [127.0.0.1]) by mails.dpdk.org (Postfix) with ESMTP id 588B2402DC; Wed, 14 May 2025 18:43:39 +0200 (CEST) Received: from mail-io1-f99.google.com (mail-io1-f99.google.com [209.85.166.99]) by mails.dpdk.org (Postfix) with ESMTP id ECFC1402C8 for ; Wed, 14 May 2025 18:43:37 +0200 (CEST) Received: by mail-io1-f99.google.com with SMTP id ca18e2360f4ac-85dac9729c3so702559639f.2 for ; Wed, 14 May 2025 09:43:37 -0700 (PDT) DKIM-Signature: v=1; a=rsa-sha256; c=relaxed/relaxed; d=iol.unh.edu; s=unh-iol; t=1747241017; x=1747845817; darn=dpdk.org; h=references:in-reply-to:cc:to:from:subject:message-id:date:from:to :cc:subject:date:message-id:reply-to; bh=ZfidptwC1g1zX+MNp6rbAzTitVkfKfcESVaaCETTR5w=; b=IJsxKrzBhH0l0A1NEeY1bbxShx6n+5bjy+3GfMXUnZMZbT32EfNBjC3GPuF/86o2Bs 207guhRRN+XXeIdmG7XqD6JNjPkejanoc7hEZSH/b4f07nO6z74Oejj2V7aXyvKBKMHK b+fih1KeX2AZkV3/KXfJu2slrmCl6bMB4TroM= X-Google-DKIM-Signature: v=1; a=rsa-sha256; c=relaxed/relaxed; d=1e100.net; s=20230601; t=1747241017; x=1747845817; h=references:in-reply-to:cc:to:from:subject:message-id:date :x-gm-message-state:from:to:cc:subject:date:message-id:reply-to; bh=ZfidptwC1g1zX+MNp6rbAzTitVkfKfcESVaaCETTR5w=; b=VBsn4pVu7Q++9BoScXlnz5rCbePY2zvwl4UTNs7O2Nqe/+OEge2ZJz0Vx8Zxyn7jih TPnPEUsKf19SA1mI0LMYyA16aAMWLgDYwlG/BoV0thN9edgleVpEnNRgusCeBM0OBaOj 9dzEbt1GRPR8PizmqzYWJtfef9r5Nj2D1GwO1c9rAUqI5cCZXAVfZTf+pf34EM/aMi7g q3CVFtBdkNmxGChEJc+BcCBOoR++ItXBY2NwY0otfte89GLBeTX+9AKvLfnvPbcdrzbf DFvUjyoi//5u2CEfHEto51zoFAre6PfgdNs6lmYsX8aAcToU+lsGE6kjGKsatSoY7fxS nl/A== X-Gm-Message-State: AOJu0Yw5CFG7sQ/lgsA9EhWbSoCL4GpKuF2fchEM+utXzQtNICccDZIS SPPbv3Lw9o1HAbX72MLwCnsII9d+gPzyGiVKBVbjRJTPgtCiTUqFvL7e37/0FXbbOiISas8U2ug u4YGBRkN3jPUmWSrGfA/j0HcL7ZBW47LSZt6k10Ee X-Gm-Gg: ASbGncukw2+3dwdHS6xbckp2cBRCV4Umjvn3GIrk/hR8+l09y6OGOieEbGl9DOdKUUJ CgfBue1Dmt+7mJJkpzn8Edv3rO1Y04BKnTO4UUGTCb6cHNGK5qxhr703F2SWgQFAAv6vyfNMITt RJPsVpMaZ4vRE1MCTWjIKEFm+eP/mhi0oVPv2x01W2N7USKR6gL5c1iAwkb6AvVGlHvqQuRB58j a//53HDij4B27i6H153CIJQIxKYCPYQSc6sLoSXYg6Ufca1ANT11TU1fxx8WtkDhTzaNRSE/ugE gkpU5iH9A82uI3kRYEF32ygCkkCUhg4dTZ0HwKDLoI1ushz9FySgnG34rIw= X-Google-Smtp-Source: AGHT+IFG/0ewybKx3ViSgn/n9s703GzK2vhfIaABy1Kl0kfFTWY8ZmGyJRezMwTvneyPbpEPvkNBubU3hpgE X-Received: by 2002:a05:6602:488e:b0:867:63dc:438b with SMTP id ca18e2360f4ac-86a08db0a74mr468156839f.2.1747241017135; Wed, 14 May 2025 09:43:37 -0700 (PDT) Received: from postal.iol.unh.edu (postal.iol.unh.edu. [132.177.123.84]) by smtp-relay.gmail.com with ESMTPS id ca18e2360f4ac-8676362138fsm61904839f.5.2025.05.14.09.43.37 (version=TLS1_2 cipher=ECDHE-ECDSA-AES128-GCM-SHA256 bits=128/128); Wed, 14 May 2025 09:43:37 -0700 (PDT) X-Relaying-Domain: iol.unh.edu Date: Wed, 14 May 2025 09:43:37 -0700 (PDT) Message-ID: <6824c839.050a0220.1afc41.180cSMTPIN_ADDED_MISSING@mx.google.com> Received: from [172.17.0.3] (unknown [172.18.0.74]) by postal.iol.unh.edu (Postfix) with ESMTP id A49106052471; Wed, 14 May 2025 12:43:36 -0400 (EDT) Subject: |SUCCESS| pw153435 [PATCH] [v2] net/mlx5: fix the maximal queue size From: dpdklab@iol.unh.edu To: Test Report Cc: dpdk-test-reports@iol.unh.edu In-Reply-To: <20250514075530.419423-1-viacheslavo@nvidia.com> References: <20250514075530.419423-1-viacheslavo@nvidia.com> Content-Type: text/plain X-BeenThere: test-report@dpdk.org X-Mailman-Version: 2.1.29 Precedence: list List-Id: automatic DPDK test reports List-Unsubscribe: , List-Archive: List-Post: List-Help: List-Subscribe: , Errors-To: test-report-bounces@dpdk.org Test-Label: iol-unit-amd64-testing Test-Status: SUCCESS http://dpdk.org/patch/153435 _Testing PASS_ Submitter: Viacheslav Ovsiienko Date: Wednesday, May 14 2025 07:55:30 DPDK git baseline: Repo:dpdk Branch: master CommitID:5c6ce0ca8f8683d0ebc2943c31256265c7c8b5e7 153435 --> testing pass Upstream job id: Generic-VM-Unit-Test-DPDK#28514 Test environment and result as below: +---------------------+----------------+ | Environment | dpdk_unit_test | +=====================+================+ | CentOS Stream 9 | PASS | +---------------------+----------------+ | CentOS Stream 10 | PASS | +---------------------+----------------+ | Debian 12 | PASS | +---------------------+----------------+ | Fedora 40 (Clang) | PASS | +---------------------+----------------+ | Fedora 40 | PASS | +---------------------+----------------+ | Fedora 41 | PASS | +---------------------+----------------+ | Fedora 41 (Clang) | PASS | +---------------------+----------------+ | Ubuntu 20.04 | PASS | +---------------------+----------------+ | RHEL9 | PASS | +---------------------+----------------+ | RHEL8 | PASS | +---------------------+----------------+ | Ubuntu 24.04 | PASS | +---------------------+----------------+ | Ubuntu 22.04 | PASS | +---------------------+----------------+ | Windows Server 2022 | PASS | +---------------------+----------------+ CentOS Stream 9 Kernel: Depends on container host Compiler: gcc 11.5.0 20240719 (Red Hat 11.5.0-2) CentOS Stream 10 Kernel: Depends on container host Compiler: gcc 14.2.1 20241104 (Red Hat 14.2.1-6) Debian 12 Kernel: Depends on container host Compiler: gcc (Debian 12.2.0-14) 12.2.0 Fedora 40 (Clang) Kernel: Depends on container host Compiler: clang 18.1.8 (Fedora 18.1.8-1.fc40) Fedora 40 Kernel: Depends on container host Compiler: gcc 14.2.1 20240912 (Red Hat 14.2.1-3) Fedora 41 Kernel: Depends on container host Compiler: gcc 14.2.1 20240912 (Red Hat 14.2.1-3) Fedora 41 (Clang) Kernel: Depends on container host Compiler: clang 19.1.5 (Fedora 19.1.5-1.fc41) Ubuntu 20.04 Kernel: Depends on container host Compiler: gcc (Ubuntu 9.4.0-1ubuntu1~20.04.2) 9.4.0 RHEL9 Kernel: Depends on container host Compiler: gcc 11.5.0 20240719 (Red Hat 11.5.0-2) RHEL8 Kernel: Depends on container host Compiler: gcc 8.5.0 20210514 (Red Hat 8.5.0-22) Ubuntu 24.04 Kernel: Depends on container host Compiler: gcc (Ubuntu 13.3.0-6ubuntu2~24.04) 13.3.0 Ubuntu 22.04 Kernel: Depends on container host Compiler: gcc (Ubuntu 11.4.0-1ubuntu1~22.04) 11.4.0 Windows Server 2022 Kernel: 10.0.20348.2031 Compiler: clang 15.0.7, gcc 14.1.0 (MinGW), and MSVC VS 19.39.33521 To view detailed results, visit: https://lab.dpdk.org/results/dashboard/patchsets/33167/ UNH-IOL DPDK Community Lab To manage your email subscriptions, visit: https://lab.dpdk.org/results/dashboard/preferences/subscriptions/