From mboxrd@z Thu Jan 1 00:00:00 1970 Return-Path: Received: from mails.dpdk.org (mails.dpdk.org [217.70.189.124]) by inbox.dpdk.org (Postfix) with ESMTP id 4AD2B46748 for ; Wed, 14 May 2025 18:57:25 +0200 (CEST) Received: from mails.dpdk.org (localhost [127.0.0.1]) by mails.dpdk.org (Postfix) with ESMTP id 31255402DC; Wed, 14 May 2025 18:57:25 +0200 (CEST) Received: from mail-pl1-f225.google.com (mail-pl1-f225.google.com [209.85.214.225]) by mails.dpdk.org (Postfix) with ESMTP id C518A402C8 for ; Wed, 14 May 2025 18:57:24 +0200 (CEST) Received: by mail-pl1-f225.google.com with SMTP id d9443c01a7336-22c33677183so475275ad.2 for ; Wed, 14 May 2025 09:57:24 -0700 (PDT) DKIM-Signature: v=1; a=rsa-sha256; c=relaxed/relaxed; d=iol.unh.edu; s=unh-iol; t=1747241844; x=1747846644; darn=dpdk.org; h=references:in-reply-to:cc:to:from:subject:message-id:date:from:to :cc:subject:date:message-id:reply-to; bh=Jgq4oTSSYY2SA9YXwTNKoNoVRRLH750V+a3iQsbVE90=; b=DYjXpyTOdhzFD6eBv/FLQLumpP3ULfu+BZwE1aMe68laiYdfNT8TU67QTW1S9DAOEF /HFdtSogPt5GOybITDCuCdIZ0nKqyDkvstR4cbXCjt9TJs4Wh5Mm4kpMQzmyDuvk6jSb xZ0OV7BgMSJSnEi0Nt+8qXeLrkyOhtwBR+/OE= X-Google-DKIM-Signature: v=1; a=rsa-sha256; c=relaxed/relaxed; d=1e100.net; s=20230601; t=1747241844; x=1747846644; h=references:in-reply-to:cc:to:from:subject:message-id:date :x-gm-message-state:from:to:cc:subject:date:message-id:reply-to; bh=Jgq4oTSSYY2SA9YXwTNKoNoVRRLH750V+a3iQsbVE90=; b=mMDemxOfI3MAi4eW70zbfCZoV3J7KW4Gva9Y1kgAsze+HYYCCkWLsX1/gnAzgrnjey 4MABV3Lt00of7d7EhbEVcXBIVbqPu7tH4kx73y1VVRlV+t1pU9ORvIp48IwHdvcmipDe sBCdsh9Z4EXyqC/MkztJn4maf5B5KiJL9gtjk8FbkZ6TYD93Z4FMu2Y/oKIBLGZ6lNK1 xgaeFpiqp5F9sK5LHE+0vWfIGJxj6Xsb0dtv/ozSVAPPyPb851m5UwPZ2xtBtRrOBF8O wRGu9uVre78/AAT0gTvccQ6Tjh+0pPnOeFi1xgkR29gU3h7dkJGOKwmNKG+TK4pFt1lL a2pQ== X-Gm-Message-State: AOJu0YzT1cvOx2ASMYze5u3nmGKkGU7fLXnEJ03XXRNrMIE5TTuqmx5y KZ5f7X/iptZh+2nBbbfq1nBYhdh4yTIvXrzySfISMJOG8d8Hl29sMb+dQlmt93IYqvrssXZ/1LF wBwFJSjaUopylHeyOzOkqaSml0PM77Qv8pNsOLYj3hqdEXjCMznDQFHMM X-Gm-Gg: ASbGncvbAptijEyKunHnJPYSU4NtgnK89wFO23kKCtcdPEVzt9046oInUOoxugi9EDM rx90O6XChNCD+jMnPJ0abIBnGqg+3Al+kq3cjXes+/FkE9XWL7IPLPU4cDDqTAUSB2omwXEvCgK Pgd0+t/8PTlWvt1DpgE5eRcI+KdtmUZv+kFCs3E7xNsEYNQs6uSseU9qEfj6rgdqkQQUhT6U9F9 myGwVUBaWupYaTFg7CJVf3uGllnyw1A9mhEhPxvHhH+LItqCwOYL/n1kMYQHt4cshRVsQQF609n B1C53E5zG0Yol0SIb+rHzTGzlJgMrNbTdbCf X-Google-Smtp-Source: AGHT+IHaqcG383TTVVwkKD9CbGOehj8o3SB3ptuAn2c5Mut5Ts3mDiz/2dWOrnxzKeXt0zN2L6ZhB4mJXpkh X-Received: by 2002:a17:902:e552:b0:22d:e57a:27a2 with SMTP id d9443c01a7336-23198143e2cmr64371025ad.23.1747241843538; Wed, 14 May 2025 09:57:23 -0700 (PDT) Received: from postal.iol.unh.edu (postal.iol.unh.edu. [2606:4100:3880:1234::84]) by smtp-relay.gmail.com with ESMTPS id d9443c01a7336-22fc6f0b8e7sm6780455ad.89.2025.05.14.09.57.23 (version=TLS1_2 cipher=ECDHE-ECDSA-AES128-GCM-SHA256 bits=128/128); Wed, 14 May 2025 09:57:23 -0700 (PDT) X-Relaying-Domain: iol.unh.edu Date: Wed, 14 May 2025 09:57:23 -0700 (PDT) Message-ID: <6824cb73.170a0220.a2d0e.46dcSMTPIN_ADDED_MISSING@mx.google.com> Received: from [172.17.0.2] (unknown [172.18.0.76]) by postal.iol.unh.edu (Postfix) with ESMTP id BC0B06052471; Wed, 14 May 2025 12:57:22 -0400 (EDT) Subject: |SUCCESS| pw153439 [PATCH] net/intel: reduce size of common Tx queue From: dpdklab@iol.unh.edu To: Test Report Cc: dpdk-test-reports@iol.unh.edu In-Reply-To: <20250514125733.1364644-1-shaiq.wani@intel.com> References: <20250514125733.1364644-1-shaiq.wani@intel.com> Content-Type: text/plain X-BeenThere: test-report@dpdk.org X-Mailman-Version: 2.1.29 Precedence: list List-Id: automatic DPDK test reports List-Unsubscribe: , List-Archive: List-Post: List-Help: List-Subscribe: , Errors-To: test-report-bounces@dpdk.org Test-Label: iol-sample-apps-testing Test-Status: SUCCESS http://dpdk.org/patch/153439 _Testing PASS_ Submitter: Shaiq Wani Date: Wednesday, May 14 2025 12:57:33 DPDK git baseline: Repo:dpdk Branch: master CommitID:5b3328195d3c7cc013eb0d7a0b99ab6791d46a77 153439 --> testing pass Upstream job id: ACVP-FIPS-testing#9808 Test environment and result as below: +--------------------+----------------------+----------------------+ | Environment | compressdev_zlib_pmd | dpdk_fips_validation | +====================+======================+======================+ | Ubuntu 22.04 (ARM) | PASS | SKIPPED | +--------------------+----------------------+----------------------+ | Ubuntu 22.04 | PASS | SKIPPED | +--------------------+----------------------+----------------------+ | Ubuntu 20.04 | SKIPPED | PASS | +--------------------+----------------------+----------------------+ Ubuntu 22.04 (ARM) Kernel: 5.15.0-97-generic Compiler: gcc gcc (Ubuntu 11.4.0-1ubuntu1~22.04) 11.4.0 Ubuntu 22.04 Kernel: 5.15.0-100-generic Compiler: gcc gcc (Ubuntu 11.4.0-1ubuntu1~22.04) 11.4.0 Ubuntu 20.04 Kernel: Depends on container host Compiler: gcc (Ubuntu 9.4.0-1ubuntu1~20.04.2) 9.4.0 To view detailed results, visit: https://lab.dpdk.org/results/dashboard/patchsets/33172/ UNH-IOL DPDK Community Lab To manage your email subscriptions, visit: https://lab.dpdk.org/results/dashboard/preferences/subscriptions/