From mboxrd@z Thu Jan 1 00:00:00 1970 Return-Path: Received: from mails.dpdk.org (mails.dpdk.org [217.70.189.124]) by inbox.dpdk.org (Postfix) with ESMTP id D03B746748 for ; Wed, 14 May 2025 19:36:26 +0200 (CEST) Received: from mails.dpdk.org (localhost [127.0.0.1]) by mails.dpdk.org (Postfix) with ESMTP id 8DDE8402DC; Wed, 14 May 2025 19:36:26 +0200 (CEST) Received: from mail-pf1-f228.google.com (mail-pf1-f228.google.com [209.85.210.228]) by mails.dpdk.org (Postfix) with ESMTP id EFA9B402C8 for ; Wed, 14 May 2025 19:36:25 +0200 (CEST) Received: by mail-pf1-f228.google.com with SMTP id d2e1a72fcca58-74019695377so117386b3a.3 for ; Wed, 14 May 2025 10:36:25 -0700 (PDT) DKIM-Signature: v=1; a=rsa-sha256; c=relaxed/relaxed; d=iol.unh.edu; s=unh-iol; t=1747244185; x=1747848985; darn=dpdk.org; h=references:in-reply-to:cc:to:from:subject:message-id:date:from:to :cc:subject:date:message-id:reply-to; bh=CN55ERAx3BfyZ45cvaoCtKMF2Amxwb8GmVVXX2cVwQ0=; b=Tz9uCe4GjX9TTnIrjgJFYIVsK7SzRStTk1aMIfN3VYZvw+v+bQ3wM/RmviAC9VoeA6 Jt0O9hyF/P0Ur8O2u4YKLHIXlCyGLlrDzAYlj3H/40ofV9jLXqOjyB5R9L5XMsQJol2F RQG7j4YPIf7pqlxqqOLMdul8AkM8R6+lqQi1c= X-Google-DKIM-Signature: v=1; a=rsa-sha256; c=relaxed/relaxed; d=1e100.net; s=20230601; t=1747244185; x=1747848985; h=references:in-reply-to:cc:to:from:subject:message-id:date :x-gm-message-state:from:to:cc:subject:date:message-id:reply-to; bh=CN55ERAx3BfyZ45cvaoCtKMF2Amxwb8GmVVXX2cVwQ0=; b=FaZiLLe10hQnZimIwJeyKYW7TLJtS7OZITtwZXn1gR/KahjMEhyG54NUilCRay9cVl KjWPPA8Bl7j2vagOxwGdJBqJXz8QB1vQse1R+ZcoYusAq7+fN77GfrxXYOAzXaA72XfD T7ncfnKem9ldExy8lj+z7zvo44dVJaJEGq++YTW2AjS5uVLNE57fJGvYUBSkY+PVJvAV jJr1Unhp4s6v94bTx/W1vl5cAam9idUI6eOalQXtEMnX/Uut+3IzcatQZiE2KWe34xi9 Vs20IKeWt366irFt7bkl1jnRspvJ3JY4FbTpm3xXq7wiihy5nOmZVzjCDSlqM9f0dy0y miwQ== X-Gm-Message-State: AOJu0YzhKBw9zBjTq8v4bxs4BBVaieKhPcmVrn3avZaxE/EXkiRoWgxI vdd7fvE2jnih/ZOMU6XYhtUGlqLE9scXAnSZnhNVVqsZH3bkM3sMIZGM9B/CfpkqYxTaDvgFqLN fvhDcSAnEzXzxFukL7ODrLtvzQqSiAtHeYDXGn9bWUSpWlLrx6+z9vLdX X-Gm-Gg: ASbGncuFoJXibwFLV2KOY+Xta1IE9IFOYcQZlATy+qT8obhYGcQUvBNuSglbTY3AYRQ 6wZTtqTbqezoqSFpEk2jQc39rlXjnudDGGfhIKlurjK5GsdaOa/WUEmJG3byBmNN5qWXrukreS5 uTD8KibrlXsTehgXQ+Ts4ezyGGRscBAnfSMuc9xeU/q9w9hmSTKIS38+Iu812T7f/UUqJyDVtyS m/u/Qj6qktcNSojQ70t4Tu5bOctg0RrMaSg7zSvI8XhSuGUq6BKrduEeIKQK8LU0HLV8PsiVjyO tvvDhkXHOTzSvyiIPUTGvtPsdykVdXBsSSWG X-Google-Smtp-Source: AGHT+IGbaScfDSGN7L3Bjl8EmUicRkPWJcTKWxV+fYVhGZkEk5c6egDlcCgpQc50yiHFqa+tabHox1sss3OM X-Received: by 2002:a05:6a00:3009:b0:73f:f816:dd7f with SMTP id d2e1a72fcca58-74289346bd6mr5712481b3a.15.1747244184931; Wed, 14 May 2025 10:36:24 -0700 (PDT) Received: from postal.iol.unh.edu (postal.iol.unh.edu. [2606:4100:3880:1234::84]) by smtp-relay.gmail.com with ESMTPS id d2e1a72fcca58-74237a37b50sm736929b3a.24.2025.05.14.10.36.24 (version=TLS1_2 cipher=ECDHE-ECDSA-AES128-GCM-SHA256 bits=128/128); Wed, 14 May 2025 10:36:24 -0700 (PDT) X-Relaying-Domain: iol.unh.edu Date: Wed, 14 May 2025 10:36:24 -0700 (PDT) Message-ID: <6824d498.a70a0220.1584ab.66eeSMTPIN_ADDED_MISSING@mx.google.com> Received: from [172.17.0.2] (unknown [172.18.0.76]) by postal.iol.unh.edu (Postfix) with ESMTP id 190DA6052471; Wed, 14 May 2025 13:36:24 -0400 (EDT) Subject: |SUCCESS| pw153439 [PATCH] net/intel: reduce size of common Tx queue From: dpdklab@iol.unh.edu To: Test Report Cc: dpdk-test-reports@iol.unh.edu In-Reply-To: <20250514125733.1364644-1-shaiq.wani@intel.com> References: <20250514125733.1364644-1-shaiq.wani@intel.com> Content-Type: text/plain X-BeenThere: test-report@dpdk.org X-Mailman-Version: 2.1.29 Precedence: list List-Id: automatic DPDK test reports List-Unsubscribe: , List-Archive: List-Post: List-Help: List-Subscribe: , Errors-To: test-report-bounces@dpdk.org Test-Label: iol-compile-arm64-testing Test-Status: SUCCESS http://dpdk.org/patch/153439 _Testing PASS_ Submitter: Shaiq Wani Date: Wednesday, May 14 2025 12:57:33 DPDK git baseline: Repo:dpdk Branch: master CommitID:5b3328195d3c7cc013eb0d7a0b99ab6791d46a77 153439 --> testing pass Upstream job id: Generic-DPDK-Compile-Meson#387942 Test environment and result as below: +----------------------------------------+--------------------+ | Environment | dpdk_meson_compile | +========================================+====================+ | RHEL9 (ARM) | PASS | +----------------------------------------+--------------------+ | Ubuntu 20.04 ARM GCC Cross Compile | PASS | +----------------------------------------+--------------------+ | Ubuntu 20.04 ARM SVE | PASS | +----------------------------------------+--------------------+ | Fedora 40 (ARM) | PASS | +----------------------------------------+--------------------+ | Debian 12 with MUSDK | PASS | +----------------------------------------+--------------------+ | Fedora 40 (ARM Clang) | PASS | +----------------------------------------+--------------------+ | Fedora 41 (ARM) | PASS | +----------------------------------------+--------------------+ | Fedora 41 (ARM Clang) | PASS | +----------------------------------------+--------------------+ | Ubuntu 20.04 (ARM) | PASS | +----------------------------------------+--------------------+ | Ubuntu 22.04 (ARM) | PASS | +----------------------------------------+--------------------+ | Ubuntu 24.04 (ARM) | PASS | +----------------------------------------+--------------------+ | CentOS Stream 9 (ARM) | PASS | +----------------------------------------+--------------------+ | CentOS Stream 10 (ARM) | PASS | +----------------------------------------+--------------------+ | Debian 12 (arm) | PASS | +----------------------------------------+--------------------+ | Ubuntu 20.04 ARM Clang Cross Compile | PASS | +----------------------------------------+--------------------+ | Ubuntu 20.04 aarch32 GCC Cross Compile | PASS | +----------------------------------------+--------------------+ RHEL9 (ARM) Kernel: Depends on container host Compiler: gcc 11.5.0 20240719 (Red Hat 11.5.0-2) Ubuntu 20.04 ARM GCC Cross Compile Kernel: Depends on container host Compiler: aarch64-linux-gnu-gcc (Ubuntu 9.4.0-1ubuntu1~20.04.2) 9.4.0 Ubuntu 20.04 ARM SVE Kernel: Depends on container host Compiler: gcc (Ubuntu 10.5.0-1ubuntu1~20.04) 10.5.0 Fedora 40 (ARM) Kernel: Depends on container host Compiler: gcc 14.2.1 20240912 (Red Hat 14.2.1-3) Debian 12 with MUSDK Kernel: Depends on container host Compiler: gcc (Debian 12.2.0-14) 12.2.0 Fedora 40 (ARM Clang) Kernel: Depends on container host Compiler: clang 18.1.8 (Fedora 18.1.8-1.fc40) Fedora 41 (ARM) Kernel: Depends on container host Compiler: gcc 14.2.1 20240912 (Red Hat 14.2.1-3) Fedora 41 (ARM Clang) Kernel: Depends on container host Compiler: clang 19.1.5 (Fedora 19.1.5-1.fc41) Ubuntu 20.04 (ARM) Kernel: Depends on container host Compiler: gcc (Ubuntu 9.4.0-1ubuntu1~20.04.2) 9.4.0 Ubuntu 22.04 (ARM) Kernel: Depends on container host Compiler: gcc (Ubuntu 11.4.0-1ubuntu1~22.04) 11.4.0 Ubuntu 24.04 (ARM) Kernel: Depends on container host Compiler: gcc (Ubuntu 13.3.0-6ubuntu2~24.04) 13.3.0 CentOS Stream 9 (ARM) Kernel: Depends on container host Compiler: gcc 11.5.0 20240719 (Red Hat 11.5.0-2) CentOS Stream 10 (ARM) Kernel: Depends on container host Compiler: gcc 14.2.1 20241104 (Red Hat 14.2.1-6) Debian 12 (arm) Kernel: Depends on container host Compiler: gcc (Debian 12.2.0-14) 12.2.0 Ubuntu 20.04 ARM Clang Cross Compile Kernel: Depends on container host Compiler: clang 10.0.0-4ubuntu1 Ubuntu 20.04 aarch32 GCC Cross Compile Kernel: Depends on container host Compiler: gcc 9.4.0 To view detailed results, visit: https://lab.dpdk.org/results/dashboard/patchsets/33172/ UNH-IOL DPDK Community Lab To manage your email subscriptions, visit: https://lab.dpdk.org/results/dashboard/preferences/subscriptions/