From mboxrd@z Thu Jan 1 00:00:00 1970 Return-Path: Received: from mails.dpdk.org (mails.dpdk.org [217.70.189.124]) by inbox.dpdk.org (Postfix) with ESMTP id 3E66046749 for ; Wed, 14 May 2025 21:40:31 +0200 (CEST) Received: from mails.dpdk.org (localhost [127.0.0.1]) by mails.dpdk.org (Postfix) with ESMTP id 0B1F9402DC; Wed, 14 May 2025 21:40:31 +0200 (CEST) Received: from mail-pf1-f228.google.com (mail-pf1-f228.google.com [209.85.210.228]) by mails.dpdk.org (Postfix) with ESMTP id 22D20402C8 for ; Wed, 14 May 2025 21:40:30 +0200 (CEST) Received: by mail-pf1-f228.google.com with SMTP id d2e1a72fcca58-742596d8b95so294974b3a.1 for ; Wed, 14 May 2025 12:40:30 -0700 (PDT) DKIM-Signature: v=1; a=rsa-sha256; c=relaxed/relaxed; d=iol.unh.edu; s=unh-iol; t=1747251629; x=1747856429; darn=dpdk.org; h=references:in-reply-to:cc:to:from:subject:message-id:date:from:to :cc:subject:date:message-id:reply-to; bh=RcYPG2Ks7e4mOy92tcRFn1cxVXyROMRvt2U6JdslcfM=; b=VqcNOnlwiSkbgdS4E0XtQW5qsjvazjO/4tyQiF5XFa0wDgGyoQwb8llwVCXyxFKFRq VHb7gYB+Orsobozj3r3EDqxIqTI5ogjin++MpDHuskheUg4pLqzK6YFnsF7UlyZNvk/S JOb+NE4jEiJMsLX62JzcQeaXfdFQ5qU4MTWBw= X-Google-DKIM-Signature: v=1; a=rsa-sha256; c=relaxed/relaxed; d=1e100.net; s=20230601; t=1747251629; x=1747856429; h=references:in-reply-to:cc:to:from:subject:message-id:date :x-gm-message-state:from:to:cc:subject:date:message-id:reply-to; bh=RcYPG2Ks7e4mOy92tcRFn1cxVXyROMRvt2U6JdslcfM=; b=Pv+9noAqiJIdsNCmJPVf5sICJgPyzd85hhzJnweUiqNfe73URYwaBlIDhuuk27ZYPI 3LcDxNM3PJz+L7eN2kaebN2hanaIO6M3+X2m2u51Q7ZzD6K22xeA3WziH1ydZV8Uv7Oy tRsngChvEKn0W2NH2FTR5xtkEYLU/IU/pOV7Qb6EQiAXoiSnIUKxqIsdE14ATBk1dVj8 fFA6+f67HjMNz2+ifIUqRlKR9R4ddxxoZQXt/p5GzmsbaCcPkIEQ8hYA736LW7wje/z/ B3qMZMNQKmUFHaj36Ia/OCOk76wHp0e67+T3lLkq1xrEHhOyeaPhOZG2R8zDtkrI00kJ py/g== X-Gm-Message-State: AOJu0YyQqP2NIEGTwBxoq1V21Bzq/aQJzC2u9B3LG6SnR4bOdaXsiIIP Z4hIDscibWBLyEGfC0Xapj1gjlqC6FcxbMoFLyyFYcu60hBFuovtS6iD0XdSaNXbs0pbHW/ziRX OMIoaPQViOLQqEdj6tKbtGl97h6076Z6TKGsHNAa7HOFqMbBBab7riFWZ X-Gm-Gg: ASbGncsSf2zJA5Q3HcWytscq5AwNfBrOsXr0N8T6eKofgEjfiQ/ieP2pzuECYi/DOX4 T2lp/GdvVVEI46nLpa+x+Au3MRgA3y84Tc3l7CdH8m4lJSKolMSg0W70ZkyMFwU2qxFeoM/RRcy bTYCIIVlND3aZzGs0J8AWeY1uXwbSbueooL3UaFGhbrZrGu/Sfe2ct5J6EaoB/wtmQf0ztSGdJ4 TFEbCRGVw6BzplhAQXELiPDYPpXSqu/50VNa5Rz2hPOLOnEhs4Ayx0LNLLrGCsIhVXxvrelou50 bpKKn0+WHBkVQYl0ocIJR0KE7l43q55r46Us X-Google-Smtp-Source: AGHT+IFhQNMQvPW6JbLznVipiN5rxokdZ7QmAA3FHw9UnUDpPYMjpxYhHYIKQrnONRLJtWW+Nc9/sKvoQ67o X-Received: by 2002:a05:6a00:c90:b0:73f:eeb:84bb with SMTP id d2e1a72fcca58-74289337d48mr6721622b3a.19.1747251628943; Wed, 14 May 2025 12:40:28 -0700 (PDT) Received: from postal.iol.unh.edu (postal.iol.unh.edu. [2606:4100:3880:1234::84]) by smtp-relay.gmail.com with ESMTPS id d2e1a72fcca58-74237727a8esm638634b3a.9.2025.05.14.12.40.28 (version=TLS1_2 cipher=ECDHE-ECDSA-AES128-GCM-SHA256 bits=128/128); Wed, 14 May 2025 12:40:28 -0700 (PDT) X-Relaying-Domain: iol.unh.edu Date: Wed, 14 May 2025 12:40:28 -0700 (PDT) Message-ID: <6824f1ac.050a0220.215231.1cb0SMTPIN_ADDED_MISSING@mx.google.com> Received: from [172.17.0.5] (unknown [172.18.0.74]) by postal.iol.unh.edu (Postfix) with ESMTP id 2C6746052471; Wed, 14 May 2025 15:40:28 -0400 (EDT) Subject: |SUCCESS| pw153442 [PATCH] net/ice: fix flow creation failure From: dpdklab@iol.unh.edu To: Test Report Cc: dpdk-test-reports@iol.unh.edu In-Reply-To: <20250514181530.5385-1-dhanya.r.pillai@intel.com> References: <20250514181530.5385-1-dhanya.r.pillai@intel.com> Content-Type: text/plain X-BeenThere: test-report@dpdk.org X-Mailman-Version: 2.1.29 Precedence: list List-Id: automatic DPDK test reports List-Unsubscribe: , List-Archive: List-Post: List-Help: List-Subscribe: , Errors-To: test-report-bounces@dpdk.org Test-Label: iol-unit-amd64-testing Test-Status: SUCCESS http://dpdk.org/patch/153442 _Testing PASS_ Submitter: Dhanya Pillai Date: Wednesday, May 14 2025 18:15:26 DPDK git baseline: Repo:dpdk Branch: master CommitID:5b3328195d3c7cc013eb0d7a0b99ab6791d46a77 153442 --> testing pass Upstream job id: Generic-Unit-Test-DPDK#337780 Test environment and result as below: +---------------------+----------------+ | Environment | dpdk_unit_test | +=====================+================+ | CentOS Stream 10 | PASS | +---------------------+----------------+ | CentOS Stream 9 | PASS | +---------------------+----------------+ | Fedora 40 (Clang) | PASS | +---------------------+----------------+ | Fedora 40 | PASS | +---------------------+----------------+ | Debian 12 | PASS | +---------------------+----------------+ | Ubuntu 24.04 | PASS | +---------------------+----------------+ | RHEL9 | PASS | +---------------------+----------------+ | Fedora 41 | PASS | +---------------------+----------------+ | Ubuntu 20.04 | PASS | +---------------------+----------------+ | Ubuntu 22.04 | PASS | +---------------------+----------------+ | RHEL8 | PASS | +---------------------+----------------+ | Fedora 41 (Clang) | PASS | +---------------------+----------------+ | Windows Server 2022 | PASS | +---------------------+----------------+ CentOS Stream 10 Kernel: Depends on container host Compiler: gcc 14.2.1 20241104 (Red Hat 14.2.1-6) CentOS Stream 9 Kernel: Depends on container host Compiler: gcc 11.5.0 20240719 (Red Hat 11.5.0-2) Fedora 40 (Clang) Kernel: Depends on container host Compiler: clang 18.1.8 (Fedora 18.1.8-1.fc40) Fedora 40 Kernel: Depends on container host Compiler: gcc 14.2.1 20240912 (Red Hat 14.2.1-3) Debian 12 Kernel: Depends on container host Compiler: gcc (Debian 12.2.0-14) 12.2.0 Ubuntu 24.04 Kernel: Depends on container host Compiler: gcc (Ubuntu 13.3.0-6ubuntu2~24.04) 13.3.0 RHEL9 Kernel: Depends on container host Compiler: gcc 11.5.0 20240719 (Red Hat 11.5.0-2) Fedora 41 Kernel: Depends on container host Compiler: gcc 14.2.1 20240912 (Red Hat 14.2.1-3) Ubuntu 20.04 Kernel: Depends on container host Compiler: gcc (Ubuntu 9.4.0-1ubuntu1~20.04.2) 9.4.0 Ubuntu 22.04 Kernel: Depends on container host Compiler: gcc (Ubuntu 11.4.0-1ubuntu1~22.04) 11.4.0 RHEL8 Kernel: Depends on container host Compiler: gcc 8.5.0 20210514 (Red Hat 8.5.0-22) Fedora 41 (Clang) Kernel: Depends on container host Compiler: clang 19.1.5 (Fedora 19.1.5-1.fc41) Windows Server 2022 Kernel: 10.0.20348.2031 Compiler: clang 15.0.7, gcc 14.1.0 (MinGW), and MSVC VS 19.39.33521 To view detailed results, visit: https://lab.dpdk.org/results/dashboard/patchsets/33173/ UNH-IOL DPDK Community Lab To manage your email subscriptions, visit: https://lab.dpdk.org/results/dashboard/preferences/subscriptions/