From: dpdklab@iol.unh.edu
To: Test Report <test-report@dpdk.org>
Cc: dpdk-test-reports@iol.unh.edu
Subject: |SUCCESS| pw153442 [PATCH] net/ice: fix flow creation failure
Date: Wed, 14 May 2025 12:41:34 -0700 (PDT) [thread overview]
Message-ID: <6824f1ee.050a0220.33477d.7d98SMTPIN_ADDED_MISSING@mx.google.com> (raw)
In-Reply-To: <20250514181530.5385-1-dhanya.r.pillai@intel.com>
Test-Label: iol-sample-apps-testing
Test-Status: SUCCESS
http://dpdk.org/patch/153442
_Testing PASS_
Submitter: Dhanya Pillai <dhanya.r.pillai@intel.com>
Date: Wednesday, May 14 2025 18:15:26
DPDK git baseline: Repo:dpdk
Branch: master
CommitID:5b3328195d3c7cc013eb0d7a0b99ab6791d46a77
153442 --> testing pass
Upstream job id: ACVP-FIPS-testing#9809
Test environment and result as below:
+--------------------+----------------------+----------------------+
| Environment | dpdk_fips_validation | compressdev_zlib_pmd |
+====================+======================+======================+
| Ubuntu 20.04 | PASS | SKIPPED |
+--------------------+----------------------+----------------------+
| Ubuntu 22.04 (ARM) | SKIPPED | PASS |
+--------------------+----------------------+----------------------+
Ubuntu 20.04
Kernel: Depends on container host
Compiler: gcc (Ubuntu 9.4.0-1ubuntu1~20.04.2) 9.4.0
Ubuntu 22.04 (ARM)
Kernel: 5.15.0-97-generic
Compiler: gcc gcc (Ubuntu 11.4.0-1ubuntu1~22.04) 11.4.0
To view detailed results, visit:
https://lab.dpdk.org/results/dashboard/patchsets/33173/
UNH-IOL DPDK Community Lab
To manage your email subscriptions, visit:
https://lab.dpdk.org/results/dashboard/preferences/subscriptions/
next prev parent reply other threads:[~2025-05-14 19:41 UTC|newest]
Thread overview: 25+ messages / expand[flat|nested] mbox.gz Atom feed top
[not found] <20250514181530.5385-1-dhanya.r.pillai@intel.com>
2025-05-14 17:53 ` qemudev
2025-05-14 17:57 ` qemudev
2025-05-14 18:15 ` checkpatch
2025-05-14 19:04 ` 0-day Robot
2025-05-14 19:07 ` |PENDING| " dpdklab
2025-05-14 19:08 ` dpdklab
2025-05-14 19:08 ` dpdklab
2025-05-14 19:17 ` |SUCCESS| " dpdklab
2025-05-14 19:18 ` |PENDING| " dpdklab
2025-05-14 19:23 ` dpdklab
2025-05-14 19:25 ` dpdklab
2025-05-14 19:26 ` |SUCCESS| " dpdklab
2025-05-14 19:29 ` dpdklab
2025-05-14 19:29 ` dpdklab
2025-05-14 19:33 ` dpdklab
2025-05-14 19:40 ` dpdklab
2025-05-14 19:41 ` dpdklab [this message]
2025-05-14 19:43 ` dpdklab
2025-05-14 19:49 ` dpdklab
2025-05-14 19:51 ` dpdklab
2025-05-14 19:56 ` dpdklab
2025-05-14 19:57 ` |WARNING| " dpdklab
2025-05-14 20:05 ` |SUCCESS| " dpdklab
2025-05-14 20:18 ` dpdklab
2025-05-14 22:19 ` dpdklab
Reply instructions:
You may reply publicly to this message via plain-text email
using any one of the following methods:
* Save the following mbox file, import it into your mail client,
and reply-to-all from there: mbox
Avoid top-posting and favor interleaved quoting:
https://en.wikipedia.org/wiki/Posting_style#Interleaved_style
* Reply using the --to, --cc, and --in-reply-to
switches of git-send-email(1):
git send-email \
--in-reply-to=6824f1ee.050a0220.33477d.7d98SMTPIN_ADDED_MISSING@mx.google.com \
--to=dpdklab@iol.unh.edu \
--cc=dpdk-test-reports@iol.unh.edu \
--cc=test-report@dpdk.org \
/path/to/YOUR_REPLY
https://kernel.org/pub/software/scm/git/docs/git-send-email.html
* If your mail client supports setting the In-Reply-To header
via mailto: links, try the mailto: link
Be sure your reply has a Subject: header at the top and a blank line
before the message body.
This is a public inbox, see mirroring instructions
for how to clone and mirror all data and code used for this inbox;
as well as URLs for NNTP newsgroup(s).