From mboxrd@z Thu Jan 1 00:00:00 1970 Return-Path: Received: from mails.dpdk.org (mails.dpdk.org [217.70.189.124]) by inbox.dpdk.org (Postfix) with ESMTP id 44F8B46746 for ; Wed, 14 May 2025 21:49:59 +0200 (CEST) Received: from mails.dpdk.org (localhost [127.0.0.1]) by mails.dpdk.org (Postfix) with ESMTP id 0E5B9402DC; Wed, 14 May 2025 21:49:59 +0200 (CEST) Received: from mail-io1-f97.google.com (mail-io1-f97.google.com [209.85.166.97]) by mails.dpdk.org (Postfix) with ESMTP id 56741402C8 for ; Wed, 14 May 2025 21:49:58 +0200 (CEST) Received: by mail-io1-f97.google.com with SMTP id ca18e2360f4ac-861b1f04b99so4649539f.0 for ; Wed, 14 May 2025 12:49:58 -0700 (PDT) DKIM-Signature: v=1; a=rsa-sha256; c=relaxed/relaxed; d=iol.unh.edu; s=unh-iol; t=1747252197; x=1747856997; darn=dpdk.org; h=references:in-reply-to:cc:to:from:subject:message-id:date:from:to :cc:subject:date:message-id:reply-to; bh=JImWCRhsKJhsj+HmKfI5UpTz5+jTNkdte43g8xE/C7o=; b=HZIraOkhwlaPzcnOTwrL9uaEUgf2iRCi7txshKDVuc1NVrdJhE6b+WYtF9ZO4o9QiA 7a5QyJ3kg4w4ZWJNNe/ZIrGCIbGiqSH8ZurXc6A4jTUtljWRnCmP+F8F+Fg2rQRVM+6s TsE5W85hfFum+PhLRCOSbnlDWCLDb2bwY7cGg= X-Google-DKIM-Signature: v=1; a=rsa-sha256; c=relaxed/relaxed; d=1e100.net; s=20230601; t=1747252197; x=1747856997; h=references:in-reply-to:cc:to:from:subject:message-id:date :x-gm-message-state:from:to:cc:subject:date:message-id:reply-to; bh=JImWCRhsKJhsj+HmKfI5UpTz5+jTNkdte43g8xE/C7o=; b=kNeX2qLm/MpubIjV9Y43tUV29TfRb0pYX5PzyZH9I7EEfYTQp2HxyFlGSeihAON0Hq uZ8JkACX78AUX2Xg1V8Sr8VB/6/SeAVvAnkBsONSoM86yRzFJuX+JzsVtxWTp8KskDcG vJQO4XpYSeqHY/wAlDjvJQt1wLd05Jmy+7vXoT3pXtWm2pvysNAOVK3mO1otamkbdE7v 2Cj5zouhy9ZtVuhtqVTR9t/nyaqfx5bu0k4jh4GjwJJBfPCIRI2shGZe3VUbFDznEP/t hLFloIXTVTZSjpCPHCPRo8jWShrttGJGBp0dFcDo4nqOHsfBnDZ+WE2MYTa/tdvF2Cvt OQaA== X-Gm-Message-State: AOJu0YwcF318syY1E7J2dBKGA8zbHWNo3idMRagDxAEUxFgDKzBxhMqM SbtZ861kVOBsA3o6AGSZDoOBVzMSZ5C623Ddc2AoWXd+UFT3gKYYlzppZG9Bw8tpbZ5fyBRO2ML TkjzFQJOeYDV82Gkrsl8Y73uUhf4DAZbnarmeo65l X-Gm-Gg: ASbGncsqF0p7vyFtpf4Aomd+IybEP+CBcQLEaHz44fW1mFBuTysa18bVgYGaO/YQg7Q r+NGnTvSsuBIGMXUWp9Jnalsk6Y0Wf0An2WRsAT7BrD2Kh11Oaz7fIKS4sI1cf26EBr1W9jIhAb +sSuEOX/KDQYjjMxS+icpdvj7M1oSg5d/JT4a6wOtrsPb4z0NAKtfoUXdSe0I8mHcHGjINM0mvy 10QcJEUpj0u3SfeQO8EapAYsj9MbP9cGzNyrFqqEysO5eHHmqUSVY1wSmFNK5Yn0FupCgwKWSpb CKt8J6PM+a4SlvEp1mV7pT7OSZwW8lleQiQRXAD9mRLT93DTP+hRFRq54g8= X-Google-Smtp-Source: AGHT+IFnVWwpnZv0qF6BQhjl1yeoSuup3aXo3sw+8pRiyEox5CaBT3Ua0kXPybXD1LioCjAD7ROQbMvdzZA6 X-Received: by 2002:a05:6e02:470f:b0:3da:715a:dde4 with SMTP id e9e14a558f8ab-3db6f7acf65mr47721155ab.9.1747252197454; Wed, 14 May 2025 12:49:57 -0700 (PDT) Received: from postal.iol.unh.edu (postal.iol.unh.edu. [132.177.123.84]) by smtp-relay.gmail.com with ESMTPS id e9e14a558f8ab-3db6fa26433sm1471785ab.31.2025.05.14.12.49.57 (version=TLS1_2 cipher=ECDHE-ECDSA-AES128-GCM-SHA256 bits=128/128); Wed, 14 May 2025 12:49:57 -0700 (PDT) X-Relaying-Domain: iol.unh.edu Date: Wed, 14 May 2025 12:49:57 -0700 (PDT) Message-ID: <6824f3e5.050a0220.1c2562.7974SMTPIN_ADDED_MISSING@mx.google.com> Received: from [172.17.0.5] (unknown [172.18.0.74]) by postal.iol.unh.edu (Postfix) with ESMTP id E2B2C6052471; Wed, 14 May 2025 15:49:56 -0400 (EDT) Subject: |SUCCESS| pw153442 [PATCH] net/ice: fix flow creation failure From: dpdklab@iol.unh.edu To: Test Report Cc: dpdk-test-reports@iol.unh.edu In-Reply-To: <20250514181530.5385-1-dhanya.r.pillai@intel.com> References: <20250514181530.5385-1-dhanya.r.pillai@intel.com> Content-Type: text/plain X-BeenThere: test-report@dpdk.org X-Mailman-Version: 2.1.29 Precedence: list List-Id: automatic DPDK test reports List-Unsubscribe: , List-Archive: List-Post: List-Help: List-Subscribe: , Errors-To: test-report-bounces@dpdk.org Test-Label: iol-abi-testing Test-Status: SUCCESS http://dpdk.org/patch/153442 _Testing PASS_ Submitter: Dhanya Pillai Date: Wednesday, May 14 2025 18:15:26 DPDK git baseline: Repo:dpdk Branch: master CommitID:5b3328195d3c7cc013eb0d7a0b99ab6791d46a77 153442 --> testing pass Upstream job id: Generic-DPDK-Compile-ABI#126366 Test environment and result as below: +-------------------+----------+ | Environment | abi_test | +===================+==========+ | CentOS Stream 9 | PASS | +-------------------+----------+ | Debian 12 | PASS | +-------------------+----------+ | CentOS Stream 10 | PASS | +-------------------+----------+ | openSUSE Leap 15 | PASS | +-------------------+----------+ | Fedora 40 | PASS | +-------------------+----------+ | Fedora 40 (Clang) | PASS | +-------------------+----------+ | Fedora 41 (Clang) | PASS | +-------------------+----------+ | Fedora 41 | PASS | +-------------------+----------+ | RHEL8 | PASS | +-------------------+----------+ | Ubuntu 24.04 | PASS | +-------------------+----------+ | RHEL9 | PASS | +-------------------+----------+ | Ubuntu 22.04 | PASS | +-------------------+----------+ CentOS Stream 9 Kernel: Depends on container host Compiler: gcc 11.5.0 20240719 (Red Hat 11.5.0-2) Debian 12 Kernel: Depends on container host Compiler: gcc (Debian 12.2.0-14) 12.2.0 CentOS Stream 10 Kernel: Depends on container host Compiler: gcc 14.2.1 20241104 (Red Hat 14.2.1-6) openSUSE Leap 15 Kernel: Depends on container host Compiler: gcc (SUSE Linux) 7.5.0 Fedora 40 Kernel: Depends on container host Compiler: gcc 14.2.1 20240912 (Red Hat 14.2.1-3) Fedora 40 (Clang) Kernel: Depends on container host Compiler: clang 18.1.8 (Fedora 18.1.8-1.fc40) Fedora 41 (Clang) Kernel: Depends on container host Compiler: clang 19.1.5 (Fedora 19.1.5-1.fc41) Fedora 41 Kernel: Depends on container host Compiler: gcc 14.2.1 20240912 (Red Hat 14.2.1-3) RHEL8 Kernel: Depends on container host Compiler: gcc 8.5.0 20210514 (Red Hat 8.5.0-22) Ubuntu 24.04 Kernel: Depends on container host Compiler: gcc (Ubuntu 13.3.0-6ubuntu2~24.04) 13.3.0 RHEL9 Kernel: Depends on container host Compiler: gcc 11.5.0 20240719 (Red Hat 11.5.0-2) Ubuntu 22.04 Kernel: Depends on container host Compiler: gcc (Ubuntu 11.4.0-1ubuntu1~22.04) 11.4.0 To view detailed results, visit: https://lab.dpdk.org/results/dashboard/patchsets/33173/ UNH-IOL DPDK Community Lab To manage your email subscriptions, visit: https://lab.dpdk.org/results/dashboard/preferences/subscriptions/