From mboxrd@z Thu Jan 1 00:00:00 1970 Return-Path: Received: from mails.dpdk.org (mails.dpdk.org [217.70.189.124]) by inbox.dpdk.org (Postfix) with ESMTP id 63C8846749 for ; Wed, 14 May 2025 21:52:00 +0200 (CEST) Received: from mails.dpdk.org (localhost [127.0.0.1]) by mails.dpdk.org (Postfix) with ESMTP id 4898E402DC; Wed, 14 May 2025 21:52:00 +0200 (CEST) Received: from mail-pf1-f227.google.com (mail-pf1-f227.google.com [209.85.210.227]) by mails.dpdk.org (Postfix) with ESMTP id 3F0AE402C8 for ; Wed, 14 May 2025 21:51:59 +0200 (CEST) Received: by mail-pf1-f227.google.com with SMTP id d2e1a72fcca58-7376dd56f8fso315160b3a.2 for ; Wed, 14 May 2025 12:51:59 -0700 (PDT) DKIM-Signature: v=1; a=rsa-sha256; c=relaxed/relaxed; d=iol.unh.edu; s=unh-iol; t=1747252318; x=1747857118; darn=dpdk.org; h=references:in-reply-to:cc:to:from:subject:message-id:date:from:to :cc:subject:date:message-id:reply-to; bh=4NeWqazn3bT6C3i1Hi0U8pFwZwgMZGYd/nHkOSMWgo8=; b=T8pGJlEncn3IO63sF4VCe+t1T4cjsMkHyI7kielL2yZ4w/Z/NT24MJtBM3Kv+SstNC 3EnjEJkk/W9qlUOfoZllD14IzFYO4ujwZCLAQtF/lONcbsgVwh/GhIC98NwEBT7j34Pk uHNlu1+jx13O+X+nbdOsCRSojvPpzGkPd7fa8= X-Google-DKIM-Signature: v=1; a=rsa-sha256; c=relaxed/relaxed; d=1e100.net; s=20230601; t=1747252318; x=1747857118; h=references:in-reply-to:cc:to:from:subject:message-id:date :x-gm-message-state:from:to:cc:subject:date:message-id:reply-to; bh=4NeWqazn3bT6C3i1Hi0U8pFwZwgMZGYd/nHkOSMWgo8=; b=F0cFcYszpMdfXK29Wrz72h7gIeLA09wWEgLpSqXfQrZ9gwxH+VOwP/bl2xv/OyTpuZ V565V2hhMaYaP1fmVkkKRM3Bx/EPIN6agb0H4/YJdG/QiQjZwN5qOicPtCWzm66CgH7s kJr4uu5Q8HBll6U6nd5SH74mFksz37e7A83PpC16vzzEYecZk4DRLeEnzXyeyKdDbZek BI6kbh0/Sia9z7tSJJFVbS4htu0ykF248mEEsKVNlUulLDK0M6sdJl1S3snycIvbYbNF DtBKHH4h2fbkKH/EoTWlsldFY+EM0fhtlPWeR9gPyIYHw79xYI6EWs1Ul3cEFc9BwBJc u/qg== X-Gm-Message-State: AOJu0YyMYAugu3w1a5ZKYxqBpUn3Yo4xoM1ptzDeCgiOHdDbG1X7NwAU mF7xv6XbO0tSDGQSxDiVvU2bvq5oVL+PPVzK1lYKDVBgS/2hQ86Cwkvph4hmtEzLVUEkCBihrsy U6G6qYW6s4IG20ICM9kCuiGzpaOK5drCxBJL0oYa8R4DebL/W5LHZpIVG X-Gm-Gg: ASbGncvrEnH+GB3WsrXi3xtAttP90c3v6jCA5jKmzcCJ62hVO8Jd7GM5cK+iX8VZX9I mh5VK3+qOpcb5xv0wzlOKHjR0/Cs2+NSzrWLop0OL/I1UNHVigOHCekvmvI7eJtLFMCYEq2AZe1 NdeyHnQmPjIW3mpmgOoZpcIbv9CPOQN8TmKJRI9U9G7ujJXDZJ7saJGwu/4pikNPwXjPTQ1lpPI /Et1FP0Upn+BmOG6mp71jykhQXG/Picl/YKqT+NytrwRkAXVyHtbIi/Pz3CcnRGrK2h8zGStcyU uvTsolP/djtb6LKHuwyp21lI2VuGv4vy6neI X-Google-Smtp-Source: AGHT+IEe+SHojSiJI1uAIa0GMrriX6kupHA3En/j+o0TalQ6gq7Mcet3jr6TrAsUo7XaKEGolS2LMez9mvXJ X-Received: by 2002:a05:6a00:22c9:b0:740:921a:3cb4 with SMTP id d2e1a72fcca58-742892ccd52mr5933404b3a.13.1747252318223; Wed, 14 May 2025 12:51:58 -0700 (PDT) Received: from postal.iol.unh.edu (postal.iol.unh.edu. [2606:4100:3880:1234::84]) by smtp-relay.gmail.com with ESMTPS id d2e1a72fcca58-742377279ecsm695096b3a.10.2025.05.14.12.51.58 (version=TLS1_2 cipher=ECDHE-ECDSA-AES128-GCM-SHA256 bits=128/128); Wed, 14 May 2025 12:51:58 -0700 (PDT) X-Relaying-Domain: iol.unh.edu Date: Wed, 14 May 2025 12:51:58 -0700 (PDT) Message-ID: <6824f45e.050a0220.e1c61.5c96SMTPIN_ADDED_MISSING@mx.google.com> Received: from [172.17.0.5] (unknown [172.18.0.74]) by postal.iol.unh.edu (Postfix) with ESMTP id 63CDD6052471; Wed, 14 May 2025 15:51:57 -0400 (EDT) Subject: |SUCCESS| pw153442 [PATCH] net/ice: fix flow creation failure From: dpdklab@iol.unh.edu To: Test Report Cc: dpdk-test-reports@iol.unh.edu In-Reply-To: <20250514181530.5385-1-dhanya.r.pillai@intel.com> References: <20250514181530.5385-1-dhanya.r.pillai@intel.com> Content-Type: text/plain X-BeenThere: test-report@dpdk.org X-Mailman-Version: 2.1.29 Precedence: list List-Id: automatic DPDK test reports List-Unsubscribe: , List-Archive: List-Post: List-Help: List-Subscribe: , Errors-To: test-report-bounces@dpdk.org Test-Label: iol-sample-apps-testing Test-Status: SUCCESS http://dpdk.org/patch/153442 _Testing PASS_ Submitter: Dhanya Pillai Date: Wednesday, May 14 2025 18:15:26 DPDK git baseline: Repo:dpdk Branch: master CommitID:5b3328195d3c7cc013eb0d7a0b99ab6791d46a77 153442 --> testing pass Upstream job id: Template-DTS-Pipeline#225786 Test environment and result as below: +--------------------+----------------------+----------------------+ | Environment | dpdk_fips_validation | compressdev_zlib_pmd | +====================+======================+======================+ | Ubuntu 20.04 | PASS | SKIPPED | +--------------------+----------------------+----------------------+ | Ubuntu 22.04 (ARM) | SKIPPED | PASS | +--------------------+----------------------+----------------------+ | Ubuntu 22.04 | SKIPPED | PASS | +--------------------+----------------------+----------------------+ Ubuntu 20.04 Kernel: Depends on container host Compiler: gcc (Ubuntu 9.4.0-1ubuntu1~20.04.2) 9.4.0 Ubuntu 22.04 (ARM) Kernel: 5.15.0-97-generic Compiler: gcc gcc (Ubuntu 11.4.0-1ubuntu1~22.04) 11.4.0 Ubuntu 22.04 Kernel: 5.15.0-100-generic Compiler: gcc gcc (Ubuntu 11.4.0-1ubuntu1~22.04) 11.4.0 To view detailed results, visit: https://lab.dpdk.org/results/dashboard/patchsets/33173/ UNH-IOL DPDK Community Lab To manage your email subscriptions, visit: https://lab.dpdk.org/results/dashboard/preferences/subscriptions/