From mboxrd@z Thu Jan 1 00:00:00 1970 Return-Path: Received: from mails.dpdk.org (mails.dpdk.org [217.70.189.124]) by inbox.dpdk.org (Postfix) with ESMTP id 9046D4674A for ; Wed, 14 May 2025 22:05:02 +0200 (CEST) Received: from mails.dpdk.org (localhost [127.0.0.1]) by mails.dpdk.org (Postfix) with ESMTP id 6C209402DC; Wed, 14 May 2025 22:05:02 +0200 (CEST) Received: from mail-pj1-f99.google.com (mail-pj1-f99.google.com [209.85.216.99]) by mails.dpdk.org (Postfix) with ESMTP id 9EA80402C8 for ; Wed, 14 May 2025 22:05:01 +0200 (CEST) Received: by mail-pj1-f99.google.com with SMTP id 98e67ed59e1d1-30e0fa34d55so234753a91.1 for ; Wed, 14 May 2025 13:05:01 -0700 (PDT) DKIM-Signature: v=1; a=rsa-sha256; c=relaxed/relaxed; d=iol.unh.edu; s=unh-iol; t=1747253100; x=1747857900; darn=dpdk.org; h=references:in-reply-to:cc:to:from:subject:message-id:date:from:to :cc:subject:date:message-id:reply-to; bh=NDjOA1LkttXrNr69gAl2jI9+n6Zg45vX0ZKBGsDKdas=; b=gvhx2puovjGxKZ9BeUfEEAHpnaY6XKpGlYuMRvehBp5cNd74ATP+2vrcbDqoYuKVVA RfdRDqAriBZ8lY1CJDNCESblxfKmCutM5bSfAR4dlLSfvqbvFerv5Y/KtglFXcNWyYYP Z+9loJVuD5c6ewGcYdg6LJEUuM6w3xKHl+Z6U= X-Google-DKIM-Signature: v=1; a=rsa-sha256; c=relaxed/relaxed; d=1e100.net; s=20230601; t=1747253100; x=1747857900; h=references:in-reply-to:cc:to:from:subject:message-id:date :x-gm-message-state:from:to:cc:subject:date:message-id:reply-to; bh=NDjOA1LkttXrNr69gAl2jI9+n6Zg45vX0ZKBGsDKdas=; b=uMCu2KQMeylzhrlDub1RkSS9oaLYL/EZt/Qfyf+bTkvyEm9yy18eWyhp9iz0Zkn6HW pfpfZoLJy5DKrc71o2WaBfGch7RccbzbKV43fUa/RLnUwIZcZZd3kJmkfKu9k0HlCILO ML7NfhuaK10Fg7ZLwhv/4EPdR7boQ0dzD2kderaW0gk595doBwC+6AyFk2EmzB/XT0Pa eJg7RzH0RHKvA36asOnLrpJn9QVxXHzqinvBb3Cp8dkVLeOlyd1gH2ppWRd1b24gusEt PvSudXIe6y1AtasQ39sbX3PAlerNEsR4Dtv4nBCHJJYV9v0HOdIW4++tdJdtXMzdQ6h1 sC+w== X-Gm-Message-State: AOJu0YzMj/j+3D9Ex9cP5QenkOup9Td9cQJsdh6hHupki2vB0sTVrWZG cKP2Masmq/nnE2mkCoCnLyZtXTUIa7n/6wH2m+yMMs80TEy/OsjMvdqBrIHleTP10MR17Itd+IK /qWikNtxlzi6oovCksywTMuRqCxBCSybmHn3SWGkU0O5eHuVdeSIZorRw X-Gm-Gg: ASbGncvmnmysX/ewS4KuMnfBXu5bWCOH8p0NfzdxH+CwiH73KTcLdmk9pJa1bXwqJQc k9TevqODhLgHNd+fmeZIsD/uCHXfmt+uMZ67QFrdu1+2HCubAf/ZitTNGirYGG1YN+Hy5annVMn rlb39vhvpHp+s5LLE7kzbwa3Nn9laQfHBuwmksmopO94GLejzjO9huX5D25EUiu6sY7bcj0OHeJ 9IGH3YLuKIk562wio6kdshtUxHvqnOfCce1mXg6c3bKrju5OgNOrNkoVOHlkideiK+M69Ib+mWk c12xKhZLe9lJxaSdNOdP3ktiILAtugJuDfMB X-Google-Smtp-Source: AGHT+IF2ixnPvX7BJlcIdukfz/+ICBoywe2yfvbYd+F7/UoxUM3cP6VCyhPRQlzCEBeU6xgigBZZbPocudTR X-Received: by 2002:a17:90b:38c9:b0:2ee:af31:a7bd with SMTP id 98e67ed59e1d1-30e2e58756emr6640131a91.5.1747253100613; Wed, 14 May 2025 13:05:00 -0700 (PDT) Received: from postal.iol.unh.edu (postal.iol.unh.edu. [2606:4100:3880:1234::84]) by smtp-relay.gmail.com with ESMTPS id 98e67ed59e1d1-30e334251e3sm164866a91.13.2025.05.14.13.05.00 (version=TLS1_2 cipher=ECDHE-ECDSA-AES128-GCM-SHA256 bits=128/128); Wed, 14 May 2025 13:05:00 -0700 (PDT) X-Relaying-Domain: iol.unh.edu Date: Wed, 14 May 2025 13:05:00 -0700 (PDT) Message-ID: <6824f76c.170a0220.27631d.882cSMTPIN_ADDED_MISSING@mx.google.com> Received: from [172.17.0.2] (unknown [172.18.0.76]) by postal.iol.unh.edu (Postfix) with ESMTP id BE5896052471; Wed, 14 May 2025 16:04:59 -0400 (EDT) Subject: |SUCCESS| pw153442 [PATCH] net/ice: fix flow creation failure From: dpdklab@iol.unh.edu To: Test Report Cc: dpdk-test-reports@iol.unh.edu In-Reply-To: <20250514181530.5385-1-dhanya.r.pillai@intel.com> References: <20250514181530.5385-1-dhanya.r.pillai@intel.com> Content-Type: text/plain X-BeenThere: test-report@dpdk.org X-Mailman-Version: 2.1.29 Precedence: list List-Id: automatic DPDK test reports List-Unsubscribe: , List-Archive: List-Post: List-Help: List-Subscribe: , Errors-To: test-report-bounces@dpdk.org Test-Label: iol-unit-arm64-testing Test-Status: SUCCESS http://dpdk.org/patch/153442 _Testing PASS_ Submitter: Dhanya Pillai Date: Wednesday, May 14 2025 18:15:26 DPDK git baseline: Repo:dpdk Branch: master CommitID:5b3328195d3c7cc013eb0d7a0b99ab6791d46a77 153442 --> testing pass Upstream job id: Generic-Unit-Test-DPDK#337781 Test environment and result as below: +-----------------------------+----------------+--------------+---------------------------+------------------------------+ | Environment | dpdk_unit_test | lpm_autotest | cryptodev_sw_zuc_autotest | cryptodev_sw_snow3g_autotest | +=============================+================+==============+===========================+==============================+ | CentOS Stream 9 (ARM) | PASS | SKIPPED | SKIPPED | SKIPPED | +-----------------------------+----------------+--------------+---------------------------+------------------------------+ | Debian 12 (arm) | PASS | SKIPPED | PASS | PASS | +-----------------------------+----------------+--------------+---------------------------+------------------------------+ | CentOS Stream 10 (ARM) | PASS | SKIPPED | SKIPPED | SKIPPED | +-----------------------------+----------------+--------------+---------------------------+------------------------------+ | Fedora 40 (ARM) | PASS | SKIPPED | SKIPPED | SKIPPED | +-----------------------------+----------------+--------------+---------------------------+------------------------------+ | Fedora 41 (ARM) | PASS | SKIPPED | SKIPPED | SKIPPED | +-----------------------------+----------------+--------------+---------------------------+------------------------------+ | Fedora 40 (ARM Clang) | PASS | SKIPPED | SKIPPED | SKIPPED | +-----------------------------+----------------+--------------+---------------------------+------------------------------+ | Fedora 41 (ARM Clang) | PASS | SKIPPED | SKIPPED | SKIPPED | +-----------------------------+----------------+--------------+---------------------------+------------------------------+ | RHEL9 (ARM) | PASS | SKIPPED | SKIPPED | SKIPPED | +-----------------------------+----------------+--------------+---------------------------+------------------------------+ | Ubuntu 20.04 (ARM) | PASS | SKIPPED | SKIPPED | SKIPPED | +-----------------------------+----------------+--------------+---------------------------+------------------------------+ | Ubuntu 24.04 (ARM) | PASS | SKIPPED | SKIPPED | SKIPPED | +-----------------------------+----------------+--------------+---------------------------+------------------------------+ | Ubuntu 22.04 (ARM) | PASS | SKIPPED | SKIPPED | SKIPPED | +-----------------------------+----------------+--------------+---------------------------+------------------------------+ | 32-bit Ubuntu 22.04.4 (ARM) | PASS | SKIPPED | SKIPPED | SKIPPED | +-----------------------------+----------------+--------------+---------------------------+------------------------------+ | Ubuntu 20.04 ARM SVE | SKIPPED | PASS | SKIPPED | SKIPPED | +-----------------------------+----------------+--------------+---------------------------+------------------------------+ CentOS Stream 9 (ARM) Kernel: Depends on container host Compiler: gcc 11.5.0 20240719 (Red Hat 11.5.0-2) Debian 12 (arm) Kernel: Depends on container host Compiler: gcc (Debian 12.2.0-14) 12.2.0 CentOS Stream 10 (ARM) Kernel: Depends on container host Compiler: gcc 14.2.1 20241104 (Red Hat 14.2.1-6) Fedora 40 (ARM) Kernel: Depends on container host Compiler: gcc 14.2.1 20240912 (Red Hat 14.2.1-3) Fedora 41 (ARM) Kernel: Depends on container host Compiler: gcc 14.2.1 20240912 (Red Hat 14.2.1-3) Fedora 40 (ARM Clang) Kernel: Depends on container host Compiler: clang 18.1.8 (Fedora 18.1.8-1.fc40) Fedora 41 (ARM Clang) Kernel: Depends on container host Compiler: clang 19.1.5 (Fedora 19.1.5-1.fc41) RHEL9 (ARM) Kernel: Depends on container host Compiler: gcc 11.5.0 20240719 (Red Hat 11.5.0-2) Ubuntu 20.04 (ARM) Kernel: Depends on container host Compiler: gcc (Ubuntu 9.4.0-1ubuntu1~20.04.2) 9.4.0 Ubuntu 24.04 (ARM) Kernel: Depends on container host Compiler: gcc (Ubuntu 13.3.0-6ubuntu2~24.04) 13.3.0 Ubuntu 22.04 (ARM) Kernel: Depends on container host Compiler: gcc (Ubuntu 11.4.0-1ubuntu1~22.04) 11.4.0 32-bit Ubuntu 22.04.4 (ARM) Kernel: 5.15.83+ aarch64 Compiler: gcc (Ubuntu 11.4.0-1ubuntu1~22.04) 11.4.0 Ubuntu 20.04 ARM SVE Kernel: Depends on container host Compiler: gcc (Ubuntu 10.5.0-1ubuntu1~20.04) 10.5.0 To view detailed results, visit: https://lab.dpdk.org/results/dashboard/patchsets/33173/ UNH-IOL DPDK Community Lab To manage your email subscriptions, visit: https://lab.dpdk.org/results/dashboard/preferences/subscriptions/