From mboxrd@z Thu Jan 1 00:00:00 1970 Return-Path: Received: from mails.dpdk.org (mails.dpdk.org [217.70.189.124]) by inbox.dpdk.org (Postfix) with ESMTP id 3EFA44674C for ; Thu, 15 May 2025 00:19:20 +0200 (CEST) Received: from mails.dpdk.org (localhost [127.0.0.1]) by mails.dpdk.org (Postfix) with ESMTP id 0EA61402B3; Thu, 15 May 2025 00:19:20 +0200 (CEST) Received: from mail-pl1-f228.google.com (mail-pl1-f228.google.com [209.85.214.228]) by mails.dpdk.org (Postfix) with ESMTP id 278D4402AE for ; Thu, 15 May 2025 00:19:18 +0200 (CEST) Received: by mail-pl1-f228.google.com with SMTP id d9443c01a7336-22fb6eda241so4118995ad.1 for ; Wed, 14 May 2025 15:19:18 -0700 (PDT) DKIM-Signature: v=1; a=rsa-sha256; c=relaxed/relaxed; d=iol.unh.edu; s=unh-iol; t=1747261157; x=1747865957; darn=dpdk.org; h=references:in-reply-to:cc:to:from:subject:message-id:date:from:to :cc:subject:date:message-id:reply-to; bh=F07gUBFs60SQ2SvVVq1mu/I2f3e3fQOOFXqFtWe9Jnk=; b=dFZoBgB3bWjs+LDAw/5rsynqKOkIlfwioF2OQGW+XVQ8Y8ZVPXdGmMV5L2u4IyFoHO XwsWMFVAOXPm+tduQ8IodVcGzW7HOxsHyV6Yb69Qrg0MbtLFLlE4hfv1vTO7S83Admlj rUjYnLmIgmOsZqT64wb6ILHsgwgOfY6y2btZ4= X-Google-DKIM-Signature: v=1; a=rsa-sha256; c=relaxed/relaxed; d=1e100.net; s=20230601; t=1747261157; x=1747865957; h=references:in-reply-to:cc:to:from:subject:message-id:date :x-gm-message-state:from:to:cc:subject:date:message-id:reply-to; bh=F07gUBFs60SQ2SvVVq1mu/I2f3e3fQOOFXqFtWe9Jnk=; b=D1vAquHfq/8PKJsIN/eC2pPQ3CXHGhHGZAdVL+kA7TLzCYVHCpVOMqtYbHIE4J2gOc de5BXa9XL5p/3JF1m3dNzaNkL3bBa8EE308Txa0tCJsJahaGGqox2IxA+p0l23awXy1z rrLuKP+PBtbnjDPj6JLn+Vk1oDsWMK4jJOSHkVOTdkPm5Pfw7gLNOUpcY8ZDvnoxQ4l2 hxgVeXvDVA7cOHNTadArftJxzel2tldKv2EMQkZB64f+yS6lp4TEGGlVaL/kc1lSNeww BTH4b74qQdRGQo5xsNdZVMo/LdGjgdR/zO7qABD+TJm8q5a/BbnCuhGXKo6kVBLowKRs 70aA== X-Gm-Message-State: AOJu0YwMo4x7qsR7tc/VtB0/UraXVDb2o3aMYa39Lz0aA+OtF2Lu61KU Sr1Sm31Axcg8cnS7ip6Xxt3FiCTS08dYRT5rgCzUFK/3ZwDyofzmThlByA8V6vUXcld5J5v5R4E l6SWtlUc4Rp8T/k6D8/pmhQnr2gndK1xtkNSBFKSDjYTmTBxUsDQ5NtQg X-Gm-Gg: ASbGncsydJlbxmfJ4L9mZPQg87OJxqt1EP/8C+PbTyKIiNL/0uWYbGfINOHehuuZ57i tRA72fhjEo4MYZPCl34BBtdoMip3+t5IXD/4KfzlBZYmSkLZwPJb/oy9eJvrM/6+EvFSU66XUDj a98fJ84ueD6sGO23WwCV746MO/hudmhLGgzFsAHMoCSDOCIplOyxtPqup+fohR6vaF2vGbYbwod iBP862ZnKFDYlnVKHwAMFJ4Wyh3vqQMivWmrrBYWLDX95B9ffMaFQ/Y4UtmSHO7p0ZTFGfgkCoJ pHjd3z+l+C16hRCE3iLAicFebj3JlnTmYysi X-Google-Smtp-Source: AGHT+IGY13ZpMyvQPNQa/UCVICtzzdhWqYqXGCqQwv77t6I+lk2EQ7pSJVB1MBBaIq0bEtHQgM5sfEpR0JxN X-Received: by 2002:a17:902:c950:b0:220:c813:dfcc with SMTP id d9443c01a7336-231981a3086mr86439495ad.40.1747261156923; Wed, 14 May 2025 15:19:16 -0700 (PDT) Received: from postal.iol.unh.edu (postal.iol.unh.edu. [2606:4100:3880:1234::84]) by smtp-relay.gmail.com with ESMTPS id d9443c01a7336-22fc5a270a6sm7054435ad.43.2025.05.14.15.19.16 (version=TLS1_2 cipher=ECDHE-ECDSA-AES128-GCM-SHA256 bits=128/128); Wed, 14 May 2025 15:19:16 -0700 (PDT) X-Relaying-Domain: iol.unh.edu Date: Wed, 14 May 2025 15:19:16 -0700 (PDT) Message-ID: <682516e4.170a0220.232bf.62f9SMTPIN_ADDED_MISSING@mx.google.com> Received: from [172.17.0.2] (unknown [172.18.0.76]) by postal.iol.unh.edu (Postfix) with ESMTP id 17D296052471; Wed, 14 May 2025 18:19:16 -0400 (EDT) Subject: |SUCCESS| pw153442 [PATCH] net/ice: fix flow creation failure From: dpdklab@iol.unh.edu To: Test Report Cc: dpdk-test-reports@iol.unh.edu In-Reply-To: <20250514181530.5385-1-dhanya.r.pillai@intel.com> References: <20250514181530.5385-1-dhanya.r.pillai@intel.com> Content-Type: text/plain X-BeenThere: test-report@dpdk.org X-Mailman-Version: 2.1.29 Precedence: list List-Id: automatic DPDK test reports List-Unsubscribe: , List-Archive: List-Post: List-Help: List-Subscribe: , Errors-To: test-report-bounces@dpdk.org Test-Label: iol-compile-arm64-testing Test-Status: SUCCESS http://dpdk.org/patch/153442 _Testing PASS_ Submitter: Dhanya Pillai Date: Wednesday, May 14 2025 18:15:26 DPDK git baseline: Repo:dpdk Branch: master CommitID:5b3328195d3c7cc013eb0d7a0b99ab6791d46a77 153442 --> testing pass Upstream job id: Generic-DPDK-Compile-Meson#387971 Test environment and result as below: +----------------------------------------+--------------------+ | Environment | dpdk_meson_compile | +========================================+====================+ | RHEL9 (ARM) | PASS | +----------------------------------------+--------------------+ | Ubuntu 20.04 ARM GCC Cross Compile | PASS | +----------------------------------------+--------------------+ | Ubuntu 20.04 ARM SVE | PASS | +----------------------------------------+--------------------+ | Ubuntu 22.04 (ARM) | PASS | +----------------------------------------+--------------------+ | Debian 12 with MUSDK | PASS | +----------------------------------------+--------------------+ | Fedora 41 (ARM) | PASS | +----------------------------------------+--------------------+ | Ubuntu 20.04 (ARM) | PASS | +----------------------------------------+--------------------+ | Fedora 40 (ARM) | PASS | +----------------------------------------+--------------------+ | Fedora 40 (ARM Clang) | PASS | +----------------------------------------+--------------------+ | Fedora 41 (ARM Clang) | PASS | +----------------------------------------+--------------------+ | Ubuntu 20.04 aarch32 GCC Cross Compile | PASS | +----------------------------------------+--------------------+ | Ubuntu 24.04 (ARM) | PASS | +----------------------------------------+--------------------+ | Debian 12 (arm) | PASS | +----------------------------------------+--------------------+ | Ubuntu 20.04 ARM Clang Cross Compile | PASS | +----------------------------------------+--------------------+ | CentOS Stream 10 (ARM) | PASS | +----------------------------------------+--------------------+ | CentOS Stream 9 (ARM) | PASS | +----------------------------------------+--------------------+ RHEL9 (ARM) Kernel: Depends on container host Compiler: gcc 11.5.0 20240719 (Red Hat 11.5.0-2) Ubuntu 20.04 ARM GCC Cross Compile Kernel: Depends on container host Compiler: aarch64-linux-gnu-gcc (Ubuntu 9.4.0-1ubuntu1~20.04.2) 9.4.0 Ubuntu 20.04 ARM SVE Kernel: Depends on container host Compiler: gcc (Ubuntu 10.5.0-1ubuntu1~20.04) 10.5.0 Ubuntu 22.04 (ARM) Kernel: Depends on container host Compiler: gcc (Ubuntu 11.4.0-1ubuntu1~22.04) 11.4.0 Debian 12 with MUSDK Kernel: Depends on container host Compiler: gcc (Debian 12.2.0-14) 12.2.0 Fedora 41 (ARM) Kernel: Depends on container host Compiler: gcc 14.2.1 20240912 (Red Hat 14.2.1-3) Ubuntu 20.04 (ARM) Kernel: Depends on container host Compiler: gcc (Ubuntu 9.4.0-1ubuntu1~20.04.2) 9.4.0 Fedora 40 (ARM) Kernel: Depends on container host Compiler: gcc 14.2.1 20240912 (Red Hat 14.2.1-3) Fedora 40 (ARM Clang) Kernel: Depends on container host Compiler: clang 18.1.8 (Fedora 18.1.8-1.fc40) Fedora 41 (ARM Clang) Kernel: Depends on container host Compiler: clang 19.1.5 (Fedora 19.1.5-1.fc41) Ubuntu 20.04 aarch32 GCC Cross Compile Kernel: Depends on container host Compiler: gcc 9.4.0 Ubuntu 24.04 (ARM) Kernel: Depends on container host Compiler: gcc (Ubuntu 13.3.0-6ubuntu2~24.04) 13.3.0 Debian 12 (arm) Kernel: Depends on container host Compiler: gcc (Debian 12.2.0-14) 12.2.0 Ubuntu 20.04 ARM Clang Cross Compile Kernel: Depends on container host Compiler: clang 10.0.0-4ubuntu1 CentOS Stream 10 (ARM) Kernel: Depends on container host Compiler: gcc 14.2.1 20241104 (Red Hat 14.2.1-6) CentOS Stream 9 (ARM) Kernel: Depends on container host Compiler: gcc 11.5.0 20240719 (Red Hat 11.5.0-2) To view detailed results, visit: https://lab.dpdk.org/results/dashboard/patchsets/33173/ UNH-IOL DPDK Community Lab To manage your email subscriptions, visit: https://lab.dpdk.org/results/dashboard/preferences/subscriptions/