From mboxrd@z Thu Jan 1 00:00:00 1970 Return-Path: Received: from mails.dpdk.org (mails.dpdk.org [217.70.189.124]) by inbox.dpdk.org (Postfix) with ESMTP id B9F604674F for ; Thu, 15 May 2025 07:18:51 +0200 (CEST) Received: from mails.dpdk.org (localhost [127.0.0.1]) by mails.dpdk.org (Postfix) with ESMTP id 96047402C2; Thu, 15 May 2025 07:18:51 +0200 (CEST) Received: from mail-qv1-f100.google.com (mail-qv1-f100.google.com [209.85.219.100]) by mails.dpdk.org (Postfix) with ESMTP id 4D5A3402B3 for ; Thu, 15 May 2025 07:18:50 +0200 (CEST) Received: by mail-qv1-f100.google.com with SMTP id 6a1803df08f44-6f545ae3c59so5948336d6.1 for ; Wed, 14 May 2025 22:18:50 -0700 (PDT) DKIM-Signature: v=1; a=rsa-sha256; c=relaxed/relaxed; d=iol.unh.edu; s=unh-iol; t=1747286329; x=1747891129; darn=dpdk.org; h=cc:to:from:subject:message-id:date:from:to:cc:subject:date :message-id:reply-to; bh=TuHsdHuADyMoA7rp6h6JllGMLX2urJzPh2h6BCHzGxE=; b=c/8hevIkva6jOS/GgPkBTmWTNq+muV5HqRAbI8m1CGJn/FqsM/5bHu/143EOETTaX8 z3Qec88e2y9foPFBAkcCgR6UbzaQGnQJ8b2ossplDJD0UU5boK9t+f6PjavKdjXFuz+8 9/7giTW0qSBrdRijwgipm/yHzMpAvY0kalXFo= X-Google-DKIM-Signature: v=1; a=rsa-sha256; c=relaxed/relaxed; d=1e100.net; s=20230601; t=1747286329; x=1747891129; h=cc:to:from:subject:message-id:date:x-gm-message-state:from:to:cc :subject:date:message-id:reply-to; bh=TuHsdHuADyMoA7rp6h6JllGMLX2urJzPh2h6BCHzGxE=; b=li4/4dfjKNSgQ7EPOvssxM7npnQWubI3m8c3gW+e0BqMJiN6ZPOib/icVqJ3eVdnIx gxHBx90BoLZ1CfodlgquzcsLSLajmaPt2mW2WwfC89AnsiLsMYCb+lTOwIWPCVfDMzfk 75QtxbHSjWb5E/kZHiG+nlsX74Wvo0bg/PiapcfQHGcDJGJYYznPjuxwSMyxm+7f/sSH cd2qUfjSfFWgFc/saAfQLZDBGbuq7S1OxxF/jNS06vWyl9jyJ36+2Ds+1YkiY/Mg373T l0EhGGAZbYCVTdfnVww1SZhgW1O/rZAtZgrZRXBvnwTagtFmk8UWs8PfGfL39FbqqHdW nTmA== X-Gm-Message-State: AOJu0YwqzWPzlU8dhyveAipD/Cx3XDRJIXeiuDl9o9u5BZKEcjXRrn8c x95iuwanjAUZx7zzPl0wF9B0CzqHODIGSQSwEaSwr7K8fpkqi2eqMU8iMJr7vOk2um9BCvkEJUA 364HeqtggmEETJpHFrDPCRZDLc0eRZritYpjyTF0ie/uSPS0m X-Gm-Gg: ASbGnct4J5v6ZSta6f8aWge9oSBsHxW4W/mgDvqVaD10SpmZGTQ33pmxRv/RSFwxIME K3e2sf/BkxPIM5K+R2iJRqz4feVYMT7nyGxsZg9trruUivY7IbQEbA0Anlfq5KXPkE2+gpfMNiz awGaNptY1Ew1VOph/R8xB6xscOK8kTVnSB2uhE7VO/dHWIRdq1DivAytTrUy79meiwVpb0Ob9zs WqLW5MKrZ3DFgg6SuYkmS370SF95lcwgvqQAOy1LbvnCBAfmBGcxa9ZZz6S7dp46ahcpq+XAXVi zn4ix//ZAV9XgCo8jZf2YSWR73pLl32xBI2J X-Google-Smtp-Source: AGHT+IEcSOCKiNd1/pagRVtsulhs6ijcfJNzUbx3Q1XdkGOvfyN05m0FhJ+FUY1bBKKT9nUNtgHxQGlfChOP X-Received: by 2002:a05:6214:509d:b0:6ea:d629:f47d with SMTP id 6a1803df08f44-6f896ebdee6mr84680466d6.44.1747286329568; Wed, 14 May 2025 22:18:49 -0700 (PDT) Received: from postal.iol.unh.edu (postal.iol.unh.edu. [2606:4100:3880:1234::84]) by smtp-relay.gmail.com with ESMTPS id 6a1803df08f44-6f6e39e7d7dsm7665416d6.1.2025.05.14.22.18.49 (version=TLS1_2 cipher=ECDHE-ECDSA-AES128-GCM-SHA256 bits=128/128); Wed, 14 May 2025 22:18:49 -0700 (PDT) X-Relaying-Domain: iol.unh.edu Date: Wed, 14 May 2025 22:18:49 -0700 (PDT) Message-ID: <68257939.d40a0220.60344.a23dSMTPIN_ADDED_MISSING@mx.google.com> Received: from [172.21.0.5] (unknown [172.18.0.240]) by postal.iol.unh.edu (Postfix) with ESMTP id 3307F6052471; Thu, 15 May 2025 01:18:49 -0400 (EDT) Subject: |SUCCESS| [GIT MASTER] 83a7a648344674c0269fcaeb71d8d16468421a0e From: dpdklab@iol.unh.edu To: Test Report Cc: dpdk-test-reports@iol.unh.edu, Xueming Li , Christian Ehrhardt , Kevin Traynor , Luca Boccassi Content-Type: text/plain X-BeenThere: test-report@dpdk.org X-Mailman-Version: 2.1.29 Precedence: list List-Id: automatic DPDK test reports List-Unsubscribe: , List-Archive: List-Post: List-Help: List-Subscribe: , Errors-To: test-report-bounces@dpdk.org _Testing PASS_ Branch: tags/v23.11 83a7a648344674c0269fcaeb71d8d16468421a0e --> testing pass Upstream job id: Generic-DPDK-Compile-ABI#126399 Test environment and result as below: +-------------------+----------+ | Environment | abi_test | +===================+==========+ | CentOS Stream 9 | PASS | +-------------------+----------+ | CentOS Stream 10 | PASS | +-------------------+----------+ | Debian 12 | PASS | +-------------------+----------+ | Fedora 40 (Clang) | PASS | +-------------------+----------+ | Fedora 40 | PASS | +-------------------+----------+ | Fedora 41 | PASS | +-------------------+----------+ | Fedora 41 (Clang) | PASS | +-------------------+----------+ | openSUSE Leap 15 | PASS | +-------------------+----------+ | RHEL8 | PASS | +-------------------+----------+ | RHEL9 | PASS | +-------------------+----------+ | Ubuntu 22.04 | PASS | +-------------------+----------+ | Ubuntu 24.04 | PASS | +-------------------+----------+ CentOS Stream 9 Kernel: Depends on container host Compiler: gcc 11.5.0 20240719 (Red Hat 11.5.0-2) CentOS Stream 10 Kernel: Depends on container host Compiler: gcc 14.2.1 20241104 (Red Hat 14.2.1-6) Debian 12 Kernel: Depends on container host Compiler: gcc (Debian 12.2.0-14) 12.2.0 Fedora 40 (Clang) Kernel: Depends on container host Compiler: clang 18.1.8 (Fedora 18.1.8-1.fc40) Fedora 40 Kernel: Depends on container host Compiler: gcc 14.2.1 20240912 (Red Hat 14.2.1-3) Fedora 41 Kernel: Depends on container host Compiler: gcc 14.2.1 20240912 (Red Hat 14.2.1-3) Fedora 41 (Clang) Kernel: Depends on container host Compiler: clang 19.1.5 (Fedora 19.1.5-1.fc41) openSUSE Leap 15 Kernel: Depends on container host Compiler: gcc (SUSE Linux) 7.5.0 RHEL8 Kernel: Depends on container host Compiler: gcc 8.5.0 20210514 (Red Hat 8.5.0-22) RHEL9 Kernel: Depends on container host Compiler: gcc 11.5.0 20240719 (Red Hat 11.5.0-2) Ubuntu 22.04 Kernel: Depends on container host Compiler: gcc (Ubuntu 11.4.0-1ubuntu1~22.04) 11.4.0 Ubuntu 24.04 Kernel: Depends on container host Compiler: gcc (Ubuntu 13.3.0-6ubuntu2~24.04) 13.3.0 To view detailed results, visit: https://lab.dpdk.org/results/dashboard/tarballs/33532/ UNH-IOL DPDK Community Lab To manage your email subscriptions, visit: https://lab.dpdk.org/results/dashboard/preferences/subscriptions/