From mboxrd@z Thu Jan 1 00:00:00 1970 Return-Path: Received: from mails.dpdk.org (mails.dpdk.org [217.70.189.124]) by inbox.dpdk.org (Postfix) with ESMTP id 5C7DD4674F for ; Thu, 15 May 2025 07:32:52 +0200 (CEST) Received: from mails.dpdk.org (localhost [127.0.0.1]) by mails.dpdk.org (Postfix) with ESMTP id 30A9F402EF; Thu, 15 May 2025 07:32:52 +0200 (CEST) Received: from mail-io1-f100.google.com (mail-io1-f100.google.com [209.85.166.100]) by mails.dpdk.org (Postfix) with ESMTP id 7192F402C2 for ; Thu, 15 May 2025 07:32:50 +0200 (CEST) Received: by mail-io1-f100.google.com with SMTP id ca18e2360f4ac-861b1f04b99so16007439f.0 for ; Wed, 14 May 2025 22:32:50 -0700 (PDT) DKIM-Signature: v=1; a=rsa-sha256; c=relaxed/relaxed; d=iol.unh.edu; s=unh-iol; t=1747287170; x=1747891970; darn=dpdk.org; h=cc:to:from:subject:message-id:date:from:to:cc:subject:date :message-id:reply-to; bh=+cJ3bHjBxkWggnpSrqWBtDQ5GEiCqqHnK6GgVBVw2bo=; b=YHW/YbDLIR6o602PVutOcIflYGMO1OmyPuoCxQ541WfvA6+Ze5r6KaJKDIw+UYEsme U28+/wf6Tk8/rAwSa3VFQl4lO2wReC01HMX2Y1MX+dGMhBmWGxZ8r8pig9ffpOxLYyd9 FyvEOH39RFwhs8KVCTS13jjQcWi437O/1/yrs= X-Google-DKIM-Signature: v=1; a=rsa-sha256; c=relaxed/relaxed; d=1e100.net; s=20230601; t=1747287170; x=1747891970; h=cc:to:from:subject:message-id:date:x-gm-message-state:from:to:cc :subject:date:message-id:reply-to; bh=+cJ3bHjBxkWggnpSrqWBtDQ5GEiCqqHnK6GgVBVw2bo=; b=M0Gu1E9IRUwyXQAH8bzf/GXhNTtSJm6fas8J1L8miDmq8y5YPOxDyDyccvgMzzH1Jd 6a+4E1SB8HedMMAs9lO6UGbutZuVNnhTOUCZMVUM8AsVMbgJGiRf2+tALIKmK4c8ZL7J jsVyZqLnJ9wuHouZXJt2+4TJwHF1NPWqDma6GWrHYSJSwTF2hQjsJKTLHMkJLR67dlX8 j1TaTLHifjDLZPi7idhjpsBufbbQodnZB+h091PGnBZ0TigV9a461pEWhbHRFMYDGI3k aQYAFo7wp0nMvU49iEBI70UFrl4uwhHsvufYre9DSM1FnpLX5yG0BNMxsK4E5AYvfdag wWTA== X-Gm-Message-State: AOJu0YwgUaUmGsnZz9WUfabb4eHGJghKCqWbYP9ITfPkoaPWHIqubniU hRb8rJvAsEPtdUZE1rMeT3iJQKarS/bzSyFxrnf6XKc/IeqN/F3xug2ISDquU8Vl3jSDPTUaVuQ bleXDpjMKWDd3YxHn81HGex2h261cKel0+lKz37GVue65kMQi X-Gm-Gg: ASbGnctHsftQQF2RJWYRbDESCQI/eBp4cN/0sVzvPD4XFsu5uh/DRb9yihfYQUCIT+F mSYUn9aWBp67pMPiKKa4RmfkXzdiPyu1PsicACIpUAFxC4iQg4zUVGGVbwf8Mv4eUztnP7j9HMT USsQAwoI7IqCHRkLHZsJCRrf0MdAZ7xsG3dEzpXS+ekRRdgTO+z04Skng7ZB6exPMkL81CQ43y5 vMmySpmyexpDeJXPE5q5Ywf2cCYVdzt++Ig9dK4MJx6KvH+rOtLfoqVlaG5/EsK8PW3siHgU+3w 2TDWTQN96MjKRdrXoGHNtgsu8kkuAmZzCOse X-Google-Smtp-Source: AGHT+IGRtZvq8YzAsImpXBps/ncBTfWWDkmTQ4VVELObri1lPUkTyvLp1uxyLAo6RLwLFeQl7/xAA6lzl8kw X-Received: by 2002:a05:6602:721a:b0:864:4a9b:f1f1 with SMTP id ca18e2360f4ac-86a08e68271mr841624039f.14.1747287169709; Wed, 14 May 2025 22:32:49 -0700 (PDT) Received: from postal.iol.unh.edu (postal.iol.unh.edu. [2606:4100:3880:1234::84]) by smtp-relay.gmail.com with ESMTPS id ca18e2360f4ac-86763779a8csm61896039f.21.2025.05.14.22.32.49 (version=TLS1_2 cipher=ECDHE-ECDSA-AES128-GCM-SHA256 bits=128/128); Wed, 14 May 2025 22:32:49 -0700 (PDT) X-Relaying-Domain: iol.unh.edu Date: Wed, 14 May 2025 22:32:49 -0700 (PDT) Message-ID: <68257c81.050a0220.219109.2f6fSMTPIN_ADDED_MISSING@mx.google.com> Received: from [172.21.0.5] (unknown [172.18.0.240]) by postal.iol.unh.edu (Postfix) with ESMTP id 172FC6052471; Thu, 15 May 2025 01:32:49 -0400 (EDT) Subject: |SUCCESS| [GIT MASTER] 4c5634de9f933555bab9c64a533d3dca999071cd From: dpdklab@iol.unh.edu To: Test Report Cc: dpdk-test-reports@iol.unh.edu, Xueming Li , Christian Ehrhardt , Kevin Traynor , Luca Boccassi Content-Type: text/plain X-BeenThere: test-report@dpdk.org X-Mailman-Version: 2.1.29 Precedence: list List-Id: automatic DPDK test reports List-Unsubscribe: , List-Archive: List-Post: List-Help: List-Subscribe: , Errors-To: test-report-bounces@dpdk.org _Testing PASS_ Branch: tags/v24.11 4c5634de9f933555bab9c64a533d3dca999071cd --> testing pass Upstream job id: Generic-DPDK-Compile-ABI#126379 Test environment and result as below: +-------------------+----------+ | Environment | abi_test | +===================+==========+ | CentOS Stream 9 | PASS | +-------------------+----------+ | Fedora 40 | PASS | +-------------------+----------+ | CentOS Stream 10 | PASS | +-------------------+----------+ | Debian 12 | PASS | +-------------------+----------+ | Fedora 41 (Clang) | PASS | +-------------------+----------+ | Fedora 41 | PASS | +-------------------+----------+ | openSUSE Leap 15 | PASS | +-------------------+----------+ | RHEL9 | PASS | +-------------------+----------+ | RHEL8 | PASS | +-------------------+----------+ | Ubuntu 22.04 | PASS | +-------------------+----------+ | Ubuntu 24.04 | PASS | +-------------------+----------+ | Fedora 40 (Clang) | PASS | +-------------------+----------+ CentOS Stream 9 Kernel: Depends on container host Compiler: gcc 11.5.0 20240719 (Red Hat 11.5.0-2) Fedora 40 Kernel: Depends on container host Compiler: gcc 14.2.1 20240912 (Red Hat 14.2.1-3) CentOS Stream 10 Kernel: Depends on container host Compiler: gcc 14.2.1 20241104 (Red Hat 14.2.1-6) Debian 12 Kernel: Depends on container host Compiler: gcc (Debian 12.2.0-14) 12.2.0 Fedora 41 (Clang) Kernel: Depends on container host Compiler: clang 19.1.5 (Fedora 19.1.5-1.fc41) Fedora 41 Kernel: Depends on container host Compiler: gcc 14.2.1 20240912 (Red Hat 14.2.1-3) openSUSE Leap 15 Kernel: Depends on container host Compiler: gcc (SUSE Linux) 7.5.0 RHEL9 Kernel: Depends on container host Compiler: gcc 11.5.0 20240719 (Red Hat 11.5.0-2) RHEL8 Kernel: Depends on container host Compiler: gcc 8.5.0 20210514 (Red Hat 8.5.0-22) Ubuntu 22.04 Kernel: Depends on container host Compiler: gcc (Ubuntu 11.4.0-1ubuntu1~22.04) 11.4.0 Ubuntu 24.04 Kernel: Depends on container host Compiler: gcc (Ubuntu 13.3.0-6ubuntu2~24.04) 13.3.0 Fedora 40 (Clang) Kernel: Depends on container host Compiler: clang 18.1.8 (Fedora 18.1.8-1.fc40) To view detailed results, visit: https://lab.dpdk.org/results/dashboard/tarballs/33531/ UNH-IOL DPDK Community Lab To manage your email subscriptions, visit: https://lab.dpdk.org/results/dashboard/preferences/subscriptions/