From mboxrd@z Thu Jan 1 00:00:00 1970 Return-Path: Received: from mails.dpdk.org (mails.dpdk.org [217.70.189.124]) by inbox.dpdk.org (Postfix) with ESMTP id 14F1246751 for ; Thu, 15 May 2025 08:01:09 +0200 (CEST) Received: from mails.dpdk.org (localhost [127.0.0.1]) by mails.dpdk.org (Postfix) with ESMTP id 0FE3F402C2; Thu, 15 May 2025 08:01:09 +0200 (CEST) Received: from mail-pf1-f228.google.com (mail-pf1-f228.google.com [209.85.210.228]) by mails.dpdk.org (Postfix) with ESMTP id C72FC402B3 for ; Thu, 15 May 2025 08:01:07 +0200 (CEST) Received: by mail-pf1-f228.google.com with SMTP id d2e1a72fcca58-741b3e37a1eso569654b3a.1 for ; Wed, 14 May 2025 23:01:07 -0700 (PDT) DKIM-Signature: v=1; a=rsa-sha256; c=relaxed/relaxed; d=iol.unh.edu; s=unh-iol; t=1747288867; x=1747893667; darn=dpdk.org; h=cc:to:from:subject:message-id:date:from:to:cc:subject:date :message-id:reply-to; bh=J5kEUYfx6e3deMmXnAmuEVAw9RXI/j+FceipgCONALU=; b=QZqTYkgpIBkg8BLJbFCEtl+TJfWz0LUpkB3247tRvr6q3xvZwHoaiuHlr4/2PC9kpg l/Vk5VzjfBSTZv1IJDGsxYw8F2ZH6pIaMFw26ytdjXWOA+iHBXiRaEcZ+Y5zgwC+Aw7J JBV1b6kZZ3D4lmmo+pm5/iv/giWxUILOlUmgs= X-Google-DKIM-Signature: v=1; a=rsa-sha256; c=relaxed/relaxed; d=1e100.net; s=20230601; t=1747288867; x=1747893667; h=cc:to:from:subject:message-id:date:x-gm-message-state:from:to:cc :subject:date:message-id:reply-to; bh=J5kEUYfx6e3deMmXnAmuEVAw9RXI/j+FceipgCONALU=; b=WzL184lmRDZnUlO77UN62XGfQ5I81BiL0U1Q2NMSJ+zDPGUDC95yVoF7xknlwTSRvb ZZNKDyw0vBoamQR0T0c8o8hKzTdO2LFxTh+yUwkI5e0A9VazzxKDSBTlBwTZCSWq97gw uEL6LqDQR+H7eFTAE0vNyza0ee2pGyTUlASCvC9GPn6/awb97spoWYx1TH0kSXe0gCKO /bHTdttY+HZB8U7sTnfhfe3SW1Eixv/QxnevvyJyC5hCHzxHK8N4/uJ/3CzA68J28NLS iIbR9eJVdETtbcF7TBrWRG1XHcerMvrZN7yRJ8O5tPZS9Is0TDC3ZKIhds1s+uQpKt5P HQCA== X-Gm-Message-State: AOJu0YyageQ+FLypUQOn/y+cwg1IWP0ManTyMma8Gd+2jdo+90RymAn8 Bze1usI2CeWFd7n06cgqHEcwZaDLuq1Vxye8tLpruzNcLYJKAdN9l9jS5QhM5dMeMbC79AqWIH6 f1Tz5OZCw5dboHcd4cJA3vRCe0Nw6gnaT X-Gm-Gg: ASbGncv1NKK6i3bLRfN+c5dwnhCJlFo4FuaKI/EFimWApJAabt4Ykhk0bJBLXVy+/ov XkW9UO7uZkkwZ9GIiSblLpSV5ZZI0ZtpHl9aNRsbRLf3DB8h9kBPXnsJRJb/BygZp5Twjqz5nyC eJe7/TZufFzY7xvUJfjtCWz7IfqpCYc3cytp95i0kTMGHZa6WYrH8U2Hn6TweRLdpaYFA+RmKbS ZWUW5yMo2fOQDxkWDkFi1q1srPRhLuBKemvhMEekDVacaMKemskttkU/CJ1w1MOpCgrbtueuMvA u4R5FYrg/5DRS1GcJzg71eDx7kNGS2wPvet4eaXbnY5Ka4lJvptxJuYMKpQ= X-Google-Smtp-Source: AGHT+IGuyELf6vBV0uMKKXYE9xpuGueGDtiMBAu8tiUUaH92GpEdU3loNWLiGV5PG+LxK5XQV6GHHhve6wQk X-Received: by 2002:a05:6a21:6005:b0:1f5:56fe:b437 with SMTP id adf61e73a8af0-215ff16e919mr10304269637.32.1747288866585; Wed, 14 May 2025 23:01:06 -0700 (PDT) Received: from postal.iol.unh.edu (postal.iol.unh.edu. [132.177.123.84]) by smtp-relay.gmail.com with ESMTPS id 41be03b00d2f7-b234941b7f1sm420135a12.17.2025.05.14.23.01.06 (version=TLS1_2 cipher=ECDHE-ECDSA-AES128-GCM-SHA256 bits=128/128); Wed, 14 May 2025 23:01:06 -0700 (PDT) X-Relaying-Domain: iol.unh.edu Date: Wed, 14 May 2025 23:01:06 -0700 (PDT) Message-ID: <68258322.630a0220.21c8ba.6870SMTPIN_ADDED_MISSING@mx.google.com> Received: from [172.21.0.5] (unknown [172.18.0.240]) by postal.iol.unh.edu (Postfix) with ESMTP id 395BF6052471; Thu, 15 May 2025 02:01:05 -0400 (EDT) Subject: |WARNING| [GIT MASTER] 4c5634de9f933555bab9c64a533d3dca999071cd From: dpdklab@iol.unh.edu To: Test Report Cc: dpdk-test-reports@iol.unh.edu, Xueming Li , Christian Ehrhardt , Kevin Traynor , Luca Boccassi Content-Type: text/plain X-BeenThere: test-report@dpdk.org X-Mailman-Version: 2.1.29 Precedence: list List-Id: automatic DPDK test reports List-Unsubscribe: , List-Archive: List-Post: List-Help: List-Subscribe: , Errors-To: test-report-bounces@dpdk.org _Testing issues_ Branch: tags/v24.11 4c5634de9f933555bab9c64a533d3dca999071cd --> testing issues Upstream job id: Generic-DPDK-Compile-Meson#387985 Test environment and result as below: +-----------------------------------+--------------------+-------------------+------------------+-------------------------+-------------------+----------------------+ | Environment | dpdk_meson_compile | dpdk_compile_spdk | dpdk_compile_ovs | dpdk_llvm_clang_compile | dpdk_msvc_compile | dpdk_mingw64_compile | +===================================+====================+===================+==================+=========================+===================+======================+ | CentOS Stream 9 | PEND | PEND | SKIPPED | SKIPPED | SKIPPED | SKIPPED | +-----------------------------------+--------------------+-------------------+------------------+-------------------------+-------------------+----------------------+ | CentOS Stream 10 | PASS | SKIPPED | SKIPPED | SKIPPED | SKIPPED | SKIPPED | +-----------------------------------+--------------------+-------------------+------------------+-------------------------+-------------------+----------------------+ | Fedora 40 (Clang) | PASS | WARN | SKIPPED | SKIPPED | SKIPPED | SKIPPED | +-----------------------------------+--------------------+-------------------+------------------+-------------------------+-------------------+----------------------+ | Debian 12 | PEND | PEND | SKIPPED | SKIPPED | SKIPPED | SKIPPED | +-----------------------------------+--------------------+-------------------+------------------+-------------------------+-------------------+----------------------+ | Fedora 41 | PEND | PEND | PEND | SKIPPED | SKIPPED | SKIPPED | +-----------------------------------+--------------------+-------------------+------------------+-------------------------+-------------------+----------------------+ | Fedora 41 (Clang) | PEND | PEND | PEND | SKIPPED | SKIPPED | SKIPPED | +-----------------------------------+--------------------+-------------------+------------------+-------------------------+-------------------+----------------------+ | openSUSE Leap 15 | PEND | SKIPPED | SKIPPED | SKIPPED | SKIPPED | SKIPPED | +-----------------------------------+--------------------+-------------------+------------------+-------------------------+-------------------+----------------------+ | RHEL8 | PEND | SKIPPED | SKIPPED | SKIPPED | SKIPPED | SKIPPED | +-----------------------------------+--------------------+-------------------+------------------+-------------------------+-------------------+----------------------+ | RHEL9 | PEND | SKIPPED | SKIPPED | SKIPPED | SKIPPED | SKIPPED | +-----------------------------------+--------------------+-------------------+------------------+-------------------------+-------------------+----------------------+ | Ubuntu 20.04 | PASS | SKIPPED | SKIPPED | SKIPPED | SKIPPED | SKIPPED | +-----------------------------------+--------------------+-------------------+------------------+-------------------------+-------------------+----------------------+ | Ubuntu 22.04 | PEND | PEND | SKIPPED | SKIPPED | SKIPPED | SKIPPED | +-----------------------------------+--------------------+-------------------+------------------+-------------------------+-------------------+----------------------+ | Ubuntu 24.04 | PEND | PEND | PEND | SKIPPED | SKIPPED | SKIPPED | +-----------------------------------+--------------------+-------------------+------------------+-------------------------+-------------------+----------------------+ | Alpine | PEND | SKIPPED | SKIPPED | SKIPPED | SKIPPED | SKIPPED | +-----------------------------------+--------------------+-------------------+------------------+-------------------------+-------------------+----------------------+ | FreeBSD 13.5 | PASS | SKIPPED | SKIPPED | SKIPPED | SKIPPED | SKIPPED | +-----------------------------------+--------------------+-------------------+------------------+-------------------------+-------------------+----------------------+ | Ubuntu 24.04 32 Bit Cross Compile | PEND | SKIPPED | SKIPPED | SKIPPED | SKIPPED | SKIPPED | +-----------------------------------+--------------------+-------------------+------------------+-------------------------+-------------------+----------------------+ | FreeBSD 14.2 | PASS | SKIPPED | SKIPPED | SKIPPED | SKIPPED | SKIPPED | +-----------------------------------+--------------------+-------------------+------------------+-------------------------+-------------------+----------------------+ | Windows Server 2022 | SKIPPED | SKIPPED | SKIPPED | PASS | PASS | PASS | +-----------------------------------+--------------------+-------------------+------------------+-------------------------+-------------------+----------------------+ ==== 20 line log output for Fedora 40 (Clang) (dpdk_compile_spdk): ==== --- Failed to get log output --- ==== End log output ==== CentOS Stream 9 Kernel: Depends on container host Compiler: gcc 11.5.0 20240719 (Red Hat 11.5.0-2) CentOS Stream 10 Kernel: Depends on container host Compiler: gcc 14.2.1 20241104 (Red Hat 14.2.1-6) Fedora 40 (Clang) Kernel: Depends on container host Compiler: clang 18.1.8 (Fedora 18.1.8-1.fc40) Debian 12 Kernel: Depends on container host Compiler: gcc (Debian 12.2.0-14) 12.2.0 Fedora 41 Kernel: Depends on container host Compiler: gcc 14.2.1 20240912 (Red Hat 14.2.1-3) Fedora 41 (Clang) Kernel: Depends on container host Compiler: clang 19.1.5 (Fedora 19.1.5-1.fc41) openSUSE Leap 15 Kernel: Depends on container host Compiler: gcc (SUSE Linux) 7.5.0 RHEL8 Kernel: Depends on container host Compiler: gcc 8.5.0 20210514 (Red Hat 8.5.0-22) RHEL9 Kernel: Depends on container host Compiler: gcc 11.5.0 20240719 (Red Hat 11.5.0-2) Ubuntu 20.04 Kernel: Depends on container host Compiler: gcc (Ubuntu 9.4.0-1ubuntu1~20.04.2) 9.4.0 Ubuntu 22.04 Kernel: Depends on container host Compiler: gcc (Ubuntu 11.4.0-1ubuntu1~22.04) 11.4.0 Ubuntu 24.04 Kernel: Depends on container host Compiler: gcc (Ubuntu 13.3.0-6ubuntu2~24.04) 13.3.0 Alpine Kernel: Depends on container host Compiler: gcc (Alpine 14.2.0) 14.2.0 FreeBSD 13.5 Kernel: 13.5-RELEASE Compiler: clang 19.1.7 Ubuntu 24.04 32 Bit Cross Compile Kernel: Depends on container host Compiler: gcc (Ubuntu 13.3.0-6ubuntu2~24.04) 13.3.0 FreeBSD 14.2 Kernel: 14.2-RELEASE Compiler: clang 18.1.6 Windows Server 2022 Kernel: 10.0.20348.2031 Compiler: clang 15.0.7, gcc 14.1.0 (MinGW), and MSVC VS 19.39.33521 To view detailed results, visit: https://lab.dpdk.org/results/dashboard/tarballs/33531/ UNH-IOL DPDK Community Lab To manage your email subscriptions, visit: https://lab.dpdk.org/results/dashboard/preferences/subscriptions/