From mboxrd@z Thu Jan 1 00:00:00 1970 Return-Path: Received: from mails.dpdk.org (mails.dpdk.org [217.70.189.124]) by inbox.dpdk.org (Postfix) with ESMTP id 1F55746751 for ; Thu, 15 May 2025 08:11:51 +0200 (CEST) Received: from mails.dpdk.org (localhost [127.0.0.1]) by mails.dpdk.org (Postfix) with ESMTP id EB1CD402C2; Thu, 15 May 2025 08:11:50 +0200 (CEST) Received: from mail-pl1-f226.google.com (mail-pl1-f226.google.com [209.85.214.226]) by mails.dpdk.org (Postfix) with ESMTP id B9C7D402B3 for ; Thu, 15 May 2025 08:11:49 +0200 (CEST) Received: by mail-pl1-f226.google.com with SMTP id d9443c01a7336-22e5df32197so5592735ad.0 for ; Wed, 14 May 2025 23:11:49 -0700 (PDT) DKIM-Signature: v=1; a=rsa-sha256; c=relaxed/relaxed; d=iol.unh.edu; s=unh-iol; t=1747289509; x=1747894309; darn=dpdk.org; h=cc:to:from:subject:message-id:date:from:to:cc:subject:date :message-id:reply-to; bh=v8s4J0+YtA8UWQQ+kzYx3AfCco5XrUGUqse9RNIdDAo=; b=MehOgTBbiA36nwmlJFRrTuPl7gZAn56BFWt3brvbeBqQWgTRMhP/49r7hdhVNBIp1Z hC7EIiOVUDaPSVUAVsw3dtAh94vD7/jzmorSGc4eJqLPsNMGmKyLnQ5GpNfH3bSRUXvQ i/Ug6LW64bQl9R1mWqSpPWoNEsg5nx6977Uoc= X-Google-DKIM-Signature: v=1; a=rsa-sha256; c=relaxed/relaxed; d=1e100.net; s=20230601; t=1747289509; x=1747894309; h=cc:to:from:subject:message-id:date:x-gm-message-state:from:to:cc :subject:date:message-id:reply-to; bh=v8s4J0+YtA8UWQQ+kzYx3AfCco5XrUGUqse9RNIdDAo=; b=UrDTXSTFQ6/fo1pZ7OiR7LoBX8Rwce/hmUdHPS465V5WAUCqys1nNAFN6pPE3AR5yA sWQRD9hvNRIrw9DQr4Gja2dKvLlo621XJZfqTOQroU40DUhHlkfgDqyE7Ps+Zs4ve4jZ P3Le0Q4TQF8oSnUhVTUt8hnRuhocCTNvJtNA7aCW21P/a+CmQTt9kTcskSZPKU/BMUJY HsOHdnGixlSdbvbzQaXynCkjn011zf4LrBwj+nPR/Mg12F2A2U+u3mRMYnorn6vZ2Lfa 7daD/J61bJ0xBcHw2+M875CgoSiDSRCQOuDBKBko3jQRYoeRanAWP4z3uF0I5a2v1wiP raVg== X-Gm-Message-State: AOJu0Ywm2PAr/3jIat1dXfVWV8Zct91/butgZjgMun2tEyzToxZApw9b jbVt1JieJ0vo2NEOLFr48KXQpVj1nZ2hDOQYYJUQsAXXQhzier8ycoPd4Jngp/xX67VEIt2ZISX yip4eKvD6bVUUyuSZbj8uqoc32l/Iq0LU X-Gm-Gg: ASbGncuzBEu6HU2Szsvf4TWzj9rNzfPnFluUYR4lXX6EFAov8gGrt6d/LN7h1GBInts 4Yxla7wxsaMWkiRWPuFIuziInpXZ4hFCFQhmlpWAzAxOBlytzSKEe9112q0Y7B0dw2YglA/XHOp WL26XwS4YQIHPB82GtMkhf/XdTKsvPjrbQ7C3y0WkhKAwTYdnHhhY35PCHoTVaFV0bcyqTACnbp QigLI6iyPO7CObhIHeFmZvtMFDTPb4BplgvKsq+sRP0EUvuG5Tyfa7ESCKDuGZoZM38G2iY8dVj H5QlAKmbqVpTupp+jufSyh7Imll6a7PwALJkbgpV6FnrqzOCJzINkesGS4c= X-Google-Smtp-Source: AGHT+IE0+bYbcVS4UZQpgIFNTiJci+I+AvZNutkSlxfQ24lh8YCIxk1w8SSegT4gqwzoSp6C5qvzAwYTWqgM X-Received: by 2002:a17:902:f211:b0:224:1221:1ab4 with SMTP id d9443c01a7336-231b5eaa29emr15827915ad.22.1747289508696; Wed, 14 May 2025 23:11:48 -0700 (PDT) Received: from postal.iol.unh.edu (postal.iol.unh.edu. [132.177.123.84]) by smtp-relay.gmail.com with ESMTPS id d9443c01a7336-22fc6f122d1sm6922025ad.70.2025.05.14.23.11.48 (version=TLS1_2 cipher=ECDHE-ECDSA-AES128-GCM-SHA256 bits=128/128); Wed, 14 May 2025 23:11:48 -0700 (PDT) X-Relaying-Domain: iol.unh.edu Date: Wed, 14 May 2025 23:11:48 -0700 (PDT) Message-ID: <682585a4.170a0220.272b50.4a3dSMTPIN_ADDED_MISSING@mx.google.com> Received: from [172.21.0.5] (unknown [172.18.0.240]) by postal.iol.unh.edu (Postfix) with ESMTP id BC1636052471; Thu, 15 May 2025 02:11:47 -0400 (EDT) Subject: |SUCCESS| [GIT MASTER] 4c5634de9f933555bab9c64a533d3dca999071cd From: dpdklab@iol.unh.edu To: Test Report Cc: dpdk-test-reports@iol.unh.edu, Xueming Li , Christian Ehrhardt , Kevin Traynor , Luca Boccassi Content-Type: text/plain X-BeenThere: test-report@dpdk.org X-Mailman-Version: 2.1.29 Precedence: list List-Id: automatic DPDK test reports List-Unsubscribe: , List-Archive: List-Post: List-Help: List-Subscribe: , Errors-To: test-report-bounces@dpdk.org _Testing PASS_ Branch: tags/v24.11 4c5634de9f933555bab9c64a533d3dca999071cd --> testing pass Upstream job id: Generic-Unit-Test-DPDK#337813 Test environment and result as below: +-----------------------------+----------------+---------------------------+--------------+------------------------------+ | Environment | dpdk_unit_test | cryptodev_sw_zuc_autotest | lpm_autotest | cryptodev_sw_snow3g_autotest | +=============================+================+===========================+==============+==============================+ | Fedora 41 (ARM) | PASS | SKIPPED | SKIPPED | SKIPPED | +-----------------------------+----------------+---------------------------+--------------+------------------------------+ | CentOS Stream 10 (ARM) | PASS | SKIPPED | SKIPPED | SKIPPED | +-----------------------------+----------------+---------------------------+--------------+------------------------------+ | Debian 12 (arm) | PASS | PASS | SKIPPED | PASS | +-----------------------------+----------------+---------------------------+--------------+------------------------------+ | CentOS Stream 9 (ARM) | PASS | SKIPPED | SKIPPED | SKIPPED | +-----------------------------+----------------+---------------------------+--------------+------------------------------+ | Fedora 41 (ARM Clang) | PASS | SKIPPED | SKIPPED | SKIPPED | +-----------------------------+----------------+---------------------------+--------------+------------------------------+ | RHEL9 (ARM) | PASS | SKIPPED | SKIPPED | SKIPPED | +-----------------------------+----------------+---------------------------+--------------+------------------------------+ | Ubuntu 20.04 (ARM) | PASS | SKIPPED | SKIPPED | SKIPPED | +-----------------------------+----------------+---------------------------+--------------+------------------------------+ | Fedora 40 (ARM) | PASS | SKIPPED | SKIPPED | SKIPPED | +-----------------------------+----------------+---------------------------+--------------+------------------------------+ | Ubuntu 24.04 (ARM) | PASS | SKIPPED | SKIPPED | SKIPPED | +-----------------------------+----------------+---------------------------+--------------+------------------------------+ | Ubuntu 22.04 (ARM) | PASS | SKIPPED | SKIPPED | SKIPPED | +-----------------------------+----------------+---------------------------+--------------+------------------------------+ | Fedora 40 (ARM Clang) | PASS | SKIPPED | SKIPPED | SKIPPED | +-----------------------------+----------------+---------------------------+--------------+------------------------------+ | 32-bit Ubuntu 22.04.4 (ARM) | PASS | SKIPPED | SKIPPED | SKIPPED | +-----------------------------+----------------+---------------------------+--------------+------------------------------+ | Ubuntu 20.04 ARM SVE | SKIPPED | SKIPPED | PASS | SKIPPED | +-----------------------------+----------------+---------------------------+--------------+------------------------------+ Fedora 41 (ARM) Kernel: Depends on container host Compiler: gcc 14.2.1 20240912 (Red Hat 14.2.1-3) CentOS Stream 10 (ARM) Kernel: Depends on container host Compiler: gcc 14.2.1 20241104 (Red Hat 14.2.1-6) Debian 12 (arm) Kernel: Depends on container host Compiler: gcc (Debian 12.2.0-14) 12.2.0 CentOS Stream 9 (ARM) Kernel: Depends on container host Compiler: gcc 11.5.0 20240719 (Red Hat 11.5.0-2) Fedora 41 (ARM Clang) Kernel: Depends on container host Compiler: clang 19.1.5 (Fedora 19.1.5-1.fc41) RHEL9 (ARM) Kernel: Depends on container host Compiler: gcc 11.5.0 20240719 (Red Hat 11.5.0-2) Ubuntu 20.04 (ARM) Kernel: Depends on container host Compiler: gcc (Ubuntu 9.4.0-1ubuntu1~20.04.2) 9.4.0 Fedora 40 (ARM) Kernel: Depends on container host Compiler: gcc 14.2.1 20240912 (Red Hat 14.2.1-3) Ubuntu 24.04 (ARM) Kernel: Depends on container host Compiler: gcc (Ubuntu 13.3.0-6ubuntu2~24.04) 13.3.0 Ubuntu 22.04 (ARM) Kernel: Depends on container host Compiler: gcc (Ubuntu 11.4.0-1ubuntu1~22.04) 11.4.0 Fedora 40 (ARM Clang) Kernel: Depends on container host Compiler: clang 18.1.8 (Fedora 18.1.8-1.fc40) 32-bit Ubuntu 22.04.4 (ARM) Kernel: 5.15.83+ aarch64 Compiler: gcc (Ubuntu 11.4.0-1ubuntu1~22.04) 11.4.0 Ubuntu 20.04 ARM SVE Kernel: Depends on container host Compiler: gcc (Ubuntu 10.5.0-1ubuntu1~20.04) 10.5.0 To view detailed results, visit: https://lab.dpdk.org/results/dashboard/tarballs/33531/ UNH-IOL DPDK Community Lab To manage your email subscriptions, visit: https://lab.dpdk.org/results/dashboard/preferences/subscriptions/