From mboxrd@z Thu Jan 1 00:00:00 1970 Return-Path: Received: from mails.dpdk.org (mails.dpdk.org [217.70.189.124]) by inbox.dpdk.org (Postfix) with ESMTP id 0923746751 for ; Thu, 15 May 2025 08:23:29 +0200 (CEST) Received: from mails.dpdk.org (localhost [127.0.0.1]) by mails.dpdk.org (Postfix) with ESMTP id 028AA402C2; Thu, 15 May 2025 08:23:29 +0200 (CEST) Received: from mail-pf1-f228.google.com (mail-pf1-f228.google.com [209.85.210.228]) by mails.dpdk.org (Postfix) with ESMTP id 6E1DA402B3 for ; Thu, 15 May 2025 08:23:27 +0200 (CEST) Received: by mail-pf1-f228.google.com with SMTP id d2e1a72fcca58-7415d28381dso582906b3a.1 for ; Wed, 14 May 2025 23:23:27 -0700 (PDT) DKIM-Signature: v=1; a=rsa-sha256; c=relaxed/relaxed; d=iol.unh.edu; s=unh-iol; t=1747290206; x=1747895006; darn=dpdk.org; h=cc:to:from:subject:message-id:date:from:to:cc:subject:date :message-id:reply-to; bh=IugoW9R+JzcJa8/casBcyQqhTMx5fptVZwO6NVK8DNg=; b=AREhpg5+gHi6yXmf5ulQ7i7//n5sEXSLq2uheVOhCWwH22Rme/FnUHEFW6m16GEUKD Km7Xo3+MO7k6jDIOk00KpcwsTqPPM1sgaVKKPy15EZ0arvOgzy23/xNcJxufy4/X1goF oxSsfh1vWdugDFhD1gp1fbjSpZqvAoy7oPgMI= X-Google-DKIM-Signature: v=1; a=rsa-sha256; c=relaxed/relaxed; d=1e100.net; s=20230601; t=1747290206; x=1747895006; h=cc:to:from:subject:message-id:date:x-gm-message-state:from:to:cc :subject:date:message-id:reply-to; bh=IugoW9R+JzcJa8/casBcyQqhTMx5fptVZwO6NVK8DNg=; b=tVEtz2Hn4KRkN+UjrFyiYfu9LIAf4FF8e710cHIDDli4anAxiaayDENR1E8bgMkAI4 +vtDj6hNx0bPxcSlYLUNFViLITmXSV5DTgvbNKDC0JfHEhjxaLchHxm5exaBdB8Zi5RO Vu4buEzIa4uDyoJUs6ZNKkN4/GcUmxanh/28BrpQqVXXfMLAfsq71D3fkwIV4kJ6VWgT BU4cWcO2OKn3FGeDz5ffki/k1j/BB5nyjj09kAkaiEiWyFrrzVJR5sLJuh2EzLbN/mDi 6OPhPa3SeeewqmHIRsvrzz9MMRKZlumkRQP/lb5hvrN7vd23gEjtv7iFL/GfBbd+nyEu vEAQ== X-Gm-Message-State: AOJu0YzWW7TPYS0bP3hYFLYlLjOUjB+h1IrEpd+T01SVSTtpQXzs7hP6 X7cCSzp5JTKR7uaczUcQqlKB1o41vIlCrCS5mZegYjcLS0OgH6t1+hwdF22zYdUcyHvgCw3IRU0 6JFrCY6K4yTS81RErq05kj9EzudgBgsxhVRkECkzaE0A74POb X-Gm-Gg: ASbGncvhOJcuKrDdhlQObGZW5qP6O45MB+ZTTXxktYoViWSltpbLrOLG/JQgZLPGLkx gZdZ20FYb1oD7TqOpAE9235EKbJwcFWte1DQfUP/19qFIPYBPJmFjMaa3NolIG0p6o42j767lH1 rDNlkMhB9pA7ModiPNNHoNLz4LW2VTpHmH2PRQ54kn+creypBQZLsg67Gij9pW3/RzY4TI9We68 TU9pXJSbfwCNVRzRgXgjyJ2IDjV7GV1ujkvpkK6LnULlMrRAgy6WRgfLuFGX5j2Uj4wGOWQQKOX dSfdrV+Knr7aqnljlFLOxXcHAS+1WYKzOB1S X-Google-Smtp-Source: AGHT+IEyAygB4i03oAB7fXj3swvgdueWeUdcRUPd6P3amwRwWM7jHS7vkKe+FNoVPvYHqfse41XKdfPI5Hec X-Received: by 2002:a05:6a00:22c7:b0:740:41e4:e761 with SMTP id d2e1a72fcca58-7428937863emr8594062b3a.22.1747290206544; Wed, 14 May 2025 23:23:26 -0700 (PDT) Received: from postal.iol.unh.edu (postal.iol.unh.edu. [2606:4100:3880:1234::84]) by smtp-relay.gmail.com with ESMTPS id d2e1a72fcca58-74237761f17sm731346b3a.14.2025.05.14.23.23.26 (version=TLS1_2 cipher=ECDHE-ECDSA-AES128-GCM-SHA256 bits=128/128); Wed, 14 May 2025 23:23:26 -0700 (PDT) X-Relaying-Domain: iol.unh.edu Date: Wed, 14 May 2025 23:23:26 -0700 (PDT) Message-ID: <6825885e.050a0220.20ea5e.9be0SMTPIN_ADDED_MISSING@mx.google.com> Received: from [172.21.0.5] (unknown [172.18.0.240]) by postal.iol.unh.edu (Postfix) with ESMTP id 077786052471; Thu, 15 May 2025 02:23:26 -0400 (EDT) Subject: |SUCCESS| [GIT MASTER] 4c5634de9f933555bab9c64a533d3dca999071cd From: dpdklab@iol.unh.edu To: Test Report Cc: dpdk-test-reports@iol.unh.edu, Xueming Li , Christian Ehrhardt , Kevin Traynor , Luca Boccassi Content-Type: text/plain X-BeenThere: test-report@dpdk.org X-Mailman-Version: 2.1.29 Precedence: list List-Id: automatic DPDK test reports List-Unsubscribe: , List-Archive: List-Post: List-Help: List-Subscribe: , Errors-To: test-report-bounces@dpdk.org _Testing PASS_ Branch: tags/v24.11 4c5634de9f933555bab9c64a533d3dca999071cd --> testing pass Upstream job id: Generic-Unit-Test-DPDK#337805 Test environment and result as below: +---------------------+----------------+ | Environment | dpdk_unit_test | +=====================+================+ | CentOS Stream 10 | PASS | +---------------------+----------------+ | Fedora 41 (Clang) | PASS | +---------------------+----------------+ | CentOS Stream 9 | PASS | +---------------------+----------------+ | Debian 12 | PASS | +---------------------+----------------+ | Ubuntu 24.04 | PASS | +---------------------+----------------+ | Ubuntu 20.04 | PASS | +---------------------+----------------+ | RHEL9 | PASS | +---------------------+----------------+ | Ubuntu 22.04 | PASS | +---------------------+----------------+ | Fedora 41 | PASS | +---------------------+----------------+ | Fedora 40 | PASS | +---------------------+----------------+ | Fedora 40 (Clang) | PASS | +---------------------+----------------+ | RHEL8 | PASS | +---------------------+----------------+ | Windows Server 2022 | PASS | +---------------------+----------------+ CentOS Stream 10 Kernel: Depends on container host Compiler: gcc 14.2.1 20241104 (Red Hat 14.2.1-6) Fedora 41 (Clang) Kernel: Depends on container host Compiler: clang 19.1.5 (Fedora 19.1.5-1.fc41) CentOS Stream 9 Kernel: Depends on container host Compiler: gcc 11.5.0 20240719 (Red Hat 11.5.0-2) Debian 12 Kernel: Depends on container host Compiler: gcc (Debian 12.2.0-14) 12.2.0 Ubuntu 24.04 Kernel: Depends on container host Compiler: gcc (Ubuntu 13.3.0-6ubuntu2~24.04) 13.3.0 Ubuntu 20.04 Kernel: Depends on container host Compiler: gcc (Ubuntu 9.4.0-1ubuntu1~20.04.2) 9.4.0 RHEL9 Kernel: Depends on container host Compiler: gcc 11.5.0 20240719 (Red Hat 11.5.0-2) Ubuntu 22.04 Kernel: Depends on container host Compiler: gcc (Ubuntu 11.4.0-1ubuntu1~22.04) 11.4.0 Fedora 41 Kernel: Depends on container host Compiler: gcc 14.2.1 20240912 (Red Hat 14.2.1-3) Fedora 40 Kernel: Depends on container host Compiler: gcc 14.2.1 20240912 (Red Hat 14.2.1-3) Fedora 40 (Clang) Kernel: Depends on container host Compiler: clang 18.1.8 (Fedora 18.1.8-1.fc40) RHEL8 Kernel: Depends on container host Compiler: gcc 8.5.0 20210514 (Red Hat 8.5.0-22) Windows Server 2022 Kernel: 10.0.20348.2031 Compiler: clang 15.0.7, gcc 14.1.0 (MinGW), and MSVC VS 19.39.33521 To view detailed results, visit: https://lab.dpdk.org/results/dashboard/tarballs/33531/ UNH-IOL DPDK Community Lab To manage your email subscriptions, visit: https://lab.dpdk.org/results/dashboard/preferences/subscriptions/