From mboxrd@z Thu Jan 1 00:00:00 1970 Return-Path: Received: from mails.dpdk.org (mails.dpdk.org [217.70.189.124]) by inbox.dpdk.org (Postfix) with ESMTP id 1323846751 for ; Thu, 15 May 2025 08:39:43 +0200 (CEST) Received: from mails.dpdk.org (localhost [127.0.0.1]) by mails.dpdk.org (Postfix) with ESMTP id 0DB3F40A80; Thu, 15 May 2025 08:39:43 +0200 (CEST) Received: from mail-io1-f100.google.com (mail-io1-f100.google.com [209.85.166.100]) by mails.dpdk.org (Postfix) with ESMTP id 8D7DD402B3 for ; Thu, 15 May 2025 08:39:41 +0200 (CEST) Received: by mail-io1-f100.google.com with SMTP id ca18e2360f4ac-86135ac9542so22068739f.1 for ; Wed, 14 May 2025 23:39:41 -0700 (PDT) DKIM-Signature: v=1; a=rsa-sha256; c=relaxed/relaxed; d=iol.unh.edu; s=unh-iol; t=1747291181; x=1747895981; darn=dpdk.org; h=cc:to:from:subject:message-id:date:from:to:cc:subject:date :message-id:reply-to; bh=SzkdQamFjT4LsecACDkG537deu9Og3eUb4fB1nEFSRY=; b=WZ3aUvaxKb9FJAChrrgW4OV9s687Qj0MCfg+7rABBfYj7H5j2UHFRshSqE1YbG9DWr NwxebJFK/5zBa2PHNeA4qWVWF8/tcY0tVvThSZ5SdUqflrLLbpG4a4JfSD7v7HCpJUkj nOxPp76gWNDKwbUIuC28mcT5CjjVC07EsaDVY= X-Google-DKIM-Signature: v=1; a=rsa-sha256; c=relaxed/relaxed; d=1e100.net; s=20230601; t=1747291181; x=1747895981; h=cc:to:from:subject:message-id:date:x-gm-message-state:from:to:cc :subject:date:message-id:reply-to; bh=SzkdQamFjT4LsecACDkG537deu9Og3eUb4fB1nEFSRY=; b=n/oOsEc4sNJO4D1Rgq5ltvnHPKILfyfrQa67qpHjrYpQovz3S45FKlOT5BQVWdIn4Z 7mCL/d2ofC1H2VA0YNDZNN6Q9u1X1LotvrtKnNQmGsNt9/SYrY77U1q4Via18l1yLryb DhCNaq7MoujdIlETRqGCUEFycuQ7ZulMEbB3pit7hIfOiOsGqH0xdYFxQsRudPbNReNz Kn+Mx5rh/hRRUb+K5yp4lC13A31sPt3F5jtPgjbMrXIC3Z0TCBNK7Q0VxOXZK+t8MXU7 VXuzPV4mMoHJKRAI34a8FhRm9smuIe21AphcyKPr3ueyngeTgmzZOTWJNFQ2ydJYyQtp s5bA== X-Gm-Message-State: AOJu0Yy9AZ1t3O2slIlkWCgSVr7yfUFsb5LEgjht209o1RXlR0YntRHh qiiEicB2l4WJ8JAD7MmLGj8zJ/20VMib3BVFaByOhLq1fcoIyzPrj+eVkUqXJZ0upg2aCXKnZmk r7e42tIt64Knn+iuEgM4K6L7JpOp9jtYZFl3A X-Gm-Gg: ASbGnctkDj+NJSRKRJXjpVgc4ET8Z+sOaBsAN40z75CzJ9MhkENXWW/QLq2cEQnPc+6 2d6JlUxw6qC2ctjLjUZ+GR4ej3uXt71IKwXLgHsRwl727WuxW8uYqgQ73PgWLw99UuvcPfWMxn9 D20RcHABk0s+ME/U2yxIdmIXD3gsNU/wCNmwHjPeITyLjDkYGkLRv/I03xXS9OABhGrZLhqawfJ H4GJDh/3Gt1itdex/33PFV+pC5mXrcu6CK0560hVWzlR5SiEhKWFLexBxbcunF4Ww39qbomKliu y8VBXhMuq5lsPdIcKAhJ/OSQTsvl3Z4hKKCuyW0eq0unHbPn4xFSvgKeuSg= X-Google-Smtp-Source: AGHT+IHgCdKPZWGY5ngKPlh3RzM3cOf87HyLgGSGxXlpcwtZtd96j7lQfmsZsvIbw3u6O2yE3fxemB1IP6Q2 X-Received: by 2002:a5d:9389:0:b0:85e:73da:c56a with SMTP id ca18e2360f4ac-86a174c22e2mr217606739f.3.1747291180863; Wed, 14 May 2025 23:39:40 -0700 (PDT) Received: from postal.iol.unh.edu (postal.iol.unh.edu. [132.177.123.84]) by smtp-relay.gmail.com with ESMTPS id ca18e2360f4ac-8676377a25bsm64968839f.19.2025.05.14.23.39.40 (version=TLS1_2 cipher=ECDHE-ECDSA-AES128-GCM-SHA256 bits=128/128); Wed, 14 May 2025 23:39:40 -0700 (PDT) X-Relaying-Domain: iol.unh.edu Date: Wed, 14 May 2025 23:39:40 -0700 (PDT) Message-ID: <68258c2c.050a0220.106450.1e02SMTPIN_ADDED_MISSING@mx.google.com> Received: from [172.21.0.6] (unknown [172.18.0.240]) by postal.iol.unh.edu (Postfix) with ESMTP id 4E66B6052471; Thu, 15 May 2025 02:39:40 -0400 (EDT) Subject: |SUCCESS| [GIT MASTER] 4c5634de9f933555bab9c64a533d3dca999071cd From: dpdklab@iol.unh.edu To: Test Report Cc: dpdk-test-reports@iol.unh.edu, Xueming Li , Christian Ehrhardt , Kevin Traynor , Luca Boccassi Content-Type: text/plain X-BeenThere: test-report@dpdk.org X-Mailman-Version: 2.1.29 Precedence: list List-Id: automatic DPDK test reports List-Unsubscribe: , List-Archive: List-Post: List-Help: List-Subscribe: , Errors-To: test-report-bounces@dpdk.org _Testing PASS_ Branch: tags/v24.11 4c5634de9f933555bab9c64a533d3dca999071cd --> testing pass Upstream job id: ACVP-FIPS-testing#9810 Test environment and result as below: +--------------------+----------------------+----------------------+ | Environment | compressdev_zlib_pmd | dpdk_fips_validation | +====================+======================+======================+ | Ubuntu 22.04 (ARM) | PASS | SKIPPED | +--------------------+----------------------+----------------------+ | Ubuntu 22.04 | PASS | SKIPPED | +--------------------+----------------------+----------------------+ | Ubuntu 20.04 | SKIPPED | PASS | +--------------------+----------------------+----------------------+ Ubuntu 22.04 (ARM) Kernel: 5.15.0-97-generic Compiler: gcc gcc (Ubuntu 11.4.0-1ubuntu1~22.04) 11.4.0 Ubuntu 22.04 Kernel: 5.15.0-100-generic Compiler: gcc gcc (Ubuntu 11.4.0-1ubuntu1~22.04) 11.4.0 Ubuntu 20.04 Kernel: Depends on container host Compiler: gcc (Ubuntu 9.4.0-1ubuntu1~20.04.2) 9.4.0 To view detailed results, visit: https://lab.dpdk.org/results/dashboard/tarballs/33531/ UNH-IOL DPDK Community Lab To manage your email subscriptions, visit: https://lab.dpdk.org/results/dashboard/preferences/subscriptions/