From mboxrd@z Thu Jan 1 00:00:00 1970 Return-Path: Received: from mails.dpdk.org (mails.dpdk.org [217.70.189.124]) by inbox.dpdk.org (Postfix) with ESMTP id DD12A46751 for ; Thu, 15 May 2025 08:44:50 +0200 (CEST) Received: from mails.dpdk.org (localhost [127.0.0.1]) by mails.dpdk.org (Postfix) with ESMTP id B6B7640A80; Thu, 15 May 2025 08:44:50 +0200 (CEST) Received: from mail-pj1-f97.google.com (mail-pj1-f97.google.com [209.85.216.97]) by mails.dpdk.org (Postfix) with ESMTP id BC0F4402B3 for ; Thu, 15 May 2025 08:44:49 +0200 (CEST) Received: by mail-pj1-f97.google.com with SMTP id 98e67ed59e1d1-30e57a373c9so188232a91.2 for ; Wed, 14 May 2025 23:44:49 -0700 (PDT) DKIM-Signature: v=1; a=rsa-sha256; c=relaxed/relaxed; d=iol.unh.edu; s=unh-iol; t=1747291489; x=1747896289; darn=dpdk.org; h=cc:to:from:subject:message-id:date:from:to:cc:subject:date :message-id:reply-to; bh=2mthtXhfbsF8vpeBW1Piz/OtI1iHhwCz7NVAUyqGbII=; b=FSe6bYph67WZ2n3jTSEPyovj8xVJX3OfNkmSbQ+BxJoXd0FotBUl0qek2Mogf9WqFt E1s8FrQwveWTyaQXAQTJ6p9FCQS3jjYEi//9qS1kuWuYYZmeKm8zDFEnRUcRuMi9VGfx pmiwVAAibPOpPYnmN666ZQ+cLgj0wAr2SE+U4= X-Google-DKIM-Signature: v=1; a=rsa-sha256; c=relaxed/relaxed; d=1e100.net; s=20230601; t=1747291489; x=1747896289; h=cc:to:from:subject:message-id:date:x-gm-message-state:from:to:cc :subject:date:message-id:reply-to; bh=2mthtXhfbsF8vpeBW1Piz/OtI1iHhwCz7NVAUyqGbII=; b=pTBKuJWaW50CLl12SuzzyLpKTiiM3pwy4+/5j+dW9mL5RnBUheMFUFzhJdAZtxefpv dtCjC7nPX3gCHWbzhYGXXe3PLqkcRvzGqShdpV5ZJHm1sMs4Y4jIMdzUyuQMpyFAX13i 4nAEzblpnNrI8ZDqV6sKK5YyUbdJO8ni0bH+b/AsNm6XzYUf4lreL7O8pKUiGiHcTAuS tTRxfpqCo1Z3qsUyBDmvkmnJ7Nx7BQYYNKldiyzqpM88XKbrX7eUXNWNQt9UkNBk0e7k J47pBCb/0buM1yYQUfdZZTxKkGtdiyNvy3pFVekelnTLWzyLMoTcTPZIzgkDWRISAgow rRNA== X-Gm-Message-State: AOJu0YxgVGCsHhvXdEDHWa3AVxSbw+d+qTjN8wp/kIcCnOhJvSuAIIcj WNPcoieizx5BCZS+LtjOnzI7DEY8NgsP0884gokb6zxv8nwgkQfz8W4KKUR2EY4DmlpXPrJlJ9n KcGxb9c+Qaj0j3f6tWgpl9uURTW50ms00 X-Gm-Gg: ASbGncvd+Dlyctd+2dgWOVUMDwfSqtHbU/2qL4bOAuiB7UPTIfBl3tKKgCDKneY5bXf mwapATryPGBPaNm8K77wZGg0nPkI15OLkKlECu+v6tTjG0J13bNYN+G87SWgpHF4ugX+8Upz9O7 vby61p/kBdcmtBiS6Rq8bAL+WfXmARoHJJsn/BZ9NkzrH+kwtCxpdeVYzxA9E6jxohLu7zpB2C8 CcSytvfUy2oxcOpxu9riQF5R7iQt6Vd6egQeerX1nbcNktBlg8gA83l2CjVjivOKqGJElHeADMu 8EQJ7ERjCBtjujn31RIp2BvCoP1rc/O/xdjJuTwdIN3zx1QRQkpqd3l1szc= X-Google-Smtp-Source: AGHT+IFiIXDTRFcjxW/xmVZGWXsmkA7+vhj24b22PvMXT9D1REbzL5PAgnxayaSqYjFnFuymWMNB4EjZBX4m X-Received: by 2002:a17:90a:e7c6:b0:2fe:a8b1:7d8 with SMTP id 98e67ed59e1d1-30e2e65e722mr9526234a91.25.1747291488876; Wed, 14 May 2025 23:44:48 -0700 (PDT) Received: from postal.iol.unh.edu (postal.iol.unh.edu. [132.177.123.84]) by smtp-relay.gmail.com with ESMTPS id 98e67ed59e1d1-30e334b269asm243153a91.13.2025.05.14.23.44.48 (version=TLS1_2 cipher=ECDHE-ECDSA-AES128-GCM-SHA256 bits=128/128); Wed, 14 May 2025 23:44:48 -0700 (PDT) X-Relaying-Domain: iol.unh.edu Date: Wed, 14 May 2025 23:44:48 -0700 (PDT) Message-ID: <68258d60.170a0220.20e960.d8faSMTPIN_ADDED_MISSING@mx.google.com> Received: from [172.21.0.6] (unknown [172.18.0.240]) by postal.iol.unh.edu (Postfix) with ESMTP id 1AA196052471; Thu, 15 May 2025 02:44:48 -0400 (EDT) Subject: |SUCCESS| [GIT MASTER] 4401486b5e30d43a134f80f9802f60b5f43e74a8 From: dpdklab@iol.unh.edu To: Test Report Cc: dpdk-test-reports@iol.unh.edu, Xueming Li , Christian Ehrhardt , Kevin Traynor , Luca Boccassi Content-Type: text/plain X-BeenThere: test-report@dpdk.org X-Mailman-Version: 2.1.29 Precedence: list List-Id: automatic DPDK test reports List-Unsubscribe: , List-Archive: List-Post: List-Help: List-Subscribe: , Errors-To: test-report-bounces@dpdk.org _Testing PASS_ Branch: tags/v22.11 4401486b5e30d43a134f80f9802f60b5f43e74a8 --> testing pass Upstream job id: Generic-Unit-Test-DPDK#337829 Test environment and result as below: +-----------------------------+------------------------------+--------------+---------------------------+----------------+ | Environment | cryptodev_sw_snow3g_autotest | lpm_autotest | cryptodev_sw_zuc_autotest | dpdk_unit_test | +=============================+==============================+==============+===========================+================+ | Debian 12 (arm) | PASS | SKIPPED | PASS | SKIPPED | +-----------------------------+------------------------------+--------------+---------------------------+----------------+ | Ubuntu 20.04 ARM SVE | SKIPPED | PASS | SKIPPED | SKIPPED | +-----------------------------+------------------------------+--------------+---------------------------+----------------+ | 32-bit Ubuntu 22.04.4 (ARM) | SKIPPED | SKIPPED | SKIPPED | PASS | +-----------------------------+------------------------------+--------------+---------------------------+----------------+ Debian 12 (arm) Kernel: Depends on container host Compiler: gcc (Debian 12.2.0-14) 12.2.0 Ubuntu 20.04 ARM SVE Kernel: Depends on container host Compiler: gcc (Ubuntu 10.5.0-1ubuntu1~20.04) 10.5.0 32-bit Ubuntu 22.04.4 (ARM) Kernel: 5.15.83+ aarch64 Compiler: gcc (Ubuntu 11.4.0-1ubuntu1~22.04) 11.4.0 To view detailed results, visit: https://lab.dpdk.org/results/dashboard/tarballs/33533/ UNH-IOL DPDK Community Lab To manage your email subscriptions, visit: https://lab.dpdk.org/results/dashboard/preferences/subscriptions/