From mboxrd@z Thu Jan 1 00:00:00 1970 Return-Path: Received: from mails.dpdk.org (mails.dpdk.org [217.70.189.124]) by inbox.dpdk.org (Postfix) with ESMTP id 557AA46751 for ; Thu, 15 May 2025 09:27:54 +0200 (CEST) Received: from mails.dpdk.org (localhost [127.0.0.1]) by mails.dpdk.org (Postfix) with ESMTP id 3EF6240667; Thu, 15 May 2025 09:27:54 +0200 (CEST) Received: from mail-io1-f99.google.com (mail-io1-f99.google.com [209.85.166.99]) by mails.dpdk.org (Postfix) with ESMTP id 381B7402C2 for ; Thu, 15 May 2025 09:27:53 +0200 (CEST) Received: by mail-io1-f99.google.com with SMTP id ca18e2360f4ac-85e1b1f08a5so17308439f.2 for ; Thu, 15 May 2025 00:27:53 -0700 (PDT) DKIM-Signature: v=1; a=rsa-sha256; c=relaxed/relaxed; d=iol.unh.edu; s=unh-iol; t=1747294072; x=1747898872; darn=dpdk.org; h=cc:to:from:subject:message-id:date:from:to:cc:subject:date :message-id:reply-to; bh=eZ4cyMjXjhTPwilYketycZ7jr5t6mYWPXlsr/5qQ4mU=; b=iJ0VOkd00Luw9a94+fDSIxtbVzwEmgHXdWIpmqKnqM6rsq+x2u9q7UDRCrhGKsKPug IHd07Ja3E2lfGDKlpwAeRdCHHjuzf9SbxQ6TGyNUGbMWE+Vge724IoO+MhQboh1If0oS mFXtKn005cLotNI6kDJ0FDIh+Pm5bVDWIuafk= X-Google-DKIM-Signature: v=1; a=rsa-sha256; c=relaxed/relaxed; d=1e100.net; s=20230601; t=1747294072; x=1747898872; h=cc:to:from:subject:message-id:date:x-gm-message-state:from:to:cc :subject:date:message-id:reply-to; bh=eZ4cyMjXjhTPwilYketycZ7jr5t6mYWPXlsr/5qQ4mU=; b=E6Z28834b/lXhmQspyrCji2loGpSp5Vz8sh/t3A18HIK7JcN9iQzY0yuG67dQuIzEt ScgyVzA3TN/ynQmZxpez+faAW3oUNjjTCPVBGGkpfgWmi9waMgH6mIJjkQbl/tlqd33+ mX7tw4FCxEiDUPFSgjSN6C417MlwsB8FiqHpR7+S5bBuGypeunhJ5X7jOhfiSr+W3ola +oaFPwbwzImDcVGmMknJD6O5f+TSjqDHZCyQ9f+tteVLzqJp7FcDfYbvkiRKur7GikuS qDcxasblfak09mOzBpIrn1B0kI1zUioDlbfiauwtWQvByPxNbxUeBSTTfA6X3AWmBTZN NZyQ== X-Gm-Message-State: AOJu0YxAuQdpoFvk5vhleEUOgsdsSdfAqczMcLG9EyrZTOPwa+pNv5YS SVnP1jFhwLQxDQrTmnf80GL75IizWH9mar1iyQSlQb/ou5LCcUJ3NhK8vunS4sCHl0dXuFomGRK FzcV7HPUMNxV1L/d/gvyPWmWKqWS0xqvakNIJHGA2uEZWLRNe X-Gm-Gg: ASbGncvsHQsiIJ2FFEtkGaYcmJdsyVETPchNDV3TqvMXf89IcqI0h+bCI+yQ86n2EMW AcFkdcKj5cW940yKye6OicZDKR6l2FpDOBj9lO647ns1tl3XPnpT3hhca3dhNgRU4Wv3DSy2iEq +ewJYNOMNZK63CW6tz7BmeJbu1zIfG0RLVIdZLZX6DoF4Ea+y/wdmMDOdGpBE/zHHpnTpvgErhV zFB42UDxu9OmZki9ZDfGDpspye17+c3uDMK5Bhm9cHLz1vPJ3/QIVmOI1AO5B2Nmvgjte3oIrBd Hw53699xhfkN1c3dZq+yfsfdQZ0UW/sZTowt X-Google-Smtp-Source: AGHT+IG3b+G/hZ6ifPQ3XBCRV1MANTwg8mmfPLi1EpVjq/j7qLSypWVmdm6OU8RcXmBzAP/jBh/Ji5JF93+e X-Received: by 2002:a05:6602:408f:b0:861:c744:5a4a with SMTP id ca18e2360f4ac-86a08dca169mr922087439f.5.1747294072374; Thu, 15 May 2025 00:27:52 -0700 (PDT) Received: from postal.iol.unh.edu (postal.iol.unh.edu. [2606:4100:3880:1234::84]) by smtp-relay.gmail.com with ESMTPS id ca18e2360f4ac-86763667d86sm59417639f.9.2025.05.15.00.27.52 (version=TLS1_2 cipher=ECDHE-ECDSA-AES128-GCM-SHA256 bits=128/128); Thu, 15 May 2025 00:27:52 -0700 (PDT) X-Relaying-Domain: iol.unh.edu Date: Thu, 15 May 2025 00:27:52 -0700 (PDT) Message-ID: <68259778.050a0220.2f9e3a.f6edSMTPIN_ADDED_MISSING@mx.google.com> Received: from [172.21.0.5] (unknown [172.18.0.240]) by postal.iol.unh.edu (Postfix) with ESMTP id CA5316052471; Thu, 15 May 2025 03:27:51 -0400 (EDT) Subject: |SUCCESS| [GIT MASTER] 83a7a648344674c0269fcaeb71d8d16468421a0e From: dpdklab@iol.unh.edu To: Test Report Cc: dpdk-test-reports@iol.unh.edu, Xueming Li , Christian Ehrhardt , Kevin Traynor , Luca Boccassi Content-Type: text/plain X-BeenThere: test-report@dpdk.org X-Mailman-Version: 2.1.29 Precedence: list List-Id: automatic DPDK test reports List-Unsubscribe: , List-Archive: List-Post: List-Help: List-Subscribe: , Errors-To: test-report-bounces@dpdk.org _Testing PASS_ Branch: tags/v23.11 83a7a648344674c0269fcaeb71d8d16468421a0e --> testing pass Upstream job id: Generic-Unit-Test-DPDK#337848 Test environment and result as below: +-----------------------------+--------------+------------------------------+---------------------------+----------------+ | Environment | lpm_autotest | cryptodev_sw_snow3g_autotest | cryptodev_sw_zuc_autotest | dpdk_unit_test | +=============================+==============+==============================+===========================+================+ | Ubuntu 20.04 ARM SVE | PASS | SKIPPED | SKIPPED | SKIPPED | +-----------------------------+--------------+------------------------------+---------------------------+----------------+ | Debian 12 (arm) | SKIPPED | PASS | PASS | PASS | +-----------------------------+--------------+------------------------------+---------------------------+----------------+ | Fedora 40 (ARM Clang) | SKIPPED | SKIPPED | SKIPPED | PASS | +-----------------------------+--------------+------------------------------+---------------------------+----------------+ | CentOS Stream 9 (ARM) | SKIPPED | SKIPPED | SKIPPED | PASS | +-----------------------------+--------------+------------------------------+---------------------------+----------------+ | Fedora 40 (ARM) | SKIPPED | SKIPPED | SKIPPED | PASS | +-----------------------------+--------------+------------------------------+---------------------------+----------------+ | CentOS Stream 10 (ARM) | SKIPPED | SKIPPED | SKIPPED | PASS | +-----------------------------+--------------+------------------------------+---------------------------+----------------+ | Ubuntu 22.04 (ARM) | SKIPPED | SKIPPED | SKIPPED | PASS | +-----------------------------+--------------+------------------------------+---------------------------+----------------+ | Fedora 41 (ARM) | SKIPPED | SKIPPED | SKIPPED | PASS | +-----------------------------+--------------+------------------------------+---------------------------+----------------+ | Ubuntu 20.04 (ARM) | SKIPPED | SKIPPED | SKIPPED | PASS | +-----------------------------+--------------+------------------------------+---------------------------+----------------+ | RHEL9 (ARM) | SKIPPED | SKIPPED | SKIPPED | PASS | +-----------------------------+--------------+------------------------------+---------------------------+----------------+ | Fedora 41 (ARM Clang) | SKIPPED | SKIPPED | SKIPPED | PASS | +-----------------------------+--------------+------------------------------+---------------------------+----------------+ | Ubuntu 24.04 (ARM) | SKIPPED | SKIPPED | SKIPPED | PASS | +-----------------------------+--------------+------------------------------+---------------------------+----------------+ | 32-bit Ubuntu 22.04.4 (ARM) | SKIPPED | SKIPPED | SKIPPED | PASS | +-----------------------------+--------------+------------------------------+---------------------------+----------------+ Ubuntu 20.04 ARM SVE Kernel: Depends on container host Compiler: gcc (Ubuntu 10.5.0-1ubuntu1~20.04) 10.5.0 Debian 12 (arm) Kernel: Depends on container host Compiler: gcc (Debian 12.2.0-14) 12.2.0 Fedora 40 (ARM Clang) Kernel: Depends on container host Compiler: clang 18.1.8 (Fedora 18.1.8-1.fc40) CentOS Stream 9 (ARM) Kernel: Depends on container host Compiler: gcc 11.5.0 20240719 (Red Hat 11.5.0-2) Fedora 40 (ARM) Kernel: Depends on container host Compiler: gcc 14.2.1 20240912 (Red Hat 14.2.1-3) CentOS Stream 10 (ARM) Kernel: Depends on container host Compiler: gcc 14.2.1 20241104 (Red Hat 14.2.1-6) Ubuntu 22.04 (ARM) Kernel: Depends on container host Compiler: gcc (Ubuntu 11.4.0-1ubuntu1~22.04) 11.4.0 Fedora 41 (ARM) Kernel: Depends on container host Compiler: gcc 14.2.1 20240912 (Red Hat 14.2.1-3) Ubuntu 20.04 (ARM) Kernel: Depends on container host Compiler: gcc (Ubuntu 9.4.0-1ubuntu1~20.04.2) 9.4.0 RHEL9 (ARM) Kernel: Depends on container host Compiler: gcc 11.5.0 20240719 (Red Hat 11.5.0-2) Fedora 41 (ARM Clang) Kernel: Depends on container host Compiler: clang 19.1.5 (Fedora 19.1.5-1.fc41) Ubuntu 24.04 (ARM) Kernel: Depends on container host Compiler: gcc (Ubuntu 13.3.0-6ubuntu2~24.04) 13.3.0 32-bit Ubuntu 22.04.4 (ARM) Kernel: 5.15.83+ aarch64 Compiler: gcc (Ubuntu 11.4.0-1ubuntu1~22.04) 11.4.0 To view detailed results, visit: https://lab.dpdk.org/results/dashboard/tarballs/33532/ UNH-IOL DPDK Community Lab To manage your email subscriptions, visit: https://lab.dpdk.org/results/dashboard/preferences/subscriptions/