From mboxrd@z Thu Jan 1 00:00:00 1970 Return-Path: Received: from mails.dpdk.org (mails.dpdk.org [217.70.189.124]) by inbox.dpdk.org (Postfix) with ESMTP id 0AE3446751 for ; Thu, 15 May 2025 09:58:24 +0200 (CEST) Received: from mails.dpdk.org (localhost [127.0.0.1]) by mails.dpdk.org (Postfix) with ESMTP id E590C40667; Thu, 15 May 2025 09:58:23 +0200 (CEST) Received: from mail-il1-f228.google.com (mail-il1-f228.google.com [209.85.166.228]) by mails.dpdk.org (Postfix) with ESMTP id 76295402C2 for ; Thu, 15 May 2025 09:58:22 +0200 (CEST) Received: by mail-il1-f228.google.com with SMTP id e9e14a558f8ab-3d9327d0720so4757465ab.3 for ; Thu, 15 May 2025 00:58:22 -0700 (PDT) DKIM-Signature: v=1; a=rsa-sha256; c=relaxed/relaxed; d=iol.unh.edu; s=unh-iol; t=1747295901; x=1747900701; darn=dpdk.org; h=cc:to:from:subject:message-id:date:from:to:cc:subject:date :message-id:reply-to; bh=JVqXlX/m7AmOijMFcuVKCVkGC/mLFA6LRzF0FkwzM8Y=; b=RhdNTUQb09wkmBGo1499IUfNUxUYT8FpKk5vgMGmBVsdxAGXwbsPHRxywgboCZFsd1 qi+tUxubvJWmizdBOGlv8OvckFxsQDLF1+Uj2tkFtmxvRcm0VCXhPDg/m/G9ijSASwNh SJpXCirXgGgUFo0+C+CsS13TQFa7MBKdjrgSk= X-Google-DKIM-Signature: v=1; a=rsa-sha256; c=relaxed/relaxed; d=1e100.net; s=20230601; t=1747295901; x=1747900701; h=cc:to:from:subject:message-id:date:x-gm-message-state:from:to:cc :subject:date:message-id:reply-to; bh=JVqXlX/m7AmOijMFcuVKCVkGC/mLFA6LRzF0FkwzM8Y=; b=c48Yh0dRKq9mWEWe0iAIJk2M2P+Bwre13jRhOIgqgUxXKqMhx6HIAUPDH1H5ePdYnT U7hITNZjA7htv123VhB/PRl/b71dn4D5eRXjQNXieWUZxV4H0xqWkHI9Nuzsz0g6j7Eo DmwynK/tewzIS79xA6UnSPugRxXoVED/vaa2BVqGBhb9xjnvill+pD28CI8ysNG7MTNx lqoCOjY2t8Jp2EoQLDMsMvxhJFIZUgzTFHyHZIEsXoTxU1AGW92oTl0CuwMugg0O25Vc 0lsAwEUvRBZ1JAbQ/qWjC+Y4btYmsPWD593K3KIhng2/CMNBFlMWfGROsDMvIXfJZ+LX Lv0A== X-Gm-Message-State: AOJu0YxVLSInJFvmMI7+4bcEfeMjeE67p9D7SvcfhPIczwdhneFGH8hh ZguzMF4VegrNCXaT9lNXVfOhRVbzIv0soDHoWaZg8Yd2TOYtI8rkzy8f+R+1D1TClwLraZ3+HnG ny3xQHjLkiPkRmxbRuZ+TZTkZbzt+77aZo3kYBK3CWVOVhaEu X-Gm-Gg: ASbGncv5TUPI+xS/lIlaMqmG10uAcMJp5GeOqoWs76dzWiroOBdoJ7gZSeP/ERGuBGD U/b/cojBo9RKGUMTmpXgX2Kv2S3SnS82z5p5rItnUZW03tn2yILLPYAsShUL2JhQyjznLnNaLS0 ki7KA2TcE4vTst8mqIYDMpP+vQJ1Z/GK3HPFtvf/Xk81W/4g4iZJ2gHszq6PqOs4yBgezCAbOPm qCPpypjHS3CC/N5trF/VazWNwCYhEY082/V2wPNTZaJu7lOzJVWwVrPIYCVJRH1w5CDRfdlTyWH 1zQaHuwAKIlciTk28XK8Pirrwt/v4Z5UAGRw X-Google-Smtp-Source: AGHT+IHKKCqJb+YzT1z8BRzoWIUEMoN60LV7lljiR4BoJRj9Db1KefuMmd8GVjrrB8sqVXWL90JhQfQDrzGp X-Received: by 2002:a05:6e02:3784:b0:3d9:5d50:e3b1 with SMTP id e9e14a558f8ab-3db6f7f1597mr80233855ab.18.1747295901627; Thu, 15 May 2025 00:58:21 -0700 (PDT) Received: from postal.iol.unh.edu (postal.iol.unh.edu. [2606:4100:3880:1234::84]) by smtp-relay.gmail.com with ESMTPS id 8926c6da1cb9f-4fa2262f5e9sm254144173.69.2025.05.15.00.58.21 (version=TLS1_2 cipher=ECDHE-ECDSA-AES128-GCM-SHA256 bits=128/128); Thu, 15 May 2025 00:58:21 -0700 (PDT) X-Relaying-Domain: iol.unh.edu Date: Thu, 15 May 2025 00:58:21 -0700 (PDT) Message-ID: <68259e9d.050a0220.2b3e50.d2e6SMTPIN_ADDED_MISSING@mx.google.com> Received: from [172.21.0.5] (unknown [172.18.0.240]) by postal.iol.unh.edu (Postfix) with ESMTP id 124776052471; Thu, 15 May 2025 03:58:21 -0400 (EDT) Subject: |SUCCESS| [GIT MASTER] 83a7a648344674c0269fcaeb71d8d16468421a0e From: dpdklab@iol.unh.edu To: Test Report Cc: dpdk-test-reports@iol.unh.edu, Xueming Li , Christian Ehrhardt , Kevin Traynor , Luca Boccassi Content-Type: text/plain X-BeenThere: test-report@dpdk.org X-Mailman-Version: 2.1.29 Precedence: list List-Id: automatic DPDK test reports List-Unsubscribe: , List-Archive: List-Post: List-Help: List-Subscribe: , Errors-To: test-report-bounces@dpdk.org _Testing PASS_ Branch: tags/v23.11 83a7a648344674c0269fcaeb71d8d16468421a0e --> testing pass Upstream job id: Generic-Unit-Test-DPDK#337854 Test environment and result as below: +---------------------+----------------+ | Environment | dpdk_unit_test | +=====================+================+ | Fedora 41 (Clang) | PASS | +---------------------+----------------+ | Debian 12 | PASS | +---------------------+----------------+ | Fedora 40 | PASS | +---------------------+----------------+ | RHEL8 | PASS | +---------------------+----------------+ | CentOS Stream 9 | PASS | +---------------------+----------------+ | Fedora 41 | PASS | +---------------------+----------------+ | Fedora 40 (Clang) | PASS | +---------------------+----------------+ | CentOS Stream 10 | PASS | +---------------------+----------------+ | Ubuntu 22.04 | PASS | +---------------------+----------------+ | Ubuntu 24.04 | PASS | +---------------------+----------------+ | RHEL9 | PASS | +---------------------+----------------+ | Ubuntu 20.04 | PASS | +---------------------+----------------+ | Windows Server 2022 | PASS | +---------------------+----------------+ Fedora 41 (Clang) Kernel: Depends on container host Compiler: clang 19.1.5 (Fedora 19.1.5-1.fc41) Debian 12 Kernel: Depends on container host Compiler: gcc (Debian 12.2.0-14) 12.2.0 Fedora 40 Kernel: Depends on container host Compiler: gcc 14.2.1 20240912 (Red Hat 14.2.1-3) RHEL8 Kernel: Depends on container host Compiler: gcc 8.5.0 20210514 (Red Hat 8.5.0-22) CentOS Stream 9 Kernel: Depends on container host Compiler: gcc 11.5.0 20240719 (Red Hat 11.5.0-2) Fedora 41 Kernel: Depends on container host Compiler: gcc 14.2.1 20240912 (Red Hat 14.2.1-3) Fedora 40 (Clang) Kernel: Depends on container host Compiler: clang 18.1.8 (Fedora 18.1.8-1.fc40) CentOS Stream 10 Kernel: Depends on container host Compiler: gcc 14.2.1 20241104 (Red Hat 14.2.1-6) Ubuntu 22.04 Kernel: Depends on container host Compiler: gcc (Ubuntu 11.4.0-1ubuntu1~22.04) 11.4.0 Ubuntu 24.04 Kernel: Depends on container host Compiler: gcc (Ubuntu 13.3.0-6ubuntu2~24.04) 13.3.0 RHEL9 Kernel: Depends on container host Compiler: gcc 11.5.0 20240719 (Red Hat 11.5.0-2) Ubuntu 20.04 Kernel: Depends on container host Compiler: gcc (Ubuntu 9.4.0-1ubuntu1~20.04.2) 9.4.0 Windows Server 2022 Kernel: 10.0.20348.2031 Compiler: clang 15.0.7, gcc 14.1.0 (MinGW), and MSVC VS 19.39.33521 To view detailed results, visit: https://lab.dpdk.org/results/dashboard/tarballs/33532/ UNH-IOL DPDK Community Lab To manage your email subscriptions, visit: https://lab.dpdk.org/results/dashboard/preferences/subscriptions/