From mboxrd@z Thu Jan 1 00:00:00 1970 Return-Path: Received: from mails.dpdk.org (mails.dpdk.org [217.70.189.124]) by inbox.dpdk.org (Postfix) with ESMTP id 1C0EA46754 for ; Thu, 15 May 2025 10:05:42 +0200 (CEST) Received: from mails.dpdk.org (localhost [127.0.0.1]) by mails.dpdk.org (Postfix) with ESMTP id 084D040B9E; Thu, 15 May 2025 10:05:42 +0200 (CEST) Received: from mail-ot1-f98.google.com (mail-ot1-f98.google.com [209.85.210.98]) by mails.dpdk.org (Postfix) with ESMTP id D65FC40BA2 for ; Thu, 15 May 2025 10:05:40 +0200 (CEST) Received: by mail-ot1-f98.google.com with SMTP id 46e09a7af769-7311a8bb581so634722a34.0 for ; Thu, 15 May 2025 01:05:40 -0700 (PDT) DKIM-Signature: v=1; a=rsa-sha256; c=relaxed/relaxed; d=iol.unh.edu; s=unh-iol; t=1747296340; x=1747901140; darn=dpdk.org; h=cc:to:from:subject:message-id:date:from:to:cc:subject:date :message-id:reply-to; bh=xmNhoJLRN3oJF4CGb2Z/cTRdVWq2rDFuHgWyVkj6+2c=; b=eFtnIomHeADC7+nHg+MjvdmTWvsL0ZZE9lzXMVvlkbW/TgUmBr+PlsP52Fjrn255cZ Xdphya8JJhgkAmSkSS/15v0H63QCB5GGCs0TnyEgMR80tuhPYQTYh8Msrfd7Gs6ACIyr pZm71XNyhKfWlO/pnTZX/CMoSHHEowJf0zZ+s= X-Google-DKIM-Signature: v=1; a=rsa-sha256; c=relaxed/relaxed; d=1e100.net; s=20230601; t=1747296340; x=1747901140; h=cc:to:from:subject:message-id:date:x-gm-message-state:from:to:cc :subject:date:message-id:reply-to; bh=xmNhoJLRN3oJF4CGb2Z/cTRdVWq2rDFuHgWyVkj6+2c=; b=BX/F1o7ic910i/waz/u6YFMA1Ai2T2bkFJb7VrSfmParMqQQ9LY6hJfeihgeCJIHcB tqh9K/uEELKCXnKEaN1RBeoS8mZwG6OJFsS2bufvInQ5EiIyCiwQS2o7abatZiYbab4q c2siff3Sv17MhvpVYaWsyfrvA3645FDCYI35swQrmFQhq4GX7+Iv9LPOjxq1am9bnKb/ v9D1+/LIUxtOx9cJpkBzllatEdHAp9QaWxPpHi90S++frOiwP/C7u8XkbD2W5mrqPIE/ k7t9n7peu7/CiZEQy8MBzYnY93adnAMUc2eylqsro+g8OvqFVjDOkmlJRMNSRG9DYNe7 nhCw== X-Gm-Message-State: AOJu0YzxQVQW+w3LBlK3h6fOQ13a+38pQ8uTB9v+p4r3kboF/qbAfPv2 6a2758qT1XQ5UxXhE2mLfRYT6uOXdg541txGVmrh5dvzT8VgPPdXa7ALD4Fy3WLrlPMlXIjN2kK sUjejs3nq8ee4V02CQHfyf7v3+XiSlt8CAM0aRnviUQYBZbN7 X-Gm-Gg: ASbGnctlixbJucEjFNv0e2jC4QPam+/d8b22dTtNb5N1Dr2aXj6LPWXr+1mRh01QfrB xbD9nhCI2u7IUJZvIZ00ju5AUpg4G1NrH3oHZsZRE5SEHjhHh84DjubcBRepTiVQeV0KUNjse3f eo42Y7C3qWeQFV45FCAgVF9x8OZHQ/H2D2rcaIfJEHUxXCYePN46N79kcIvGLG6eWg8cuLjrKVN CeOuJbEpJgBpW1i8FWLYf0ai2P9GNtf3yqkMmpJVJRVutRweq/swiHBchFO0P66ou6qpIt/lIQg EuER3X7HmVTZbQ3u3ZHyiuTGTr/h726BkwiZ X-Google-Smtp-Source: AGHT+IHoyUvXy6HrNZ88N27Oe/YpSsjLMYDHx+lqpb29szdxJhpoNX3rZ2HaLr1+YTbLEixhtDH681Kf2BbF X-Received: by 2002:a05:6870:330f:b0:2d4:d9d6:c8c2 with SMTP id 586e51a60fabf-2e34889e72bmr4021113fac.34.1747296340099; Thu, 15 May 2025 01:05:40 -0700 (PDT) Received: from postal.iol.unh.edu (postal.iol.unh.edu. [2606:4100:3880:1234::84]) by smtp-relay.gmail.com with ESMTPS id 586e51a60fabf-2dba0aeee82sm612613fac.32.2025.05.15.01.05.40 (version=TLS1_2 cipher=ECDHE-ECDSA-AES128-GCM-SHA256 bits=128/128); Thu, 15 May 2025 01:05:40 -0700 (PDT) X-Relaying-Domain: iol.unh.edu Date: Thu, 15 May 2025 01:05:40 -0700 (PDT) Message-ID: <6825a054.050a0220.a0d4e.fb4cSMTPIN_ADDED_MISSING@mx.google.com> Received: from [172.21.0.5] (unknown [172.18.0.240]) by postal.iol.unh.edu (Postfix) with ESMTP id 819F86052471; Thu, 15 May 2025 04:05:39 -0400 (EDT) Subject: |SUCCESS| [GIT MASTER] 4401486b5e30d43a134f80f9802f60b5f43e74a8 From: dpdklab@iol.unh.edu To: Test Report Cc: dpdk-test-reports@iol.unh.edu, Xueming Li , Christian Ehrhardt , Kevin Traynor , Luca Boccassi Content-Type: text/plain X-BeenThere: test-report@dpdk.org X-Mailman-Version: 2.1.29 Precedence: list List-Id: automatic DPDK test reports List-Unsubscribe: , List-Archive: List-Post: List-Help: List-Subscribe: , Errors-To: test-report-bounces@dpdk.org _Testing PASS_ Branch: tags/v22.11 4401486b5e30d43a134f80f9802f60b5f43e74a8 --> testing pass Upstream job id: Generic-DPDK-Compile-Meson#388021 Test environment and result as below: +------------------------------------+--------------------+ | Environment | dpdk_meson_compile | +====================================+====================+ | Ubuntu 20.04 ARM SVE | PASS | +------------------------------------+--------------------+ | Debian 12 with MUSDK | PASS | +------------------------------------+--------------------+ | Ubuntu 20.04 ARM GCC Cross Compile | PASS | +------------------------------------+--------------------+ | RHEL9 (ARM) | PASS | +------------------------------------+--------------------+ | Fedora 41 (ARM) | PASS | +------------------------------------+--------------------+ | Ubuntu 24.04 (ARM) | PASS | +------------------------------------+--------------------+ | Ubuntu 22.04 (ARM) | PASS | +------------------------------------+--------------------+ | Fedora 40 (ARM) | PASS | +------------------------------------+--------------------+ | Ubuntu 20.04 (ARM) | PASS | +------------------------------------+--------------------+ | Fedora 41 (ARM Clang) | PASS | +------------------------------------+--------------------+ | Fedora 40 (ARM Clang) | PASS | +------------------------------------+--------------------+ | CentOS Stream 9 (ARM) | PASS | +------------------------------------+--------------------+ | CentOS Stream 10 (ARM) | PASS | +------------------------------------+--------------------+ | Debian 12 (arm) | PASS | +------------------------------------+--------------------+ Ubuntu 20.04 ARM SVE Kernel: Depends on container host Compiler: gcc (Ubuntu 10.5.0-1ubuntu1~20.04) 10.5.0 Debian 12 with MUSDK Kernel: Depends on container host Compiler: gcc (Debian 12.2.0-14) 12.2.0 Ubuntu 20.04 ARM GCC Cross Compile Kernel: Depends on container host Compiler: aarch64-linux-gnu-gcc (Ubuntu 9.4.0-1ubuntu1~20.04.2) 9.4.0 RHEL9 (ARM) Kernel: Depends on container host Compiler: gcc 11.5.0 20240719 (Red Hat 11.5.0-2) Fedora 41 (ARM) Kernel: Depends on container host Compiler: gcc 14.2.1 20240912 (Red Hat 14.2.1-3) Ubuntu 24.04 (ARM) Kernel: Depends on container host Compiler: gcc (Ubuntu 13.3.0-6ubuntu2~24.04) 13.3.0 Ubuntu 22.04 (ARM) Kernel: Depends on container host Compiler: gcc (Ubuntu 11.4.0-1ubuntu1~22.04) 11.4.0 Fedora 40 (ARM) Kernel: Depends on container host Compiler: gcc 14.2.1 20240912 (Red Hat 14.2.1-3) Ubuntu 20.04 (ARM) Kernel: Depends on container host Compiler: gcc (Ubuntu 9.4.0-1ubuntu1~20.04.2) 9.4.0 Fedora 41 (ARM Clang) Kernel: Depends on container host Compiler: clang 19.1.5 (Fedora 19.1.5-1.fc41) Fedora 40 (ARM Clang) Kernel: Depends on container host Compiler: clang 18.1.8 (Fedora 18.1.8-1.fc40) CentOS Stream 9 (ARM) Kernel: Depends on container host Compiler: gcc 11.5.0 20240719 (Red Hat 11.5.0-2) CentOS Stream 10 (ARM) Kernel: Depends on container host Compiler: gcc 14.2.1 20241104 (Red Hat 14.2.1-6) Debian 12 (arm) Kernel: Depends on container host Compiler: gcc (Debian 12.2.0-14) 12.2.0 To view detailed results, visit: https://lab.dpdk.org/results/dashboard/tarballs/33533/ UNH-IOL DPDK Community Lab To manage your email subscriptions, visit: https://lab.dpdk.org/results/dashboard/preferences/subscriptions/