From mboxrd@z Thu Jan 1 00:00:00 1970 Return-Path: Received: from mails.dpdk.org (mails.dpdk.org [217.70.189.124]) by inbox.dpdk.org (Postfix) with ESMTP id D664B46754 for ; Thu, 15 May 2025 10:10:50 +0200 (CEST) Received: from mails.dpdk.org (localhost [127.0.0.1]) by mails.dpdk.org (Postfix) with ESMTP id C731940BA2; Thu, 15 May 2025 10:10:50 +0200 (CEST) Received: from mail-il1-f228.google.com (mail-il1-f228.google.com [209.85.166.228]) by mails.dpdk.org (Postfix) with ESMTP id E7A59402C2 for ; Thu, 15 May 2025 10:10:48 +0200 (CEST) Received: by mail-il1-f228.google.com with SMTP id e9e14a558f8ab-3db7b3de375so2356145ab.1 for ; Thu, 15 May 2025 01:10:48 -0700 (PDT) DKIM-Signature: v=1; a=rsa-sha256; c=relaxed/relaxed; d=iol.unh.edu; s=unh-iol; t=1747296647; x=1747901447; darn=dpdk.org; h=cc:to:from:subject:message-id:date:from:to:cc:subject:date :message-id:reply-to; bh=xG+PfAekudQTE24Fe5JSM1MJMuBmfrCaxZnLYPzmaMU=; b=VSCtigBYWTqHYpQbZRdmnXNOSssKhMNcz4Z8zhJy/cB/CXMhl+FrbCtVhQk/4KzjjU Yz8npTBPs/qJXyMM2GVEWwbV/i7Ym8BAoKpD87utjJBSUJybnnVV0PsHPqZC6O/C5Poe mc/hJotr9mLqU2M88cV90xNRn4lam/4kXnHaY= X-Google-DKIM-Signature: v=1; a=rsa-sha256; c=relaxed/relaxed; d=1e100.net; s=20230601; t=1747296647; x=1747901447; h=cc:to:from:subject:message-id:date:x-gm-message-state:from:to:cc :subject:date:message-id:reply-to; bh=xG+PfAekudQTE24Fe5JSM1MJMuBmfrCaxZnLYPzmaMU=; b=rtEXBvkAMNXoQoAqDn0vepjct7lspZISaOkMTnkm+G3fndtgG81+k+fR2IHJ7Iw7wV 6Oaa7e6JdDFXN8BmrmVonNvQNrxiSXt3O/zmVJu9ZbuHntQTlHWZaZ7g4TgqH9GolFIq KPnRudDdASLdfMhDoNezHhzaoUUfGcv564FPTwhtg0bZy+VDSo9Yth9Lk6m9qhyXo/vl 0+72qxfFs8PmC5ZUYGRHO4RbX1/Q9WYfMmhUnWudckHEJZfKmhOy5q6fqOuhzvh/boAy u4OPodOVnCj88+3GZ5KeOY5rCEmFOlaVHi7h+8itBLbVMCPXeQ9thzcuDh7b1/vyqgLZ p0wg== X-Gm-Message-State: AOJu0Yy3hdXqff438sXGsGOavnZBPxiO1I8q9UOftgd3+bneTEMBNCJp EmHqS9wbT3U5FsuKBUM5rnVhzkRtN4Ca6e9J5bPE8FhCsn7xhSTC/sp/6fiqEiYXMXpWlEdQByI UifUYYAdgD9F09DueCqc80ovQ7rT+j+WitkNEXCS8R8FARSxp X-Gm-Gg: ASbGncu9Qvy11RK6bfTLoPbBwTpTOzFY+T/RQdODWA3NKtJ/jsKRID0R9IOPvkFdL8W zblEtdZxsJUW2GIYSJPEkkjDRe9MDdX1+V0tZvxiLZspbnL16rN0FWNWJAGPk1iCUKps/+4l1EW eiJ/okQJWvgaQq0jwBhmE5qQsSvtLJTDX305PaemnEIN07Wh9t3VBJuuODTaVcOBFImMqzIzE0O weqy1K2n5NmBRr9vp2zlcb7vMoUD3RVv//AxVuNcAENMc94HUsZU4sOVOofQVlsOLt9Mg8+dkYq oE1EyHGWZYSXfdoLzl/c2c9cIDQltGm1nvk+ X-Google-Smtp-Source: AGHT+IH/vvqxU9rqwmrAJindvdkr5I4SNY9UwIu6Cmc8ZFba8K502xDIHx2/XbRYGKslethNniMU6wjEQxIE X-Received: by 2002:ad4:5ccd:0:b0:6e8:8d76:f389 with SMTP id 6a1803df08f44-6f8a4c29ae9mr34626066d6.36.1747296636912; Thu, 15 May 2025 01:10:36 -0700 (PDT) Received: from postal.iol.unh.edu (postal.iol.unh.edu. [2606:4100:3880:1234::84]) by smtp-relay.gmail.com with ESMTPS id 6a1803df08f44-6f6e3a56b02sm7783206d6.64.2025.05.15.01.10.36 (version=TLS1_2 cipher=ECDHE-ECDSA-AES128-GCM-SHA256 bits=128/128); Thu, 15 May 2025 01:10:36 -0700 (PDT) X-Relaying-Domain: iol.unh.edu Date: Thu, 15 May 2025 01:10:36 -0700 (PDT) Message-ID: <6825a17c.050a0220.257ded.8319SMTPIN_ADDED_MISSING@mx.google.com> Received: from [172.21.0.5] (unknown [172.18.0.240]) by postal.iol.unh.edu (Postfix) with ESMTP id 9889A6052471; Thu, 15 May 2025 04:10:36 -0400 (EDT) Subject: |SUCCESS| [GIT MASTER] 4401486b5e30d43a134f80f9802f60b5f43e74a8 From: dpdklab@iol.unh.edu To: Test Report Cc: dpdk-test-reports@iol.unh.edu, Xueming Li , Christian Ehrhardt , Kevin Traynor , Luca Boccassi Content-Type: text/plain X-BeenThere: test-report@dpdk.org X-Mailman-Version: 2.1.29 Precedence: list List-Id: automatic DPDK test reports List-Unsubscribe: , List-Archive: List-Post: List-Help: List-Subscribe: , Errors-To: test-report-bounces@dpdk.org _Testing PASS_ Branch: tags/v22.11 4401486b5e30d43a134f80f9802f60b5f43e74a8 --> testing pass Upstream job id: ACVP-FIPS-testing#9811 Test environment and result as below: +--------------------+----------------------+----------------------+ | Environment | compressdev_zlib_pmd | dpdk_fips_validation | +====================+======================+======================+ | Ubuntu 22.04 (ARM) | PASS | SKIPPED | +--------------------+----------------------+----------------------+ | Ubuntu 22.04 | PASS | SKIPPED | +--------------------+----------------------+----------------------+ | Ubuntu 20.04 | SKIPPED | PASS | +--------------------+----------------------+----------------------+ Ubuntu 22.04 (ARM) Kernel: 5.15.0-97-generic Compiler: gcc gcc (Ubuntu 11.4.0-1ubuntu1~22.04) 11.4.0 Ubuntu 22.04 Kernel: 5.15.0-100-generic Compiler: gcc gcc (Ubuntu 11.4.0-1ubuntu1~22.04) 11.4.0 Ubuntu 20.04 Kernel: Depends on container host Compiler: gcc (Ubuntu 9.4.0-1ubuntu1~20.04.2) 9.4.0 To view detailed results, visit: https://lab.dpdk.org/results/dashboard/tarballs/33533/ UNH-IOL DPDK Community Lab To manage your email subscriptions, visit: https://lab.dpdk.org/results/dashboard/preferences/subscriptions/