From mboxrd@z Thu Jan 1 00:00:00 1970 Return-Path: Received: from mails.dpdk.org (mails.dpdk.org [217.70.189.124]) by inbox.dpdk.org (Postfix) with ESMTP id 7D62546754 for ; Thu, 15 May 2025 10:15:28 +0200 (CEST) Received: from mails.dpdk.org (localhost [127.0.0.1]) by mails.dpdk.org (Postfix) with ESMTP id 5BBC540B97; Thu, 15 May 2025 10:15:28 +0200 (CEST) Received: from mail-pf1-f225.google.com (mail-pf1-f225.google.com [209.85.210.225]) by mails.dpdk.org (Postfix) with ESMTP id 205C6402C2 for ; Thu, 15 May 2025 10:15:27 +0200 (CEST) Received: by mail-pf1-f225.google.com with SMTP id d2e1a72fcca58-7423fadbe77so647763b3a.3 for ; Thu, 15 May 2025 01:15:27 -0700 (PDT) DKIM-Signature: v=1; a=rsa-sha256; c=relaxed/relaxed; d=iol.unh.edu; s=unh-iol; t=1747296926; x=1747901726; darn=dpdk.org; h=cc:to:from:subject:message-id:date:from:to:cc:subject:date :message-id:reply-to; bh=Ph/fBCuKNfyCflewrt3e7V8UESFVT3W1pUNAAhm8LfQ=; b=Ax7ozdydvgbFIaxftx+T3gn9bijhAd+FbdbFh/sM2I/44wgNY8joCvrSBr+ccMDfVD uxGSqG442ZFYuUgCxo/apY9eQlVqDskWtw67amFywFoP+mP1ibpss+Hg9FPLA5luJGok 89yxERTIMR3Vg3R2qtslR5bGRVW1NY6xqk9ZI= X-Google-DKIM-Signature: v=1; a=rsa-sha256; c=relaxed/relaxed; d=1e100.net; s=20230601; t=1747296926; x=1747901726; h=cc:to:from:subject:message-id:date:x-gm-message-state:from:to:cc :subject:date:message-id:reply-to; bh=Ph/fBCuKNfyCflewrt3e7V8UESFVT3W1pUNAAhm8LfQ=; b=Dgiqy7dfw6/3YTPrGhn7nHmwuKH2YJOp250//xkwobtq9EmhWdhMpxtGZruoZnSnaM pJA2E+nQROHAGb+T6RTv/B5Yg3zo5hd0MqJzpVpHElrjyh7Qsmf8qNP1XYv5Els9pI8c Dz6P+Gny4/jZfxdjaz+bswmuDpmvu/Yad7WKKdieX/p7+HIl+6nUV2ltgiFrg3FCnYtm JARBXMmIxjP0bzCiR46RuIfEsf03dmBmz9+rKMYyY3RLBzMhGt0m3srvuEIIOnuP3kaw xHHTpw0JvCzKc0iIec0UuaCVsNlnN0c7FIVo7h6nQKxL6X0dPolhRO11IssmIrZsfhgy XyDg== X-Gm-Message-State: AOJu0YzvoGXLlHd9i8JkzHtMVwM58THpvA7K55NV3U4p7slOz1sNQLyu 8FwSuyoftvoG7foR/3a9C+zRzAD9O4aqmYFkxuAVffha8bBlzLP2BT0xLMVG0EuorafVGse+H3W VGoUlFvPlb61U3kKw72w7dZHCnNboOCr4jlIz30zdxWpRY7ju X-Gm-Gg: ASbGncvDxJ8nv4G0VaKDfo/g+zR8HV/gH8aXaE18PCAWsU7UdmX8GM3uISz/eOblDwk cS3X4Zo/VI+SufFgusuI15mYakoaioOIMLjY/NMxpUpUcXHVjXGqVm7UuWz0/yowfZNvk4Kyi9S gzFFvEJMQ5EplWr4uK+BsMhKFgmIaJKjVR8eY/uj2EUEgSvnGpOj3T9zR7OfT/KAlGJw/3nGoYO xmnYQBveGuR294WUK+fSi5bAkylg6Z8IUU64rSuq/l0Zf2Wf/JgTjEb5o86vhfXkS7DLTEF4r7D nsXj759cz+TtD9uzmrckolaeUynJN0V/7U5I X-Google-Smtp-Source: AGHT+IEwBmeccG/R67f1ZHDrzAWtlO0peylKrxg+Hfl//R83wk3CrT29ApEBHgnupPpsiVhLyNXWh30+/sRz X-Received: by 2002:a17:903:903:b0:21f:45d:21fb with SMTP id d9443c01a7336-231b5e51da5mr19674635ad.3.1747296925933; Thu, 15 May 2025 01:15:25 -0700 (PDT) Received: from postal.iol.unh.edu (postal.iol.unh.edu. [2606:4100:3880:1234::84]) by smtp-relay.gmail.com with ESMTPS id d9443c01a7336-22fc6f24674sm6896815ad.106.2025.05.15.01.15.25 (version=TLS1_2 cipher=ECDHE-ECDSA-AES128-GCM-SHA256 bits=128/128); Thu, 15 May 2025 01:15:25 -0700 (PDT) X-Relaying-Domain: iol.unh.edu Date: Thu, 15 May 2025 01:15:25 -0700 (PDT) Message-ID: <6825a29d.170a0220.f135b.39f1SMTPIN_ADDED_MISSING@mx.google.com> Received: from [172.21.0.5] (unknown [172.18.0.240]) by postal.iol.unh.edu (Postfix) with ESMTP id 5DF206052471; Thu, 15 May 2025 04:15:25 -0400 (EDT) Subject: |SUCCESS| [GIT MASTER] 4c5634de9f933555bab9c64a533d3dca999071cd From: dpdklab@iol.unh.edu To: Test Report Cc: dpdk-test-reports@iol.unh.edu, Xueming Li , Christian Ehrhardt , Kevin Traynor , Luca Boccassi Content-Type: text/plain X-BeenThere: test-report@dpdk.org X-Mailman-Version: 2.1.29 Precedence: list List-Id: automatic DPDK test reports List-Unsubscribe: , List-Archive: List-Post: List-Help: List-Subscribe: , Errors-To: test-report-bounces@dpdk.org _Testing PASS_ Branch: tags/v24.11 4c5634de9f933555bab9c64a533d3dca999071cd --> testing pass Upstream job id: Generic-DPDK-Compile-Meson#388004 Test environment and result as below: +------------------------------------+--------------------+ | Environment | dpdk_meson_compile | +====================================+====================+ | Debian 12 (arm) | PASS | +------------------------------------+--------------------+ | Fedora 41 (ARM) | PASS | +------------------------------------+--------------------+ | Fedora 40 (ARM) | PASS | +------------------------------------+--------------------+ | Debian 12 with MUSDK | PASS | +------------------------------------+--------------------+ | Fedora 40 (ARM Clang) | PASS | +------------------------------------+--------------------+ | Fedora 41 (ARM Clang) | PASS | +------------------------------------+--------------------+ | Ubuntu 24.04 (ARM) | PASS | +------------------------------------+--------------------+ | RHEL9 (ARM) | PASS | +------------------------------------+--------------------+ | Ubuntu 20.04 ARM GCC Cross Compile | PASS | +------------------------------------+--------------------+ | Ubuntu 20.04 ARM SVE | PASS | +------------------------------------+--------------------+ | CentOS Stream 9 (ARM) | PASS | +------------------------------------+--------------------+ | Ubuntu 22.04 (ARM) | PASS | +------------------------------------+--------------------+ | Ubuntu 20.04 (ARM) | PASS | +------------------------------------+--------------------+ | CentOS Stream 10 (ARM) | PASS | +------------------------------------+--------------------+ Debian 12 (arm) Kernel: Depends on container host Compiler: gcc (Debian 12.2.0-14) 12.2.0 Fedora 41 (ARM) Kernel: Depends on container host Compiler: gcc 14.2.1 20240912 (Red Hat 14.2.1-3) Fedora 40 (ARM) Kernel: Depends on container host Compiler: gcc 14.2.1 20240912 (Red Hat 14.2.1-3) Debian 12 with MUSDK Kernel: Depends on container host Compiler: gcc (Debian 12.2.0-14) 12.2.0 Fedora 40 (ARM Clang) Kernel: Depends on container host Compiler: clang 18.1.8 (Fedora 18.1.8-1.fc40) Fedora 41 (ARM Clang) Kernel: Depends on container host Compiler: clang 19.1.5 (Fedora 19.1.5-1.fc41) Ubuntu 24.04 (ARM) Kernel: Depends on container host Compiler: gcc (Ubuntu 13.3.0-6ubuntu2~24.04) 13.3.0 RHEL9 (ARM) Kernel: Depends on container host Compiler: gcc 11.5.0 20240719 (Red Hat 11.5.0-2) Ubuntu 20.04 ARM GCC Cross Compile Kernel: Depends on container host Compiler: aarch64-linux-gnu-gcc (Ubuntu 9.4.0-1ubuntu1~20.04.2) 9.4.0 Ubuntu 20.04 ARM SVE Kernel: Depends on container host Compiler: gcc (Ubuntu 10.5.0-1ubuntu1~20.04) 10.5.0 CentOS Stream 9 (ARM) Kernel: Depends on container host Compiler: gcc 11.5.0 20240719 (Red Hat 11.5.0-2) Ubuntu 22.04 (ARM) Kernel: Depends on container host Compiler: gcc (Ubuntu 11.4.0-1ubuntu1~22.04) 11.4.0 Ubuntu 20.04 (ARM) Kernel: Depends on container host Compiler: gcc (Ubuntu 9.4.0-1ubuntu1~20.04.2) 9.4.0 CentOS Stream 10 (ARM) Kernel: Depends on container host Compiler: gcc 14.2.1 20241104 (Red Hat 14.2.1-6) To view detailed results, visit: https://lab.dpdk.org/results/dashboard/tarballs/33531/ UNH-IOL DPDK Community Lab To manage your email subscriptions, visit: https://lab.dpdk.org/results/dashboard/preferences/subscriptions/