From mboxrd@z Thu Jan 1 00:00:00 1970 Return-Path: Received: from mails.dpdk.org (mails.dpdk.org [217.70.189.124]) by inbox.dpdk.org (Postfix) with ESMTP id 95F8646754 for ; Thu, 15 May 2025 10:27:51 +0200 (CEST) Received: from mails.dpdk.org (localhost [127.0.0.1]) by mails.dpdk.org (Postfix) with ESMTP id 7C98B40B97; Thu, 15 May 2025 10:27:51 +0200 (CEST) Received: from mail-pl1-f225.google.com (mail-pl1-f225.google.com [209.85.214.225]) by mails.dpdk.org (Postfix) with ESMTP id 520EC402C2 for ; Thu, 15 May 2025 10:27:50 +0200 (CEST) Received: by mail-pl1-f225.google.com with SMTP id d9443c01a7336-22e8461d872so5383015ad.3 for ; Thu, 15 May 2025 01:27:50 -0700 (PDT) DKIM-Signature: v=1; a=rsa-sha256; c=relaxed/relaxed; d=iol.unh.edu; s=unh-iol; t=1747297669; x=1747902469; darn=dpdk.org; h=cc:to:from:subject:message-id:date:from:to:cc:subject:date :message-id:reply-to; bh=suCSQ10j+momev5h0CZD7f+ZQSUJoWVtI7Bg9eKGXzI=; b=UFL+a8QKA3QaQTDwv7mSC1hLfDiOFrTBtapvOm3K2ESNLcGv0t3H4Jclc7oX9bCyZ0 MJ+6XWL664ySByvmfJO8ygyIzP5JfOZhC0ScG8hxW3CFSc23gcRgCOujbJ+LWqt7zzJw MX/jRpjKI0pbmOtWjRu+seWPA26DAgIlUjr4I= X-Google-DKIM-Signature: v=1; a=rsa-sha256; c=relaxed/relaxed; d=1e100.net; s=20230601; t=1747297669; x=1747902469; h=cc:to:from:subject:message-id:date:x-gm-message-state:from:to:cc :subject:date:message-id:reply-to; bh=suCSQ10j+momev5h0CZD7f+ZQSUJoWVtI7Bg9eKGXzI=; b=Ey7HI1/M1lsrYGGU04zRL9fEujmRc6tep8pDnSiBh8QDlqxIfJ+dWv4GWXmhfisHFT UntdSw8Xtod9UbbQFiL7pGIg/yH7hS4SfQCSRsdb8O9cRJMg7FBEZkELjC+Qh1fY1WS+ IRNPWcEGMrBYTkmn14E1szAOebHFH20ViC6b9x9Np5RKgfDhwrf2YuJqAHIWw4qvXKaI LuJ77m5VVWYVgqgwHltYi7ZrO5Xnqvtg3SH91vdIrOGq1kFke7TAERENd/4QGq9il9gh Vysroyrprn6gzzeqhAtxQvpdDZ71O9YqkejJ9TvO94tHcdSzRf4GFAaVWy1by9XFj1BT FtUg== X-Gm-Message-State: AOJu0YwrusYB7FYqdXfbOR4Cga7ZEkMYh5nDcSU2u4Hw9isXMG/lbCN6 KOgw5KyRxnKM9wzACgXZy/Jp0V9DDRn+X4asm3oaFFFQSjuTYRArJcoNd36qkUJbjkIm+Lre3ac 0Gl0L9NJ8Q+gHxM7Vm2T3QK1PxcssW0Ej+uRDZfYlGXJsA3Ux X-Gm-Gg: ASbGnctpSZWiVUAg/1ka5w3VkwM5QgiMgnr7GXzYi0zV9jnxbwYuT2u/TVnXR/6Hn/X I5MVyr19xCOtOMIKA4ArA9chKnmhsBqhNM6DVUxHGQn0OhC4AvFSQy/RPxo4mAa1oiUZdISifrK BKG30LQlv5wlicQDSkPc0xJI9fb5qrNNkn9nK6T2cQq7j5IEmDP1lHmXF2FX/W8fzvmhPiOc4KL DtRBIkeQRTR9rRulgP3P11G15EMCeSdRkMnU+TKQDmZJuQalFvuXYGwI3pdJwDHh0MUVnVCtVFI vFX9ZvhkcbVc9ZQ7f/f4+Y0LEx/PxlAKcJ2A X-Google-Smtp-Source: AGHT+IHp4w1Cyuef206DRMhiWohV9+jljqJNPXW1yU5Q6phrMnsEQPLRRZlNM9tOZDe4+cY5auCE17idoIv/ X-Received: by 2002:a17:902:e788:b0:231:c05f:29d8 with SMTP id d9443c01a7336-231c05f2b43mr7958875ad.10.1747297669050; Thu, 15 May 2025 01:27:49 -0700 (PDT) Received: from postal.iol.unh.edu (postal.iol.unh.edu. [2606:4100:3880:1234::84]) by smtp-relay.gmail.com with ESMTPS id d9443c01a7336-22fc5a54687sm7525525ad.69.2025.05.15.01.27.48 (version=TLS1_2 cipher=ECDHE-ECDSA-AES128-GCM-SHA256 bits=128/128); Thu, 15 May 2025 01:27:49 -0700 (PDT) X-Relaying-Domain: iol.unh.edu Date: Thu, 15 May 2025 01:27:49 -0700 (PDT) Message-ID: <6825a585.170a0220.13ec07.7ee8SMTPIN_ADDED_MISSING@mx.google.com> Received: from [172.21.0.5] (unknown [172.18.0.240]) by postal.iol.unh.edu (Postfix) with ESMTP id 44CD56052471; Thu, 15 May 2025 04:27:48 -0400 (EDT) Subject: |WARNING| [GIT MASTER] 83a7a648344674c0269fcaeb71d8d16468421a0e From: dpdklab@iol.unh.edu To: Test Report Cc: dpdk-test-reports@iol.unh.edu, Xueming Li , Christian Ehrhardt , Kevin Traynor , Luca Boccassi Content-Type: text/plain X-BeenThere: test-report@dpdk.org X-Mailman-Version: 2.1.29 Precedence: list List-Id: automatic DPDK test reports List-Unsubscribe: , List-Archive: List-Post: List-Help: List-Subscribe: , Errors-To: test-report-bounces@dpdk.org _Testing issues_ Branch: tags/v23.11 83a7a648344674c0269fcaeb71d8d16468421a0e --> testing issues Upstream job id: Generic-DPDK-Compile-Meson#388051 Test environment and result as below: +---------------------+--------------------+-------------------+------------------+-------------------+-------------------------+----------------------+ | Environment | dpdk_meson_compile | dpdk_compile_spdk | dpdk_compile_ovs | dpdk_msvc_compile | dpdk_llvm_clang_compile | dpdk_mingw64_compile | +=====================+====================+===================+==================+===================+=========================+======================+ | CentOS Stream 9 | PASS | PASS | SKIPPED | SKIPPED | SKIPPED | SKIPPED | +---------------------+--------------------+-------------------+------------------+-------------------+-------------------------+----------------------+ | CentOS Stream 10 | PASS | SKIPPED | SKIPPED | SKIPPED | SKIPPED | SKIPPED | +---------------------+--------------------+-------------------+------------------+-------------------+-------------------------+----------------------+ | Debian 12 | PASS | PASS | SKIPPED | SKIPPED | SKIPPED | SKIPPED | +---------------------+--------------------+-------------------+------------------+-------------------+-------------------------+----------------------+ | Ubuntu 20.04 | PASS | SKIPPED | SKIPPED | SKIPPED | SKIPPED | SKIPPED | +---------------------+--------------------+-------------------+------------------+-------------------+-------------------------+----------------------+ | Fedora 40 (Clang) | PASS | WARN | SKIPPED | SKIPPED | SKIPPED | SKIPPED | +---------------------+--------------------+-------------------+------------------+-------------------+-------------------------+----------------------+ | openSUSE Leap 15 | PASS | SKIPPED | SKIPPED | SKIPPED | SKIPPED | SKIPPED | +---------------------+--------------------+-------------------+------------------+-------------------+-------------------------+----------------------+ | Fedora 41 (Clang) | PASS | WARN | PASS | SKIPPED | SKIPPED | SKIPPED | +---------------------+--------------------+-------------------+------------------+-------------------+-------------------------+----------------------+ | Fedora 41 | PASS | PASS | PASS | SKIPPED | SKIPPED | SKIPPED | +---------------------+--------------------+-------------------+------------------+-------------------+-------------------------+----------------------+ | Fedora 40 | PASS | PASS | SKIPPED | SKIPPED | SKIPPED | SKIPPED | +---------------------+--------------------+-------------------+------------------+-------------------+-------------------------+----------------------+ | RHEL8 | PASS | SKIPPED | SKIPPED | SKIPPED | SKIPPED | SKIPPED | +---------------------+--------------------+-------------------+------------------+-------------------+-------------------------+----------------------+ | RHEL9 | PASS | SKIPPED | SKIPPED | SKIPPED | SKIPPED | SKIPPED | +---------------------+--------------------+-------------------+------------------+-------------------+-------------------------+----------------------+ | Ubuntu 22.04 | PASS | PASS | SKIPPED | SKIPPED | SKIPPED | SKIPPED | +---------------------+--------------------+-------------------+------------------+-------------------+-------------------------+----------------------+ | Ubuntu 24.04 | PASS | PASS | PASS | SKIPPED | SKIPPED | SKIPPED | +---------------------+--------------------+-------------------+------------------+-------------------+-------------------------+----------------------+ | Alpine | PASS | SKIPPED | SKIPPED | SKIPPED | SKIPPED | SKIPPED | +---------------------+--------------------+-------------------+------------------+-------------------+-------------------------+----------------------+ | FreeBSD 13.5 | PASS | SKIPPED | SKIPPED | SKIPPED | SKIPPED | SKIPPED | +---------------------+--------------------+-------------------+------------------+-------------------+-------------------------+----------------------+ | FreeBSD 14.2 | PASS | SKIPPED | SKIPPED | SKIPPED | SKIPPED | SKIPPED | +---------------------+--------------------+-------------------+------------------+-------------------+-------------------------+----------------------+ | Windows Server 2022 | SKIPPED | SKIPPED | SKIPPED | PASS | PASS | PASS | +---------------------+--------------------+-------------------+------------------+-------------------+-------------------------+----------------------+ ==== 20 line log output for Fedora 41 (Clang) (dpdk_compile_spdk): ==== --- Failed to get log output --- ==== End log output ==== CentOS Stream 9 Kernel: Depends on container host Compiler: gcc 11.5.0 20240719 (Red Hat 11.5.0-2) CentOS Stream 10 Kernel: Depends on container host Compiler: gcc 14.2.1 20241104 (Red Hat 14.2.1-6) Debian 12 Kernel: Depends on container host Compiler: gcc (Debian 12.2.0-14) 12.2.0 Ubuntu 20.04 Kernel: Depends on container host Compiler: gcc (Ubuntu 9.4.0-1ubuntu1~20.04.2) 9.4.0 Fedora 40 (Clang) Kernel: Depends on container host Compiler: clang 18.1.8 (Fedora 18.1.8-1.fc40) openSUSE Leap 15 Kernel: Depends on container host Compiler: gcc (SUSE Linux) 7.5.0 Fedora 41 (Clang) Kernel: Depends on container host Compiler: clang 19.1.5 (Fedora 19.1.5-1.fc41) Fedora 41 Kernel: Depends on container host Compiler: gcc 14.2.1 20240912 (Red Hat 14.2.1-3) Fedora 40 Kernel: Depends on container host Compiler: gcc 14.2.1 20240912 (Red Hat 14.2.1-3) RHEL8 Kernel: Depends on container host Compiler: gcc 8.5.0 20210514 (Red Hat 8.5.0-22) RHEL9 Kernel: Depends on container host Compiler: gcc 11.5.0 20240719 (Red Hat 11.5.0-2) Ubuntu 22.04 Kernel: Depends on container host Compiler: gcc (Ubuntu 11.4.0-1ubuntu1~22.04) 11.4.0 Ubuntu 24.04 Kernel: Depends on container host Compiler: gcc (Ubuntu 13.3.0-6ubuntu2~24.04) 13.3.0 Alpine Kernel: Depends on container host Compiler: gcc (Alpine 14.2.0) 14.2.0 FreeBSD 13.5 Kernel: 13.5-RELEASE Compiler: clang 19.1.7 FreeBSD 14.2 Kernel: 14.2-RELEASE Compiler: clang 18.1.6 Windows Server 2022 Kernel: 10.0.20348.2031 Compiler: clang 15.0.7, gcc 14.1.0 (MinGW), and MSVC VS 19.39.33521 To view detailed results, visit: https://lab.dpdk.org/results/dashboard/tarballs/33532/ UNH-IOL DPDK Community Lab To manage your email subscriptions, visit: https://lab.dpdk.org/results/dashboard/preferences/subscriptions/