From mboxrd@z Thu Jan 1 00:00:00 1970 Return-Path: Received: from mails.dpdk.org (mails.dpdk.org [217.70.189.124]) by inbox.dpdk.org (Postfix) with ESMTP id 09DE646754 for ; Thu, 15 May 2025 10:31:33 +0200 (CEST) Received: from mails.dpdk.org (localhost [127.0.0.1]) by mails.dpdk.org (Postfix) with ESMTP id 04C5C40B97; Thu, 15 May 2025 10:31:33 +0200 (CEST) Received: from mail-pg1-f228.google.com (mail-pg1-f228.google.com [209.85.215.228]) by mails.dpdk.org (Postfix) with ESMTP id 3EE33402C2 for ; Thu, 15 May 2025 10:31:32 +0200 (CEST) Received: by mail-pg1-f228.google.com with SMTP id 41be03b00d2f7-b1f7357b5b6so345027a12.0 for ; Thu, 15 May 2025 01:31:32 -0700 (PDT) DKIM-Signature: v=1; a=rsa-sha256; c=relaxed/relaxed; d=iol.unh.edu; s=unh-iol; t=1747297891; x=1747902691; darn=dpdk.org; h=references:in-reply-to:cc:to:from:subject:message-id:date:from:to :cc:subject:date:message-id:reply-to; bh=LBfTy7TaLIrLcvqSqxuoErZ049rmCdJ0Q8Yb125utp8=; b=bZEFH+z8WL0LA4bpZY2jsL+udoHR16emioQegycvJzA7Dy5L1IW9lOdLmZcxVlbGXH IaN7MsAAt5kQPtv+4mryyy/gFa/+sD18FTUE97yVTL1CCQJXDI8VN063bQz7e+ydY+uj C0Ank9GWW36dekdNicJCikeKje3TFjVQGMezM= X-Google-DKIM-Signature: v=1; a=rsa-sha256; c=relaxed/relaxed; d=1e100.net; s=20230601; t=1747297891; x=1747902691; h=references:in-reply-to:cc:to:from:subject:message-id:date :x-gm-message-state:from:to:cc:subject:date:message-id:reply-to; bh=LBfTy7TaLIrLcvqSqxuoErZ049rmCdJ0Q8Yb125utp8=; b=mw4VSW4h8jBHhEbX+mFZi8W8cf0Jka2x6PdKMqv/LDio12jzAuh+TPkpP5XDodtgzv /B9j4xpfcjCCHnk9girY0G4tmYsaXoVDdVeZZKbFFgnKCfxrIea9HNgqiH5FFOrlMC/F d9pgfnQN2JTlJH2EOt+rxZ17jszf3BiaozZM2jh1M3f+t3zAubRbLKiGCW7bVgLw0CbM VNaVcvT4hZTCUQi7K5Jp0LbWOHQZ6E5jFX0JnORt4aWnf/2EB/ddlwCt83DABuz0xxfu L8tyA/rBxeaewh1la6fYPRNsC55LWQ7GXZcYFcYgH+GlU1B0DV+xA+stjsjGccsMW4sO /vzg== X-Gm-Message-State: AOJu0Yzm/sN7fOuItm+27h0cPDFsq6Sc28AqvSZXSrq3MJrXi4wfDnzZ I9XrXSej/8J0YhkS02ogV+zPvV04nYVLu7iJ/iTBlPeHlOKOAnbFDny+dWWZO3J8qLh0DrWpROg Ry3fOVzgikyFs+3fK+YKtohp5ZOF0OqzX9WMeJYKr X-Gm-Gg: ASbGncsNbOxR0VlIiF2s6SDehC++po5o1RqeTcLTQv9YOq4Lpm1OTlH2FWT3uSmJsVO L0shlIOMZ3MtCQOa4Vn7kybMcRFCHpt5ZOiioNwNFQ1cBSKZELscTTXYd0vjbHN0mg/ag5V2VUp PFGsVMH6mqr3GqAn53SXAhgvTu3PebpT3U7cSB8rhnUib+57EQkix0ckjUK1Aqaa6NPZPHKhu4d nFMJw+nl4X2cFdiOCSu/8w45JMP4Hq2WkaZYyFdbcZV9rpQvvRNtlPi/CWIDDJRsPV5p5fjZDDW 08wbfDUO6O04xpc7FbG3z9bAkCORy/OanZ6eSwWsHjoPlzn8mhx2+XpSlrE= X-Google-Smtp-Source: AGHT+IG6lOA6tBgm9zJhkYUg+vaTO57NWwTHrtiCqvQzwJZLpzzcvPyvQqRkEa09O3gjNOothnFi02coH//r X-Received: by 2002:a17:90b:3bce:b0:305:2d68:8d39 with SMTP id 98e67ed59e1d1-30e2e5e6ca8mr11359004a91.12.1747297891314; Thu, 15 May 2025 01:31:31 -0700 (PDT) Received: from postal.iol.unh.edu (postal.iol.unh.edu. [132.177.123.84]) by smtp-relay.gmail.com with ESMTPS id 98e67ed59e1d1-30e333cb93fsm260083a91.4.2025.05.15.01.31.31 (version=TLS1_2 cipher=ECDHE-ECDSA-AES128-GCM-SHA256 bits=128/128); Thu, 15 May 2025 01:31:31 -0700 (PDT) X-Relaying-Domain: iol.unh.edu Date: Thu, 15 May 2025 01:31:31 -0700 (PDT) Message-ID: <6825a663.170a0220.2a8e34.e273SMTPIN_ADDED_MISSING@mx.google.com> Received: from [172.21.0.5] (unknown [172.18.0.240]) by postal.iol.unh.edu (Postfix) with ESMTP id 854046052471; Thu, 15 May 2025 04:31:30 -0400 (EDT) Subject: |SUCCESS| pw153443 [PATCH] [v2] net/intel: reduce size of common Tx From: dpdklab@iol.unh.edu To: Test Report Cc: dpdk-test-reports@iol.unh.edu In-Reply-To: <20250515062130.1396060-1-shaiq.wani@intel.com> References: <20250515062130.1396060-1-shaiq.wani@intel.com> Content-Type: text/plain X-BeenThere: test-report@dpdk.org X-Mailman-Version: 2.1.29 Precedence: list List-Id: automatic DPDK test reports List-Unsubscribe: , List-Archive: List-Post: List-Help: List-Subscribe: , Errors-To: test-report-bounces@dpdk.org Test-Label: iol-unit-arm64-testing Test-Status: SUCCESS http://dpdk.org/patch/153443 _Testing PASS_ Submitter: Shaiq Wani Date: Thursday, May 15 2025 06:21:30 DPDK git baseline: Repo:dpdk Branch: master CommitID:5b3328195d3c7cc013eb0d7a0b99ab6791d46a77 153443 --> testing pass Upstream job id: Generic-Unit-Test-DPDK#337881 Test environment and result as below: +-----------------------------+--------------+------------------------------+---------------------------+----------------+ | Environment | lpm_autotest | cryptodev_sw_snow3g_autotest | cryptodev_sw_zuc_autotest | dpdk_unit_test | +=============================+==============+==============================+===========================+================+ | Ubuntu 20.04 ARM SVE | PASS | SKIPPED | SKIPPED | SKIPPED | +-----------------------------+--------------+------------------------------+---------------------------+----------------+ | Debian 12 (arm) | SKIPPED | PASS | PASS | PASS | +-----------------------------+--------------+------------------------------+---------------------------+----------------+ | 32-bit Ubuntu 22.04.4 (ARM) | SKIPPED | SKIPPED | SKIPPED | PASS | +-----------------------------+--------------+------------------------------+---------------------------+----------------+ | Fedora 40 (ARM Clang) | SKIPPED | SKIPPED | SKIPPED | PASS | +-----------------------------+--------------+------------------------------+---------------------------+----------------+ | CentOS Stream 9 (ARM) | SKIPPED | SKIPPED | SKIPPED | PASS | +-----------------------------+--------------+------------------------------+---------------------------+----------------+ | CentOS Stream 10 (ARM) | SKIPPED | SKIPPED | SKIPPED | PASS | +-----------------------------+--------------+------------------------------+---------------------------+----------------+ | Fedora 41 (ARM) | SKIPPED | SKIPPED | SKIPPED | PASS | +-----------------------------+--------------+------------------------------+---------------------------+----------------+ | RHEL9 (ARM) | SKIPPED | SKIPPED | SKIPPED | PASS | +-----------------------------+--------------+------------------------------+---------------------------+----------------+ | Fedora 41 (ARM Clang) | SKIPPED | SKIPPED | SKIPPED | PASS | +-----------------------------+--------------+------------------------------+---------------------------+----------------+ | Fedora 40 (ARM) | SKIPPED | SKIPPED | SKIPPED | PASS | +-----------------------------+--------------+------------------------------+---------------------------+----------------+ | Ubuntu 22.04 (ARM) | SKIPPED | SKIPPED | SKIPPED | PASS | +-----------------------------+--------------+------------------------------+---------------------------+----------------+ | Ubuntu 20.04 (ARM) | SKIPPED | SKIPPED | SKIPPED | PASS | +-----------------------------+--------------+------------------------------+---------------------------+----------------+ | Ubuntu 24.04 (ARM) | SKIPPED | SKIPPED | SKIPPED | PASS | +-----------------------------+--------------+------------------------------+---------------------------+----------------+ Ubuntu 20.04 ARM SVE Kernel: Depends on container host Compiler: gcc (Ubuntu 10.5.0-1ubuntu1~20.04) 10.5.0 Debian 12 (arm) Kernel: Depends on container host Compiler: gcc (Debian 12.2.0-14) 12.2.0 32-bit Ubuntu 22.04.4 (ARM) Kernel: 5.15.83+ aarch64 Compiler: gcc (Ubuntu 11.4.0-1ubuntu1~22.04) 11.4.0 Fedora 40 (ARM Clang) Kernel: Depends on container host Compiler: clang 18.1.8 (Fedora 18.1.8-1.fc40) CentOS Stream 9 (ARM) Kernel: Depends on container host Compiler: gcc 11.5.0 20240719 (Red Hat 11.5.0-2) CentOS Stream 10 (ARM) Kernel: Depends on container host Compiler: gcc 14.2.1 20241104 (Red Hat 14.2.1-6) Fedora 41 (ARM) Kernel: Depends on container host Compiler: gcc 14.2.1 20240912 (Red Hat 14.2.1-3) RHEL9 (ARM) Kernel: Depends on container host Compiler: gcc 11.5.0 20240719 (Red Hat 11.5.0-2) Fedora 41 (ARM Clang) Kernel: Depends on container host Compiler: clang 19.1.5 (Fedora 19.1.5-1.fc41) Fedora 40 (ARM) Kernel: Depends on container host Compiler: gcc 14.2.1 20240912 (Red Hat 14.2.1-3) Ubuntu 22.04 (ARM) Kernel: Depends on container host Compiler: gcc (Ubuntu 11.4.0-1ubuntu1~22.04) 11.4.0 Ubuntu 20.04 (ARM) Kernel: Depends on container host Compiler: gcc (Ubuntu 9.4.0-1ubuntu1~20.04.2) 9.4.0 Ubuntu 24.04 (ARM) Kernel: Depends on container host Compiler: gcc (Ubuntu 13.3.0-6ubuntu2~24.04) 13.3.0 To view detailed results, visit: https://lab.dpdk.org/results/dashboard/patchsets/33174/ UNH-IOL DPDK Community Lab To manage your email subscriptions, visit: https://lab.dpdk.org/results/dashboard/preferences/subscriptions/