From mboxrd@z Thu Jan 1 00:00:00 1970 Return-Path: Received: from mails.dpdk.org (mails.dpdk.org [217.70.189.124]) by inbox.dpdk.org (Postfix) with ESMTP id 5E3B446754 for ; Thu, 15 May 2025 10:45:57 +0200 (CEST) Received: from mails.dpdk.org (localhost [127.0.0.1]) by mails.dpdk.org (Postfix) with ESMTP id 595EB40B97; Thu, 15 May 2025 10:45:57 +0200 (CEST) Received: from mail-yw1-f227.google.com (mail-yw1-f227.google.com [209.85.128.227]) by mails.dpdk.org (Postfix) with ESMTP id 3F0BE402C2 for ; Thu, 15 May 2025 10:45:56 +0200 (CEST) Received: by mail-yw1-f227.google.com with SMTP id 00721157ae682-70a23f4fe8bso6004067b3.2 for ; Thu, 15 May 2025 01:45:56 -0700 (PDT) DKIM-Signature: v=1; a=rsa-sha256; c=relaxed/relaxed; d=iol.unh.edu; s=unh-iol; t=1747298755; x=1747903555; darn=dpdk.org; h=cc:to:from:subject:message-id:date:from:to:cc:subject:date :message-id:reply-to; bh=zFpiBQvzgcvAzofT8aa4rSsvPH99TEKtZ15A87gZeic=; b=ZmhTrv5/Xf9rvUDFV2aBe0Hs7tEbWHKqLhw8vBPmcr2SPIQG8jKd3vAxUCTkBWj01W vYVMaS+30TXCCyolFFIIRhHncQf0+RiyAh+EbrM/Ysja2lwlJ17/LHQZrujYZsGoQf9P /WxzwvaN78x0+KllzJh/W6RvxjxzLBCf5mDGI= X-Google-DKIM-Signature: v=1; a=rsa-sha256; c=relaxed/relaxed; d=1e100.net; s=20230601; t=1747298755; x=1747903555; h=cc:to:from:subject:message-id:date:x-gm-message-state:from:to:cc :subject:date:message-id:reply-to; bh=zFpiBQvzgcvAzofT8aa4rSsvPH99TEKtZ15A87gZeic=; b=V0HAM02F8pedc+YByeFlpgdU2oK/0bzgTwhWwI4wVUOEStPnYgT7zJUCNLKFMdhr2+ FlaxOv2ODb/XkHpa8FhzREHFCf1EWOpPJdpv4mdXBDk/vAUdXVHGvZRzEw5fLILZTbxz P5GO4h4GEg+GuiBO9qUliAiXdPaVyZ+hWhbqEoaGvs+VjHUAwk16cKzMFrU+70UtuuuO Ebiy+VrX0rWYKL0onPBjr/zGdf2rvx5yaqKRLteKild2qJDMm0uEwOQVP14FklQgZPsO dHVrbEtHre37xlDxsy7FBo3b5ON4dKfd6tGbSTbKiasMXxo4HSoYOLQTiXNVHbc1Rcz2 bH9w== X-Gm-Message-State: AOJu0Yzr9WTBj/dzq9PTIJGMxHHS8YuhguK1pw0t4hyubBokMMc36Lc6 YSTIl4VG0WRJcpc6h2vD/gqyK+MswZUSLJNq+lsyr3wxkXq0/umXrKshv4GFsNfdQ0r7xxHBJ3J 8zBNI5LryZWPqkuSgaHgWskPujWYs+4n/ X-Gm-Gg: ASbGncvqAz52J+6jeCJ41wgA6xMa1WAKCYP1SYOjW1KPtX/dEpggJjLls4R+YyrrRW+ oDlGKIPUQIo2O695yZ1D1Zl+0YTyjEvMzgW29AJa+Hp0cWzj+CD7u8HOhPxfTyxrJzMYLgHxAl0 DcncIbSFpNg2IzM6p7+fHtzw3BM3olhHv6XFyyh8evkfwkkC1tDEsrpIbQRvZnK9kTd4ELlDhcF 3+BsG6CdIAQtMBb0u8tbUPaedwuUR2nf+Viz56VEs+MI/Gr0e+RElJtEAim0Cidl1ef5UO0OADM i4ArNtWeHdurd0TFBySLKWGLLr/aXtjtr84vLinn0+YQZRnA66H3rFAkV2E= X-Google-Smtp-Source: AGHT+IFL2EBau6kMoUcEoc7Cj3xXK9XB8U9LyAUov7SU28U5qDhr0Cyu23SMHdFLQKoBzY37fT7Xlq6jAEn2 X-Received: by 2002:a05:690c:6e08:b0:6ef:5097:5daa with SMTP id 00721157ae682-70c7f242d8bmr95142227b3.34.1747298755527; Thu, 15 May 2025 01:45:55 -0700 (PDT) Received: from postal.iol.unh.edu (postal.iol.unh.edu. [132.177.123.84]) by smtp-relay.gmail.com with ESMTPS id 00721157ae682-70b77850bf5sm2157537b3.31.2025.05.15.01.45.55 (version=TLS1_2 cipher=ECDHE-ECDSA-AES128-GCM-SHA256 bits=128/128); Thu, 15 May 2025 01:45:55 -0700 (PDT) X-Relaying-Domain: iol.unh.edu Date: Thu, 15 May 2025 01:45:55 -0700 (PDT) Message-ID: <6825a9c3.050a0220.36baee.b079SMTPIN_ADDED_MISSING@mx.google.com> Received: from [172.17.0.4] (unknown [172.18.0.77]) by postal.iol.unh.edu (Postfix) with ESMTP id 1E66E6052471; Thu, 15 May 2025 04:45:55 -0400 (EDT) Subject: |SUCCESS| [GIT MASTER] 83a7a648344674c0269fcaeb71d8d16468421a0e From: dpdklab@iol.unh.edu To: Test Report Cc: dpdk-test-reports@iol.unh.edu, Xueming Li , Christian Ehrhardt , Kevin Traynor , Luca Boccassi Content-Type: text/plain X-BeenThere: test-report@dpdk.org X-Mailman-Version: 2.1.29 Precedence: list List-Id: automatic DPDK test reports List-Unsubscribe: , List-Archive: List-Post: List-Help: List-Subscribe: , Errors-To: test-report-bounces@dpdk.org _Testing PASS_ Branch: tags/v23.11 83a7a648344674c0269fcaeb71d8d16468421a0e --> testing pass Upstream job id: Generic-DPDK-Compile-Meson#388065 Test environment and result as below: +------------------------------------+--------------------+ | Environment | dpdk_meson_compile | +====================================+====================+ | RHEL9 (ARM) | PASS | +------------------------------------+--------------------+ | Ubuntu 20.04 ARM GCC Cross Compile | PASS | +------------------------------------+--------------------+ | Debian 12 with MUSDK | PASS | +------------------------------------+--------------------+ | Fedora 40 (ARM) | PASS | +------------------------------------+--------------------+ | Fedora 40 (ARM Clang) | PASS | +------------------------------------+--------------------+ | Ubuntu 20.04 ARM SVE | PASS | +------------------------------------+--------------------+ | Debian 12 (arm) | PASS | +------------------------------------+--------------------+ | Ubuntu 22.04 (ARM) | PASS | +------------------------------------+--------------------+ | Fedora 41 (ARM Clang) | PASS | +------------------------------------+--------------------+ | Fedora 41 (ARM) | PASS | +------------------------------------+--------------------+ | CentOS Stream 10 (ARM) | PASS | +------------------------------------+--------------------+ | Ubuntu 20.04 (ARM) | PASS | +------------------------------------+--------------------+ | CentOS Stream 9 (ARM) | PASS | +------------------------------------+--------------------+ | Ubuntu 24.04 (ARM) | PASS | +------------------------------------+--------------------+ RHEL9 (ARM) Kernel: Depends on container host Compiler: gcc 11.5.0 20240719 (Red Hat 11.5.0-2) Ubuntu 20.04 ARM GCC Cross Compile Kernel: Depends on container host Compiler: aarch64-linux-gnu-gcc (Ubuntu 9.4.0-1ubuntu1~20.04.2) 9.4.0 Debian 12 with MUSDK Kernel: Depends on container host Compiler: gcc (Debian 12.2.0-14) 12.2.0 Fedora 40 (ARM) Kernel: Depends on container host Compiler: gcc 14.2.1 20240912 (Red Hat 14.2.1-3) Fedora 40 (ARM Clang) Kernel: Depends on container host Compiler: clang 18.1.8 (Fedora 18.1.8-1.fc40) Ubuntu 20.04 ARM SVE Kernel: Depends on container host Compiler: gcc (Ubuntu 10.5.0-1ubuntu1~20.04) 10.5.0 Debian 12 (arm) Kernel: Depends on container host Compiler: gcc (Debian 12.2.0-14) 12.2.0 Ubuntu 22.04 (ARM) Kernel: Depends on container host Compiler: gcc (Ubuntu 11.4.0-1ubuntu1~22.04) 11.4.0 Fedora 41 (ARM Clang) Kernel: Depends on container host Compiler: clang 19.1.5 (Fedora 19.1.5-1.fc41) Fedora 41 (ARM) Kernel: Depends on container host Compiler: gcc 14.2.1 20240912 (Red Hat 14.2.1-3) CentOS Stream 10 (ARM) Kernel: Depends on container host Compiler: gcc 14.2.1 20241104 (Red Hat 14.2.1-6) Ubuntu 20.04 (ARM) Kernel: Depends on container host Compiler: gcc (Ubuntu 9.4.0-1ubuntu1~20.04.2) 9.4.0 CentOS Stream 9 (ARM) Kernel: Depends on container host Compiler: gcc 11.5.0 20240719 (Red Hat 11.5.0-2) Ubuntu 24.04 (ARM) Kernel: Depends on container host Compiler: gcc (Ubuntu 13.3.0-6ubuntu2~24.04) 13.3.0 To view detailed results, visit: https://lab.dpdk.org/results/dashboard/tarballs/33532/ UNH-IOL DPDK Community Lab To manage your email subscriptions, visit: https://lab.dpdk.org/results/dashboard/preferences/subscriptions/