From mboxrd@z Thu Jan 1 00:00:00 1970 Return-Path: Received: from mails.dpdk.org (mails.dpdk.org [217.70.189.124]) by inbox.dpdk.org (Postfix) with ESMTP id ACA6D46754 for ; Thu, 15 May 2025 10:59:46 +0200 (CEST) Received: from mails.dpdk.org (localhost [127.0.0.1]) by mails.dpdk.org (Postfix) with ESMTP id 864C740B97; Thu, 15 May 2025 10:59:46 +0200 (CEST) Received: from mail-pl1-f225.google.com (mail-pl1-f225.google.com [209.85.214.225]) by mails.dpdk.org (Postfix) with ESMTP id 6582C402C2 for ; Thu, 15 May 2025 10:59:45 +0200 (CEST) Received: by mail-pl1-f225.google.com with SMTP id d9443c01a7336-22e661313a3so6809975ad.3 for ; Thu, 15 May 2025 01:59:45 -0700 (PDT) DKIM-Signature: v=1; a=rsa-sha256; c=relaxed/relaxed; d=iol.unh.edu; s=unh-iol; t=1747299584; x=1747904384; darn=dpdk.org; h=references:in-reply-to:cc:to:from:subject:message-id:date:from:to :cc:subject:date:message-id:reply-to; bh=JF6uCs4DgFD9wSLyGmoBbLRzL0C0luv5Sv2ydzU5vWg=; b=B5YBiy9iCCfVwy8FwTLaIbiZA+EhbUuBWvY8OZHlWQn/ChW6N9NHkUdHFPAFB71Qw1 AGY8YrfZ3k+6cwd7/hiS4s5K36jO9+NXu5aqNEOdZWjBlafzUlqFmiahomqkv37cS2kY SIr1RoumtBo3ccGbVXtk9x5hOATG5u7psDP2U= X-Google-DKIM-Signature: v=1; a=rsa-sha256; c=relaxed/relaxed; d=1e100.net; s=20230601; t=1747299584; x=1747904384; h=references:in-reply-to:cc:to:from:subject:message-id:date :x-gm-message-state:from:to:cc:subject:date:message-id:reply-to; bh=JF6uCs4DgFD9wSLyGmoBbLRzL0C0luv5Sv2ydzU5vWg=; b=YHN8UwdnGn6H9wtfPmdSY4hbk6ER5gby3kGjleuQAJzwmLpLmidhOXK7tA4IRiXwDX T6NFfP2qkim44bwFF5VAakQ8dOB5FSJ9UXDEjM7LSBC7c088GXk0LFUiA+eskO5kDyvP hwAw0d0dAto1oE5zP3+cN++4SaPIIni+IoVSInJAtCKqJZsA0fGZGJdA2+MSG6unAwHW OQFt25ZNaPrJtyDp9CgJoYacb6Aujk2OSLriwYYO9iOm3MTheuJ/24GubvAWLvZVQL8i v1PRB1uSqMb3NciRCb5FaumOQaU1Chdjr6AZ7XhLnrSKv0mKlg68OxVebMg/+aG4uMuT J9BA== X-Gm-Message-State: AOJu0YzcMLcX88GJqlkiTT4O6et4YIfDxEZZRJjS0F+Leb38AMJidBEz eX+zsfAIZjRJYhtplba8BLW0jOcqfvJWf7YvKb8NJqIb3nYsyuqJFKp5/DqLXJLdI5HNZWHsU5+ AHl9s3TQKjoGRwLHOXs2v8x2h1W7hG3zyFoIpfYrp X-Gm-Gg: ASbGnct8CWr5d4UUU5dDv3Xnhx1MxeIRo37fm0WeZ0cSYL6F7pgSORRY5uLAZP2AaVL qzRCXRX8H/NRK4zaoTdekz3BB6LP9XTLDJ1Uj4MN6F1jR/pVREysQkzoJDNsy8IV9z1/vZb2gq7 9D3ZErUdq5c6PqzZY9f/mFt2EC8NhiokKDfueKTAyK6hvGFU5el/9rMbDbsbbLeYswls9mppO/6 IdhSXHBAHtggPugIjt6/O6MkFy9iAkcX8Szkxzzzz9dzrjjejrPOpFA6A/PJiMt4xZGdAWey2Ba uem5L27v25TReftd2tarLVzWq7BT8W25H7uenhKylAcrE5Y9Bw9PBJsEx5o= X-Google-Smtp-Source: AGHT+IElOkRvfTfAqZsZkjzxjwLnft620NTyEQ4N9iTpsIpHAEfG3TvTQdsEBiXIEF1unen8/03GYCSg/YE5 X-Received: by 2002:a17:902:ec84:b0:220:d909:1734 with SMTP id d9443c01a7336-231b5e252a1mr25589585ad.14.1747299584279; Thu, 15 May 2025 01:59:44 -0700 (PDT) Received: from postal.iol.unh.edu (postal.iol.unh.edu. [132.177.123.84]) by smtp-relay.gmail.com with ESMTPS id d9443c01a7336-22fc6f22fb2sm7691065ad.101.2025.05.15.01.59.44 (version=TLS1_2 cipher=ECDHE-ECDSA-AES128-GCM-SHA256 bits=128/128); Thu, 15 May 2025 01:59:44 -0700 (PDT) X-Relaying-Domain: iol.unh.edu Date: Thu, 15 May 2025 01:59:44 -0700 (PDT) Message-ID: <6825ad00.170a0220.14286.ab9aSMTPIN_ADDED_MISSING@mx.google.com> Received: from [172.17.0.3] (unknown [172.18.0.76]) by postal.iol.unh.edu (Postfix) with ESMTP id BADB46052471; Thu, 15 May 2025 04:59:43 -0400 (EDT) Subject: |SUCCESS| pw153443 [PATCH] [v2] net/intel: reduce size of common Tx From: dpdklab@iol.unh.edu To: Test Report Cc: dpdk-test-reports@iol.unh.edu In-Reply-To: <20250515062130.1396060-1-shaiq.wani@intel.com> References: <20250515062130.1396060-1-shaiq.wani@intel.com> Content-Type: text/plain X-BeenThere: test-report@dpdk.org X-Mailman-Version: 2.1.29 Precedence: list List-Id: automatic DPDK test reports List-Unsubscribe: , List-Archive: List-Post: List-Help: List-Subscribe: , Errors-To: test-report-bounces@dpdk.org Test-Label: iol-unit-amd64-testing Test-Status: SUCCESS http://dpdk.org/patch/153443 _Testing PASS_ Submitter: Shaiq Wani Date: Thursday, May 15 2025 06:21:30 DPDK git baseline: Repo:dpdk Branch: master CommitID:5b3328195d3c7cc013eb0d7a0b99ab6791d46a77 153443 --> testing pass Upstream job id: Generic-Unit-Test-DPDK#337869 Test environment and result as below: +---------------------+----------------+ | Environment | dpdk_unit_test | +=====================+================+ | Windows Server 2022 | PASS | +---------------------+----------------+ | Fedora 40 | PASS | +---------------------+----------------+ | Fedora 41 | PASS | +---------------------+----------------+ | RHEL9 | PASS | +---------------------+----------------+ | Ubuntu 22.04 | PASS | +---------------------+----------------+ | CentOS Stream 10 | PASS | +---------------------+----------------+ | CentOS Stream 9 | PASS | +---------------------+----------------+ | Fedora 41 (Clang) | PASS | +---------------------+----------------+ | Debian 12 | PASS | +---------------------+----------------+ | RHEL8 | PASS | +---------------------+----------------+ | Ubuntu 20.04 | PASS | +---------------------+----------------+ | Fedora 40 (Clang) | PASS | +---------------------+----------------+ | Ubuntu 24.04 | PASS | +---------------------+----------------+ Windows Server 2022 Kernel: 10.0.20348.2031 Compiler: clang 15.0.7, gcc 14.1.0 (MinGW), and MSVC VS 19.39.33521 Fedora 40 Kernel: Depends on container host Compiler: gcc 14.2.1 20240912 (Red Hat 14.2.1-3) Fedora 41 Kernel: Depends on container host Compiler: gcc 14.2.1 20240912 (Red Hat 14.2.1-3) RHEL9 Kernel: Depends on container host Compiler: gcc 11.5.0 20240719 (Red Hat 11.5.0-2) Ubuntu 22.04 Kernel: Depends on container host Compiler: gcc (Ubuntu 11.4.0-1ubuntu1~22.04) 11.4.0 CentOS Stream 10 Kernel: Depends on container host Compiler: gcc 14.2.1 20241104 (Red Hat 14.2.1-6) CentOS Stream 9 Kernel: Depends on container host Compiler: gcc 11.5.0 20240719 (Red Hat 11.5.0-2) Fedora 41 (Clang) Kernel: Depends on container host Compiler: clang 19.1.5 (Fedora 19.1.5-1.fc41) Debian 12 Kernel: Depends on container host Compiler: gcc (Debian 12.2.0-14) 12.2.0 RHEL8 Kernel: Depends on container host Compiler: gcc 8.5.0 20210514 (Red Hat 8.5.0-22) Ubuntu 20.04 Kernel: Depends on container host Compiler: gcc (Ubuntu 9.4.0-1ubuntu1~20.04.2) 9.4.0 Fedora 40 (Clang) Kernel: Depends on container host Compiler: clang 18.1.8 (Fedora 18.1.8-1.fc40) Ubuntu 24.04 Kernel: Depends on container host Compiler: gcc (Ubuntu 13.3.0-6ubuntu2~24.04) 13.3.0 To view detailed results, visit: https://lab.dpdk.org/results/dashboard/patchsets/33174/ UNH-IOL DPDK Community Lab To manage your email subscriptions, visit: https://lab.dpdk.org/results/dashboard/preferences/subscriptions/