From mboxrd@z Thu Jan 1 00:00:00 1970 Return-Path: Received: from mails.dpdk.org (mails.dpdk.org [217.70.189.124]) by inbox.dpdk.org (Postfix) with ESMTP id 9916546754 for ; Thu, 15 May 2025 10:59:52 +0200 (CEST) Received: from mails.dpdk.org (localhost [127.0.0.1]) by mails.dpdk.org (Postfix) with ESMTP id 955F140B97; Thu, 15 May 2025 10:59:52 +0200 (CEST) Received: from mail-yw1-f228.google.com (mail-yw1-f228.google.com [209.85.128.228]) by mails.dpdk.org (Postfix) with ESMTP id F1D5E402C2 for ; Thu, 15 May 2025 10:59:50 +0200 (CEST) Received: by mail-yw1-f228.google.com with SMTP id 00721157ae682-70b51b9de1fso7061667b3.1 for ; Thu, 15 May 2025 01:59:50 -0700 (PDT) DKIM-Signature: v=1; a=rsa-sha256; c=relaxed/relaxed; d=iol.unh.edu; s=unh-iol; t=1747299590; x=1747904390; darn=dpdk.org; h=references:in-reply-to:cc:to:from:subject:message-id:date:from:to :cc:subject:date:message-id:reply-to; bh=y4A0pOtjfnYSl5n9J/AdhkMx/9U42jN+XF9hnaXzfVo=; b=QXXOPoID8Q1wQVGIMoLp6LUuWAoKHaBmTZWVhu5HvG1PkzOMo9u68sWpu6DXL06s+u ba5nVIY6mF1r4kq/WAbHHlCKM+N93LTZNfBYNJfsaNDNZawGgoEyLWMrcw4HQ3tuzEXt meg6Wc5kA0IpCAx84RCgq9DLe7Ckwb15hQEqM= X-Google-DKIM-Signature: v=1; a=rsa-sha256; c=relaxed/relaxed; d=1e100.net; s=20230601; t=1747299590; x=1747904390; h=references:in-reply-to:cc:to:from:subject:message-id:date :x-gm-message-state:from:to:cc:subject:date:message-id:reply-to; bh=y4A0pOtjfnYSl5n9J/AdhkMx/9U42jN+XF9hnaXzfVo=; b=ct+a/S75FdeSJE+M5ZulqB7JLGdVFohDpgqO7NyfOM8YTbH6ca7Mo92CRYQevEk7+v kUd1aw8IIzEDTwCNrkP1E9jEpMYTQT3w+8Kh2DsFmYJg/YBie9palbUiujom+kc4P7uj MhITmjmYA+vArvsVgxQp5cvYQB/G3L6PQvF5LwEDxcWW9pKKMYy0YkqMlOO9HND/hQYM vwecjtj8wAPLnkP8FbS0q2thktuvVX9b81spAe6u/MvThVDgPh5oUbEoeL4vg46vy5lR ln3Jms5xwE3NSJ57XXU/G4sNHs9URjV5UYMocIwgSA0fsfE9b2xEqV28YyMJY5l3D1y9 HFgA== X-Gm-Message-State: AOJu0Yx60ZpTy7HozQ+WghpIRe6XToSX4ybyYKJH9ROQm5+4yRNVpNbK BrsZljmMcD/8TrGF+WrpC+DMn6QCWekMuOqMGndRIhg5YjXlqOkB/v5rzBsHqkUPM8FeKVfd+1V htXPNAFa4K1AdQb1S5QtTAZXqHJsqfHsZw+mgXeaj X-Gm-Gg: ASbGncuQxq/BbaCz+24elNs8C/JNnTdSGitcWrMqrZgqAyXbgDePRNUh2Puf1d/YK8b k2wvQARSQcDjbRj3Wwr3pwrcTL6g4qWQQ1c5aOmHycNSJY+uwZseLuJ0TrY1c/aX8hS27hawGv9 Wbtr8QPoGexUkqtRGuZb+IXDa1yWjqhVeeC0AKMEsQz4TbzhZXoVKnrnoalsZ1XKH7pDLHj1jRR Jdvrx5bcw2fbnVozwwlQ1OJO7EijomF7zvyIAUfeJYtWf0i4kaCqOS7mEbNgPmdpKuodw3ehGz3 i6f6ScX0eamN7m+Us0WZ2llxFydFEpsHu5KyenVW6hjBx6piD/9EZMvSUEI= X-Google-Smtp-Source: AGHT+IFNsidZoaion1TwJZuM1wqz+0Mwcv8tJjvYNCShf14UPORRHvUUUZpe9Kq4/sacvwKtD2NBTcGe0F/y X-Received: by 2002:a05:690c:6c05:b0:6fe:d759:b178 with SMTP id 00721157ae682-70c944f64f2mr23340947b3.6.1747299590315; Thu, 15 May 2025 01:59:50 -0700 (PDT) Received: from postal.iol.unh.edu (postal.iol.unh.edu. [132.177.123.84]) by smtp-relay.gmail.com with ESMTPS id 00721157ae682-70a3d77095esm5016677b3.29.2025.05.15.01.59.50 (version=TLS1_2 cipher=ECDHE-ECDSA-AES128-GCM-SHA256 bits=128/128); Thu, 15 May 2025 01:59:50 -0700 (PDT) X-Relaying-Domain: iol.unh.edu Date: Thu, 15 May 2025 01:59:50 -0700 (PDT) Message-ID: <6825ad06.050a0220.24804c.ad40SMTPIN_ADDED_MISSING@mx.google.com> Received: from [172.21.0.5] (unknown [172.18.0.240]) by postal.iol.unh.edu (Postfix) with ESMTP id 0B3316052471; Thu, 15 May 2025 04:59:50 -0400 (EDT) Subject: |WARNING| pw153443 [PATCH] [v2] net/intel: reduce size of common Tx From: dpdklab@iol.unh.edu To: Test Report Cc: dpdk-test-reports@iol.unh.edu In-Reply-To: <20250515062130.1396060-1-shaiq.wani@intel.com> References: <20250515062130.1396060-1-shaiq.wani@intel.com> Content-Type: text/plain X-BeenThere: test-report@dpdk.org X-Mailman-Version: 2.1.29 Precedence: list List-Id: automatic DPDK test reports List-Unsubscribe: , List-Archive: List-Post: List-Help: List-Subscribe: , Errors-To: test-report-bounces@dpdk.org Test-Label: iol-compile-amd64-testing Test-Status: WARNING http://dpdk.org/patch/153443 _Testing issues_ Submitter: Shaiq Wani Date: Thursday, May 15 2025 06:21:30 DPDK git baseline: Repo:dpdk Branch: master CommitID:5b3328195d3c7cc013eb0d7a0b99ab6791d46a77 153443 --> testing issues Upstream job id: Generic-DPDK-Compile-Meson#388078 Test environment and result as below: +-----------------------------------+--------------------+-------------------+------------------+-------------------------+-------------------+----------------------+ | Environment | dpdk_meson_compile | dpdk_compile_spdk | dpdk_compile_ovs | dpdk_llvm_clang_compile | dpdk_msvc_compile | dpdk_mingw64_compile | +===================================+====================+===================+==================+=========================+===================+======================+ | CentOS Stream 9 | PASS | PASS | SKIPPED | SKIPPED | SKIPPED | SKIPPED | +-----------------------------------+--------------------+-------------------+------------------+-------------------------+-------------------+----------------------+ | CentOS Stream 10 | PASS | SKIPPED | SKIPPED | SKIPPED | SKIPPED | SKIPPED | +-----------------------------------+--------------------+-------------------+------------------+-------------------------+-------------------+----------------------+ | Debian 12 | PASS | PASS | SKIPPED | SKIPPED | SKIPPED | SKIPPED | +-----------------------------------+--------------------+-------------------+------------------+-------------------------+-------------------+----------------------+ | Fedora 40 (Clang) | PASS | WARN | SKIPPED | SKIPPED | SKIPPED | SKIPPED | +-----------------------------------+--------------------+-------------------+------------------+-------------------------+-------------------+----------------------+ | Fedora 40 | PASS | PASS | SKIPPED | SKIPPED | SKIPPED | SKIPPED | +-----------------------------------+--------------------+-------------------+------------------+-------------------------+-------------------+----------------------+ | RHEL8 | PASS | SKIPPED | SKIPPED | SKIPPED | SKIPPED | SKIPPED | +-----------------------------------+--------------------+-------------------+------------------+-------------------------+-------------------+----------------------+ | Fedora 41 | PASS | PASS | PASS | SKIPPED | SKIPPED | SKIPPED | +-----------------------------------+--------------------+-------------------+------------------+-------------------------+-------------------+----------------------+ | RHEL9 | PASS | SKIPPED | SKIPPED | SKIPPED | SKIPPED | SKIPPED | +-----------------------------------+--------------------+-------------------+------------------+-------------------------+-------------------+----------------------+ | Fedora 41 (Clang) | PASS | WARN | PASS | SKIPPED | SKIPPED | SKIPPED | +-----------------------------------+--------------------+-------------------+------------------+-------------------------+-------------------+----------------------+ | openSUSE Leap 15 | PASS | SKIPPED | SKIPPED | SKIPPED | SKIPPED | SKIPPED | +-----------------------------------+--------------------+-------------------+------------------+-------------------------+-------------------+----------------------+ | Ubuntu 20.04 | PASS | SKIPPED | SKIPPED | SKIPPED | SKIPPED | SKIPPED | +-----------------------------------+--------------------+-------------------+------------------+-------------------------+-------------------+----------------------+ | Ubuntu 24.04 32 Bit Cross Compile | PASS | SKIPPED | SKIPPED | SKIPPED | SKIPPED | SKIPPED | +-----------------------------------+--------------------+-------------------+------------------+-------------------------+-------------------+----------------------+ | Ubuntu 22.04 | PASS | PASS | SKIPPED | SKIPPED | SKIPPED | SKIPPED | +-----------------------------------+--------------------+-------------------+------------------+-------------------------+-------------------+----------------------+ | Ubuntu 24.04 | PASS | PASS | PASS | SKIPPED | SKIPPED | SKIPPED | +-----------------------------------+--------------------+-------------------+------------------+-------------------------+-------------------+----------------------+ | Alpine | PASS | SKIPPED | SKIPPED | SKIPPED | SKIPPED | SKIPPED | +-----------------------------------+--------------------+-------------------+------------------+-------------------------+-------------------+----------------------+ | FreeBSD 13.5 | PASS | SKIPPED | SKIPPED | SKIPPED | SKIPPED | SKIPPED | +-----------------------------------+--------------------+-------------------+------------------+-------------------------+-------------------+----------------------+ | FreeBSD 14.2 | PASS | SKIPPED | SKIPPED | SKIPPED | SKIPPED | SKIPPED | +-----------------------------------+--------------------+-------------------+------------------+-------------------------+-------------------+----------------------+ | Windows Server 2022 | SKIPPED | SKIPPED | SKIPPED | PASS | PASS | PASS | +-----------------------------------+--------------------+-------------------+------------------+-------------------------+-------------------+----------------------+ ==== 20 line log output for Fedora 41 (Clang) (dpdk_compile_spdk): ==== --- Failed to get log output --- ==== End log output ==== CentOS Stream 9 Kernel: Depends on container host Compiler: gcc 11.5.0 20240719 (Red Hat 11.5.0-2) CentOS Stream 10 Kernel: Depends on container host Compiler: gcc 14.2.1 20241104 (Red Hat 14.2.1-6) Debian 12 Kernel: Depends on container host Compiler: gcc (Debian 12.2.0-14) 12.2.0 Fedora 40 (Clang) Kernel: Depends on container host Compiler: clang 18.1.8 (Fedora 18.1.8-1.fc40) Fedora 40 Kernel: Depends on container host Compiler: gcc 14.2.1 20240912 (Red Hat 14.2.1-3) RHEL8 Kernel: Depends on container host Compiler: gcc 8.5.0 20210514 (Red Hat 8.5.0-22) Fedora 41 Kernel: Depends on container host Compiler: gcc 14.2.1 20240912 (Red Hat 14.2.1-3) RHEL9 Kernel: Depends on container host Compiler: gcc 11.5.0 20240719 (Red Hat 11.5.0-2) Fedora 41 (Clang) Kernel: Depends on container host Compiler: clang 19.1.5 (Fedora 19.1.5-1.fc41) openSUSE Leap 15 Kernel: Depends on container host Compiler: gcc (SUSE Linux) 7.5.0 Ubuntu 20.04 Kernel: 4.19.325-0419325-generic Compiler: gcc (Ubuntu 9.4.0-1ubuntu1~20.04.2) 9.4.0 Ubuntu 24.04 32 Bit Cross Compile Kernel: Depends on container host Compiler: gcc (Ubuntu 13.3.0-6ubuntu2~24.04) 13.3.0 Ubuntu 22.04 Kernel: Depends on container host Compiler: gcc (Ubuntu 11.4.0-1ubuntu1~22.04) 11.4.0 Ubuntu 24.04 Kernel: Depends on container host Compiler: gcc (Ubuntu 13.3.0-6ubuntu2~24.04) 13.3.0 Alpine Kernel: Depends on container host Compiler: gcc (Alpine 14.2.0) 14.2.0 FreeBSD 13.5 Kernel: 13.5-RELEASE Compiler: clang 19.1.7 FreeBSD 14.2 Kernel: 14.2-RELEASE Compiler: clang 18.1.6 Windows Server 2022 Kernel: 10.0.20348.2031 Compiler: clang 15.0.7, gcc 14.1.0 (MinGW), and MSVC VS 19.39.33521 To view detailed results, visit: https://lab.dpdk.org/results/dashboard/patchsets/33174/ UNH-IOL DPDK Community Lab To manage your email subscriptions, visit: https://lab.dpdk.org/results/dashboard/preferences/subscriptions/