From mboxrd@z Thu Jan 1 00:00:00 1970 Return-Path: Received: from mails.dpdk.org (mails.dpdk.org [217.70.189.124]) by inbox.dpdk.org (Postfix) with ESMTP id 533AF46754 for ; Thu, 15 May 2025 11:06:22 +0200 (CEST) Received: from mails.dpdk.org (localhost [127.0.0.1]) by mails.dpdk.org (Postfix) with ESMTP id 341EA40B97; Thu, 15 May 2025 11:06:22 +0200 (CEST) Received: from mail-pl1-f226.google.com (mail-pl1-f226.google.com [209.85.214.226]) by mails.dpdk.org (Postfix) with ESMTP id DD0F4402C2 for ; Thu, 15 May 2025 11:06:20 +0200 (CEST) Received: by mail-pl1-f226.google.com with SMTP id d9443c01a7336-22e7eff58a0so7207305ad.3 for ; Thu, 15 May 2025 02:06:20 -0700 (PDT) DKIM-Signature: v=1; a=rsa-sha256; c=relaxed/relaxed; d=iol.unh.edu; s=unh-iol; t=1747299980; x=1747904780; darn=dpdk.org; h=cc:to:from:subject:message-id:date:from:to:cc:subject:date :message-id:reply-to; bh=53rHEPahJ0O6R6N4nEMKznJrvkG6iy9VKZ5UziIuFdk=; b=OKVlhmGtKi861rrzzfo8/H09gwur32btRdgI5qPRQw1drrykjObTT9d7AURHyM6+oj mirEI8XYQxUx+6s9ETTOakKqooSZQ6IlSSALEC6NV8/JFJBr/kloEdbZaKZiOLk7FT+w gsBDC01mbnOYuU7dl+4RiYz5jC0nOxXTuxWZk= X-Google-DKIM-Signature: v=1; a=rsa-sha256; c=relaxed/relaxed; d=1e100.net; s=20230601; t=1747299980; x=1747904780; h=cc:to:from:subject:message-id:date:x-gm-message-state:from:to:cc :subject:date:message-id:reply-to; bh=53rHEPahJ0O6R6N4nEMKznJrvkG6iy9VKZ5UziIuFdk=; b=AyVh+l51iGRqbVkOaYNZ1moghq7IRVVH78NajJX5YpPiF9nCfA+u2Au6D1Zivc5O+A zlQDxYeT8kBLQzx9G5Jt9rm+RD6U+QewDsu+xPS5ZoxnbbYz0UXrVRdhuePwkzw6N2Ok vu9nAeKOAB+Hxd1cQjJ9U+qPY6iBi3oh0m7/THB9nA5J0tb9yqp7noyAsHQ4DVkIvJhS UbdJ3IWHgXKiwR9jugc5gKxnnZk2qB1S0PBTQ/U/Vxw/8pPkladYjTmVt7fmO7TcbxVb ncEGY3a0v3VsneN/45v+YxZFMTbNinuXCUi0C5IX5c48kbhW4oU7yTP97mXeNsX4Y1Sj HGEA== X-Gm-Message-State: AOJu0YwacLZVeGLWA+Bk/lX5+AlKs1hIxb5yRXbcyPZW6AYmZFCFVX4V clb9srA6+HLy03Wt0ZXSOtdg5yMnNzs8QRReDCIOnAqGdrC/b3YR+HLIs/bhZNK7mrzllkUk6iJ Oxyi21cPLMrirCrlVhv6TkQe3wKFLME/j X-Gm-Gg: ASbGncu0rV2dmAxg8M7DqTNAh9Vx/kWNqyfqxdX4thNfIkIi9mKmCaC6P1QeryXSBg0 mztrl2SArZ6jr0DkXnkpjE8bUaP8hlJYhShzUsrX+zyCjpGrU0HbsBbbrLMRkilua4XJdIZNBaR 5Gt5jHKTRbysHtS189fNtzpSFpaaRcidUvL4Ypq3O/xr1hqq1KhWaaGJuWGPnvCbt4vofEgjTTW ktoTdb7N24fpOw9Hadigi8NgNv+uyFxjHT1LCuy7RxwVHERYIStHR5olVC1V9s1bm4oaYLkqdo3 f9itcJVSb1Uwj0Ps/rnB3cpH8SHjyKPfKW5epviF5aHf17Yfz5JXWn4qaUg= X-Google-Smtp-Source: AGHT+IFC1OAR7eXqLiy0GF4jGx8Sq6orNfJ0dIkkBXKdSANlg3LuE2tVTo1R04qv6Ig6HcZP2O5e5tGcuIIt X-Received: by 2002:a17:903:f86:b0:21f:7880:8472 with SMTP id d9443c01a7336-231b5f09067mr24624685ad.35.1747299979652; Thu, 15 May 2025 02:06:19 -0700 (PDT) Received: from postal.iol.unh.edu (postal.iol.unh.edu. [132.177.123.84]) by smtp-relay.gmail.com with ESMTPS id d9443c01a7336-22fc5a53f7fsm8142355ad.67.2025.05.15.02.06.19 (version=TLS1_2 cipher=ECDHE-ECDSA-AES128-GCM-SHA256 bits=128/128); Thu, 15 May 2025 02:06:19 -0700 (PDT) X-Relaying-Domain: iol.unh.edu Date: Thu, 15 May 2025 02:06:19 -0700 (PDT) Message-ID: <6825ae8b.170a0220.123995.ab27SMTPIN_ADDED_MISSING@mx.google.com> Received: from [172.17.0.3] (unknown [172.18.0.76]) by postal.iol.unh.edu (Postfix) with ESMTP id D05846052471; Thu, 15 May 2025 05:06:18 -0400 (EDT) Subject: |SUCCESS| [GIT MASTER] 83a7a648344674c0269fcaeb71d8d16468421a0e From: dpdklab@iol.unh.edu To: Test Report Cc: dpdk-test-reports@iol.unh.edu, Xueming Li , Christian Ehrhardt , Kevin Traynor , Luca Boccassi Content-Type: text/plain X-BeenThere: test-report@dpdk.org X-Mailman-Version: 2.1.29 Precedence: list List-Id: automatic DPDK test reports List-Unsubscribe: , List-Archive: List-Post: List-Help: List-Subscribe: , Errors-To: test-report-bounces@dpdk.org _Testing PASS_ Branch: tags/v23.11 83a7a648344674c0269fcaeb71d8d16468421a0e --> testing pass Upstream job id: ACVP-FIPS-testing#9812 Test environment and result as below: +--------------------+----------------------+----------------------+ | Environment | compressdev_zlib_pmd | dpdk_fips_validation | +====================+======================+======================+ | Ubuntu 22.04 (ARM) | PASS | SKIPPED | +--------------------+----------------------+----------------------+ | Ubuntu 22.04 | PASS | SKIPPED | +--------------------+----------------------+----------------------+ | Ubuntu 20.04 | SKIPPED | PASS | +--------------------+----------------------+----------------------+ Ubuntu 22.04 (ARM) Kernel: 5.15.0-97-generic Compiler: gcc gcc (Ubuntu 11.4.0-1ubuntu1~22.04) 11.4.0 Ubuntu 22.04 Kernel: 5.15.0-100-generic Compiler: gcc gcc (Ubuntu 11.4.0-1ubuntu1~22.04) 11.4.0 Ubuntu 20.04 Kernel: Depends on container host Compiler: gcc (Ubuntu 9.4.0-1ubuntu1~20.04.2) 9.4.0 To view detailed results, visit: https://lab.dpdk.org/results/dashboard/tarballs/33532/ UNH-IOL DPDK Community Lab To manage your email subscriptions, visit: https://lab.dpdk.org/results/dashboard/preferences/subscriptions/