From mboxrd@z Thu Jan 1 00:00:00 1970 Return-Path: Received: from mails.dpdk.org (mails.dpdk.org [217.70.189.124]) by inbox.dpdk.org (Postfix) with ESMTP id 50DEE46754 for ; Thu, 15 May 2025 11:07:06 +0200 (CEST) Received: from mails.dpdk.org (localhost [127.0.0.1]) by mails.dpdk.org (Postfix) with ESMTP id 4E02440B97; Thu, 15 May 2025 11:07:06 +0200 (CEST) Received: from mail-io1-f98.google.com (mail-io1-f98.google.com [209.85.166.98]) by mails.dpdk.org (Postfix) with ESMTP id 1F92B402C2 for ; Thu, 15 May 2025 11:07:05 +0200 (CEST) Received: by mail-io1-f98.google.com with SMTP id ca18e2360f4ac-85e751cffbeso54523139f.0 for ; Thu, 15 May 2025 02:07:05 -0700 (PDT) DKIM-Signature: v=1; a=rsa-sha256; c=relaxed/relaxed; d=iol.unh.edu; s=unh-iol; t=1747300024; x=1747904824; darn=dpdk.org; h=references:in-reply-to:cc:to:from:subject:message-id:date:from:to :cc:subject:date:message-id:reply-to; bh=29vT/Rza9wTo+oTUZQy1+qrtLKdpEJcGQ0h3nyLzx4A=; b=Bi9HZ6oxuRdCTK440XDW8YIYbFMJ8i1HddeJMG8vO0do/FczIsV6dwSX3OB2OABfwy JbioKgsok4SOSQGe02Cmr80sRjycpt+eQBxzCydXukn3bc2UNqgZslylX6r+hYarCzvs wNUeDQIikXjdkgbNTIefUVat8dUAAhCKcwguY= X-Google-DKIM-Signature: v=1; a=rsa-sha256; c=relaxed/relaxed; d=1e100.net; s=20230601; t=1747300024; x=1747904824; h=references:in-reply-to:cc:to:from:subject:message-id:date :x-gm-message-state:from:to:cc:subject:date:message-id:reply-to; bh=29vT/Rza9wTo+oTUZQy1+qrtLKdpEJcGQ0h3nyLzx4A=; b=NBrogcC8t2Y74ixPOtpFLPH3AbJt/DrOfFQfBwMEyX7gNnOPwSrgHc2uGw/zDqnFTB ZyxyU/jse334H2HiE8payC+VATvLnUno0Smv5BkCk1TmePK0xesYHoE6PuOR/IjxJeaO NR0nbTxQvhvP2zCxNp811dFDYbjfOpuEpiihronZ79jzSrxtSExKh7DvcGcJnh1hg0WN 9wbOlmTGWi1Wc05+NWPMZDQHNEi0OuO3xUwJ5Om1z5zyIR+/ywJyIyn7myUZFht7g00T VR+GEnQ3SfreXvNh4V4yDS1QhlpimksaSZzwdI/+CE6WVd/JXMaNQd6lwPOD2nUkkoDA FAIQ== X-Gm-Message-State: AOJu0YymlxNSpNsBF+aZ9WALQqjhm946yBr2ygyPNcNPmLdxNZrf0fDr dUjMDONjeS1+lYIJwHrVdaxqRxWBbkXm53PLuV6AKuLwf/DjhGnAk6Ohhr2cyC8xT/UFwI65gS5 3ARR/Wr9PVRrL0gbYaBEOzE183J0fw8NZg0CGeGCUuxTf/DUS6FiIlUpI X-Gm-Gg: ASbGncv4lrEfKWn/8LFBnvl4EiddGpQITbzWFqtSYtffNZ432JbCrgzmn+37x4ymluG 8vCdt8qJ9HWrMk4FCMWFnOQav75VDJ+gwDu7cvf8qdh/N2vzOeiZ2+kEPnpb57htdx11EfJAGb/ RDw6z6Sp9qcHPoHcfE0cM+Zzsx5Fus8V5FKImpYI01Cv1Loo2pvf3331jbVajViKn7uvbkWsRmO aGzsWDe5iOpn6c34PI2YGw6R7Wb94TBVRnPU0Naqlz3QXu12kl6WiFiCFTsm6BvkGgwmLOC9cXV YW5Q07EKvHCyiCTX4TwH+J0J0BnoNwgunihV X-Google-Smtp-Source: AGHT+IFDWkky7oXu6q+QqsLFwbOmP8acwTrJofrjDbhHnvAM8dlNgOgohDXwWr9MJ8ly00cNeNTTcZ/L+f/p X-Received: by 2002:a05:6602:3986:b0:85b:3885:1592 with SMTP id ca18e2360f4ac-86a1a0c7c00mr162345539f.10.1747300024338; Thu, 15 May 2025 02:07:04 -0700 (PDT) Received: from postal.iol.unh.edu (postal.iol.unh.edu. [2606:4100:3880:1234::84]) by smtp-relay.gmail.com with ESMTPS id ca18e2360f4ac-8676369f8a5sm64712139f.15.2025.05.15.02.07.04 (version=TLS1_2 cipher=ECDHE-ECDSA-AES128-GCM-SHA256 bits=128/128); Thu, 15 May 2025 02:07:04 -0700 (PDT) X-Relaying-Domain: iol.unh.edu Date: Thu, 15 May 2025 02:07:04 -0700 (PDT) Message-ID: <6825aeb8.050a0220.19f626.155eSMTPIN_ADDED_MISSING@mx.google.com> Received: from [172.17.0.3] (unknown [172.18.0.76]) by postal.iol.unh.edu (Postfix) with ESMTP id D422A6052471; Thu, 15 May 2025 05:07:03 -0400 (EDT) Subject: |SUCCESS| pw153443 [PATCH] [v2] net/intel: reduce size of common Tx From: dpdklab@iol.unh.edu To: Test Report Cc: dpdk-test-reports@iol.unh.edu In-Reply-To: <20250515062130.1396060-1-shaiq.wani@intel.com> References: <20250515062130.1396060-1-shaiq.wani@intel.com> Content-Type: text/plain X-BeenThere: test-report@dpdk.org X-Mailman-Version: 2.1.29 Precedence: list List-Id: automatic DPDK test reports List-Unsubscribe: , List-Archive: List-Post: List-Help: List-Subscribe: , Errors-To: test-report-bounces@dpdk.org Test-Label: iol-abi-testing Test-Status: SUCCESS http://dpdk.org/patch/153443 _Testing PASS_ Submitter: Shaiq Wani Date: Thursday, May 15 2025 06:21:30 DPDK git baseline: Repo:dpdk Branch: master CommitID:5b3328195d3c7cc013eb0d7a0b99ab6791d46a77 153443 --> testing pass Upstream job id: Generic-DPDK-Compile-ABI#126418 Test environment and result as below: +-------------------+----------+ | Environment | abi_test | +===================+==========+ | CentOS Stream 9 | PASS | +-------------------+----------+ | Debian 12 | PASS | +-------------------+----------+ | CentOS Stream 10 | PASS | +-------------------+----------+ | Fedora 41 (Clang) | PASS | +-------------------+----------+ | Fedora 40 (Clang) | PASS | +-------------------+----------+ | Fedora 40 | PASS | +-------------------+----------+ | RHEL9 | PASS | +-------------------+----------+ | RHEL8 | PASS | +-------------------+----------+ | Fedora 41 | PASS | +-------------------+----------+ | Ubuntu 24.04 | PASS | +-------------------+----------+ | Ubuntu 22.04 | PASS | +-------------------+----------+ | openSUSE Leap 15 | PASS | +-------------------+----------+ CentOS Stream 9 Kernel: Depends on container host Compiler: gcc 11.5.0 20240719 (Red Hat 11.5.0-2) Debian 12 Kernel: Depends on container host Compiler: gcc (Debian 12.2.0-14) 12.2.0 CentOS Stream 10 Kernel: Depends on container host Compiler: gcc 14.2.1 20241104 (Red Hat 14.2.1-6) Fedora 41 (Clang) Kernel: Depends on container host Compiler: clang 19.1.5 (Fedora 19.1.5-1.fc41) Fedora 40 (Clang) Kernel: Depends on container host Compiler: clang 18.1.8 (Fedora 18.1.8-1.fc40) Fedora 40 Kernel: Depends on container host Compiler: gcc 14.2.1 20240912 (Red Hat 14.2.1-3) RHEL9 Kernel: Depends on container host Compiler: gcc 11.5.0 20240719 (Red Hat 11.5.0-2) RHEL8 Kernel: Depends on container host Compiler: gcc 8.5.0 20210514 (Red Hat 8.5.0-22) Fedora 41 Kernel: Depends on container host Compiler: gcc 14.2.1 20240912 (Red Hat 14.2.1-3) Ubuntu 24.04 Kernel: Depends on container host Compiler: gcc (Ubuntu 13.3.0-6ubuntu2~24.04) 13.3.0 Ubuntu 22.04 Kernel: Depends on container host Compiler: gcc (Ubuntu 11.4.0-1ubuntu1~22.04) 11.4.0 openSUSE Leap 15 Kernel: Depends on container host Compiler: gcc (SUSE Linux) 7.5.0 To view detailed results, visit: https://lab.dpdk.org/results/dashboard/patchsets/33174/ UNH-IOL DPDK Community Lab To manage your email subscriptions, visit: https://lab.dpdk.org/results/dashboard/preferences/subscriptions/