From mboxrd@z Thu Jan 1 00:00:00 1970 Return-Path: Received: from mails.dpdk.org (mails.dpdk.org [217.70.189.124]) by inbox.dpdk.org (Postfix) with ESMTP id 3048A46754 for ; Thu, 15 May 2025 11:45:44 +0200 (CEST) Received: from mails.dpdk.org (localhost [127.0.0.1]) by mails.dpdk.org (Postfix) with ESMTP id 0E7D840B97; Thu, 15 May 2025 11:45:44 +0200 (CEST) Received: from mail-il1-f227.google.com (mail-il1-f227.google.com [209.85.166.227]) by mails.dpdk.org (Postfix) with ESMTP id 03793402C2 for ; Thu, 15 May 2025 11:45:42 +0200 (CEST) Received: by mail-il1-f227.google.com with SMTP id e9e14a558f8ab-3da73df6c4eso6518145ab.0 for ; Thu, 15 May 2025 02:45:42 -0700 (PDT) DKIM-Signature: v=1; a=rsa-sha256; c=relaxed/relaxed; d=iol.unh.edu; s=unh-iol; t=1747302342; x=1747907142; darn=dpdk.org; h=references:in-reply-to:cc:to:from:subject:message-id:date:from:to :cc:subject:date:message-id:reply-to; bh=lVsZjSHb28bSzKoz6Z5WN4GOFb3nAVlXWH7WzbzX4qE=; b=Nx0G5p61ucJbuGOWrylZJ2Hw/e8k5CRVi9AdYmlVip0+nQIVUl+ePx5SR1YQsQB5iA NpePdFc8pmd6yKBpA6ec5s5ddNiXsDzB20lGbQcumfLr6P3cZDFUicyvnfEFQ3TyH0sa Mx9IRqou4HmZDNm31cMXqDI4OWmmaKxEY9ogM= X-Google-DKIM-Signature: v=1; a=rsa-sha256; c=relaxed/relaxed; d=1e100.net; s=20230601; t=1747302342; x=1747907142; h=references:in-reply-to:cc:to:from:subject:message-id:date :x-gm-message-state:from:to:cc:subject:date:message-id:reply-to; bh=lVsZjSHb28bSzKoz6Z5WN4GOFb3nAVlXWH7WzbzX4qE=; b=EISeSKzcTDlPjYW6eQKDY0nDhlP/OApqnpHhOANYo4dIziJzhTY88L/ePrUh0kTM+/ AptceGLXtJm1scaYZPISokbD7p3nyjygiUSuR/1T2TjyOGd/I+SC6eqzUCPAfwqD6mQg J4OhuXvCJpzbP82f2mEbOK/2wGqmYX5s+jXCmxQYH/V+Ote274sXYoiwu2cwI9OlWLBj yWJbcUHDdoQ5jBvRwoJYWoTw/uzPdSzwqmmkEBaNgUlLLozoDj0AUUEZsARtJr+J3pIX +JqmI4+PRAwZENICuVtJTsjGGhK9HJmNnlJqJirgSMYFiRDXib/z8KY4q4jlnvYOjYT2 EEvg== X-Gm-Message-State: AOJu0YzOvFUAxvGP26NP2PP+OJ0wERm7vaJqDtJGB5cs5fS9gYqBRg75 VEsB+rgRarhsakXtWLXdL7gwf72CBxB6pdcVTAgNR1mZxM6XjgOJLDxwwEqohNSPM/HnbaHGp7z UvZo/BFnekrdf0u/Sg8N+t/AtzZUyEc4//X0AUJAojwyPmpRvTOER9RYS X-Gm-Gg: ASbGncsbIDTVedpFOuSGzaVtwIpsSLQoccHM6pRQTnn05IHtxmyBdWrGG8AmTHV196z ZLDU2iFdViNBsHhBlh2mh8IOneViQTlnTjTwHrHlhO0iyL9JZ1GqoWSMPGP259Z5OkVtJlIXUfi REr3C054+4GZdg6ASlM0Mwy2g9/NeGw7xPJ/LQ71ELhagFF9hho+heFCRG+j3mLS7nyQPdWU49M FRKAMQHSCWYU8vCHQ+ebr9vhqVw2AyzkHII5jSzaci1kaCDIBQklzPxsB9QkwlHD3pFVHqvO/HV 32C/llUl0xGigjjLG2csvIe/7+/Wddj9aONp X-Google-Smtp-Source: AGHT+IHAw7CWxQ2g000fFsxsL5vq5bCmTtKBSU2xnCeMZ7dN2+tSDYsM55WdYFgjuAf8QZLqcMPg/JGEPOrB X-Received: by 2002:a05:6e02:1aa7:b0:3d4:3db1:77ae with SMTP id e9e14a558f8ab-3db6f7ea216mr90805055ab.18.1747302342105; Thu, 15 May 2025 02:45:42 -0700 (PDT) Received: from postal.iol.unh.edu (postal.iol.unh.edu. [2606:4100:3880:1234::84]) by smtp-relay.gmail.com with ESMTPS id 8926c6da1cb9f-4fa225f55f0sm270135173.48.2025.05.15.02.45.42 (version=TLS1_2 cipher=ECDHE-ECDSA-AES128-GCM-SHA256 bits=128/128); Thu, 15 May 2025 02:45:42 -0700 (PDT) X-Relaying-Domain: iol.unh.edu Date: Thu, 15 May 2025 02:45:42 -0700 (PDT) Message-ID: <6825b7c6.020a0220.c1a78.37f4SMTPIN_ADDED_MISSING@mx.google.com> Received: from [172.17.0.2] (unknown [172.18.0.76]) by postal.iol.unh.edu (Postfix) with ESMTP id 8E4196052471; Thu, 15 May 2025 05:45:41 -0400 (EDT) Subject: |SUCCESS| pw153443 [PATCH] [v2] net/intel: reduce size of common Tx From: dpdklab@iol.unh.edu To: Test Report Cc: dpdk-test-reports@iol.unh.edu In-Reply-To: <20250515062130.1396060-1-shaiq.wani@intel.com> References: <20250515062130.1396060-1-shaiq.wani@intel.com> Content-Type: text/plain X-BeenThere: test-report@dpdk.org X-Mailman-Version: 2.1.29 Precedence: list List-Id: automatic DPDK test reports List-Unsubscribe: , List-Archive: List-Post: List-Help: List-Subscribe: , Errors-To: test-report-bounces@dpdk.org Test-Label: iol-sample-apps-testing Test-Status: SUCCESS http://dpdk.org/patch/153443 _Testing PASS_ Submitter: Shaiq Wani Date: Thursday, May 15 2025 06:21:30 DPDK git baseline: Repo:dpdk Branch: master CommitID:5b3328195d3c7cc013eb0d7a0b99ab6791d46a77 153443 --> testing pass Upstream job id: ACVP-FIPS-testing#9813 Test environment and result as below: +--------------------+----------------------+----------------------+ | Environment | compressdev_zlib_pmd | dpdk_fips_validation | +====================+======================+======================+ | Ubuntu 22.04 (ARM) | PASS | SKIPPED | +--------------------+----------------------+----------------------+ | Ubuntu 22.04 | PASS | SKIPPED | +--------------------+----------------------+----------------------+ | Ubuntu 20.04 | SKIPPED | PASS | +--------------------+----------------------+----------------------+ Ubuntu 22.04 (ARM) Kernel: 5.15.0-97-generic Compiler: gcc gcc (Ubuntu 11.4.0-1ubuntu1~22.04) 11.4.0 Ubuntu 22.04 Kernel: 5.15.0-100-generic Compiler: gcc gcc (Ubuntu 11.4.0-1ubuntu1~22.04) 11.4.0 Ubuntu 20.04 Kernel: Depends on container host Compiler: gcc (Ubuntu 9.4.0-1ubuntu1~20.04.2) 9.4.0 To view detailed results, visit: https://lab.dpdk.org/results/dashboard/patchsets/33174/ UNH-IOL DPDK Community Lab To manage your email subscriptions, visit: https://lab.dpdk.org/results/dashboard/preferences/subscriptions/