From mboxrd@z Thu Jan 1 00:00:00 1970 Return-Path: Received: from mails.dpdk.org (mails.dpdk.org [217.70.189.124]) by inbox.dpdk.org (Postfix) with ESMTP id 5831D46755 for ; Thu, 15 May 2025 12:17:21 +0200 (CEST) Received: from mails.dpdk.org (localhost [127.0.0.1]) by mails.dpdk.org (Postfix) with ESMTP id 3FB5640C35; Thu, 15 May 2025 12:17:21 +0200 (CEST) Received: from mail-io1-f97.google.com (mail-io1-f97.google.com [209.85.166.97]) by mails.dpdk.org (Postfix) with ESMTP id A35A840B97 for ; Thu, 15 May 2025 12:17:19 +0200 (CEST) Received: by mail-io1-f97.google.com with SMTP id ca18e2360f4ac-867347b8de9so65656939f.0 for ; Thu, 15 May 2025 03:17:19 -0700 (PDT) DKIM-Signature: v=1; a=rsa-sha256; c=relaxed/relaxed; d=iol.unh.edu; s=unh-iol; t=1747304239; x=1747909039; darn=dpdk.org; h=references:in-reply-to:cc:to:from:subject:message-id:date:from:to :cc:subject:date:message-id:reply-to; bh=yD6iACSHpEtVAS2wBScxIH+TATG5m00lhmF8UbrkiGY=; b=LP9vrI3aM7tCWT4DmBvvH2g5TidREvZ+yHFzZL5vWRQFcYMLPwaV18/RZPowyrHvYl CtdEXbux4lxn3dn1e5mWOC/rfjfsUwkIE4C1I+I2dp8AHOxEqGl8GnDyLGGdsfGclILa avAEAEE+brxt70DXw0m0Th9FYesRuHaI0Yej8= X-Google-DKIM-Signature: v=1; a=rsa-sha256; c=relaxed/relaxed; d=1e100.net; s=20230601; t=1747304239; x=1747909039; h=references:in-reply-to:cc:to:from:subject:message-id:date :x-gm-message-state:from:to:cc:subject:date:message-id:reply-to; bh=yD6iACSHpEtVAS2wBScxIH+TATG5m00lhmF8UbrkiGY=; b=JEWYyqVdlhqB245jypoVY1/RSW1BjaUMklLXotar4GuGehoxC3DyZ8K3HJVQOg/K8k IhoHQOqfy0krhLgGwfd88ZiRvliesiiXJW18lU/JYEmO7cQX8gsbHVJfVJlC/+gY6SWZ 1fbYenuOu4m38uZr9woaNO1Ua5xnlzEFRmXZHNeEJprLiP+7IghF9/Bp6JWKhULRM99y OkJsabNbSdMdC7ZHtvB2FIQhblT4qs31x43R3UjHk/5z421huujxHcLNXHSRrU0tYoAk E5+r2hFC6UNVUoXwSmAmSRgaQEKI6PSw2mZXL/nzE8lhIgvSmd5+f/3cjSowwFItNxfs mMAA== X-Gm-Message-State: AOJu0Yz1Jxx9NrTu59Xpu+ZpL4gpF9bh0cuNSsba6rgoW3BGMF04dx/o +LMJ+oCUG+zTK7KSthU6VR57HWG8y6DUkIWEfMMRzlsHWlfgHk8BI/NleS4qA4Dk5g6rJrXHpP2 AuZbO6+4/pmq3qyqnATKca7KbJhg7OJAeOjvyLQX0 X-Gm-Gg: ASbGncuikZLtPgIJLlbYmRZejkhIXGOn3vt4AT1qYeYWXZHZMNweQim1OMb4GbndV5B d1cFh0PNGBf0Biu3CGTPZ2rke8L4ESrnoyTyqCcXD4PtAsWorsycT56JDvUZIDqBFu36aRBlwtT aDjM5J7XNM1Qn9mKR1stRIrCTlyI6ZZEyCgcrXM+trcZWSNXbUauLTHEDqkI0DXiYx9Yw64jX7t 3LA7KoLHTPHJHILgxM35Nv3ILoEBRGlNxhnvaOWvmTTA4NNqIDSqFchjJYGlA4tt2l/aJa4Lnqg lg22iSMIbWtd77GWLClYxz4W9nhbCgbQAxa33kVUwH+9kpEpfaSiieOxo8Y= X-Google-Smtp-Source: AGHT+IHe/P/ghKw50YVs1CtWcWKMIbau6xCHrN62Lf9m5M2Xk0KYjgV7h//5hLxGJ9LF9yjUEeUnJVEr/vRN X-Received: by 2002:a05:6e02:5e87:b0:3db:81c2:f467 with SMTP id e9e14a558f8ab-3db81c2f68dmr1295175ab.5.1747304238859; Thu, 15 May 2025 03:17:18 -0700 (PDT) Received: from postal.iol.unh.edu (postal.iol.unh.edu. [132.177.123.84]) by smtp-relay.gmail.com with ESMTPS id e9e14a558f8ab-3da7e15bc2dsm8341235ab.55.2025.05.15.03.17.18 (version=TLS1_2 cipher=ECDHE-ECDSA-AES128-GCM-SHA256 bits=128/128); Thu, 15 May 2025 03:17:18 -0700 (PDT) X-Relaying-Domain: iol.unh.edu Date: Thu, 15 May 2025 03:17:18 -0700 (PDT) Message-ID: <6825bf2e.050a0220.33477d.b73dSMTPIN_ADDED_MISSING@mx.google.com> Received: from [172.17.0.2] (unknown [172.18.0.76]) by postal.iol.unh.edu (Postfix) with ESMTP id 5083C6052471; Thu, 15 May 2025 06:17:18 -0400 (EDT) Subject: |SUCCESS| pw153443 [PATCH] [v2] net/intel: reduce size of common Tx From: dpdklab@iol.unh.edu To: Test Report Cc: dpdk-test-reports@iol.unh.edu In-Reply-To: <20250515062130.1396060-1-shaiq.wani@intel.com> References: <20250515062130.1396060-1-shaiq.wani@intel.com> Content-Type: text/plain X-BeenThere: test-report@dpdk.org X-Mailman-Version: 2.1.29 Precedence: list List-Id: automatic DPDK test reports List-Unsubscribe: , List-Archive: List-Post: List-Help: List-Subscribe: , Errors-To: test-report-bounces@dpdk.org Test-Label: iol-compile-arm64-testing Test-Status: SUCCESS http://dpdk.org/patch/153443 _Testing PASS_ Submitter: Shaiq Wani Date: Thursday, May 15 2025 06:21:30 DPDK git baseline: Repo:dpdk Branch: master CommitID:5b3328195d3c7cc013eb0d7a0b99ab6791d46a77 153443 --> testing pass Upstream job id: Generic-DPDK-Compile-Meson#388088 Test environment and result as below: +----------------------------------------+--------------------+ | Environment | dpdk_meson_compile | +========================================+====================+ | RHEL9 (ARM) | PASS | +----------------------------------------+--------------------+ | Ubuntu 20.04 ARM SVE | PASS | +----------------------------------------+--------------------+ | Ubuntu 20.04 ARM GCC Cross Compile | PASS | +----------------------------------------+--------------------+ | Fedora 40 (ARM Clang) | PASS | +----------------------------------------+--------------------+ | Debian 12 with MUSDK | PASS | +----------------------------------------+--------------------+ | Fedora 40 (ARM) | PASS | +----------------------------------------+--------------------+ | Fedora 41 (ARM) | PASS | +----------------------------------------+--------------------+ | Ubuntu 22.04 (ARM) | PASS | +----------------------------------------+--------------------+ | Ubuntu 20.04 (ARM) | PASS | +----------------------------------------+--------------------+ | Fedora 41 (ARM Clang) | PASS | +----------------------------------------+--------------------+ | CentOS Stream 9 (ARM) | PASS | +----------------------------------------+--------------------+ | Ubuntu 20.04 ARM Clang Cross Compile | PASS | +----------------------------------------+--------------------+ | CentOS Stream 10 (ARM) | PASS | +----------------------------------------+--------------------+ | Debian 12 (arm) | PASS | +----------------------------------------+--------------------+ | Ubuntu 24.04 (ARM) | PASS | +----------------------------------------+--------------------+ | Ubuntu 20.04 aarch32 GCC Cross Compile | PASS | +----------------------------------------+--------------------+ RHEL9 (ARM) Kernel: Depends on container host Compiler: gcc 11.5.0 20240719 (Red Hat 11.5.0-2) Ubuntu 20.04 ARM SVE Kernel: Depends on container host Compiler: gcc (Ubuntu 10.5.0-1ubuntu1~20.04) 10.5.0 Ubuntu 20.04 ARM GCC Cross Compile Kernel: Depends on container host Compiler: aarch64-linux-gnu-gcc (Ubuntu 9.4.0-1ubuntu1~20.04.2) 9.4.0 Fedora 40 (ARM Clang) Kernel: Depends on container host Compiler: clang 18.1.8 (Fedora 18.1.8-1.fc40) Debian 12 with MUSDK Kernel: Depends on container host Compiler: gcc (Debian 12.2.0-14) 12.2.0 Fedora 40 (ARM) Kernel: Depends on container host Compiler: gcc 14.2.1 20240912 (Red Hat 14.2.1-3) Fedora 41 (ARM) Kernel: Depends on container host Compiler: gcc 14.2.1 20240912 (Red Hat 14.2.1-3) Ubuntu 22.04 (ARM) Kernel: Depends on container host Compiler: gcc (Ubuntu 11.4.0-1ubuntu1~22.04) 11.4.0 Ubuntu 20.04 (ARM) Kernel: Depends on container host Compiler: gcc (Ubuntu 9.4.0-1ubuntu1~20.04.2) 9.4.0 Fedora 41 (ARM Clang) Kernel: Depends on container host Compiler: clang 19.1.5 (Fedora 19.1.5-1.fc41) CentOS Stream 9 (ARM) Kernel: Depends on container host Compiler: gcc 11.5.0 20240719 (Red Hat 11.5.0-2) Ubuntu 20.04 ARM Clang Cross Compile Kernel: Depends on container host Compiler: clang 10.0.0-4ubuntu1 CentOS Stream 10 (ARM) Kernel: Depends on container host Compiler: gcc 14.2.1 20241104 (Red Hat 14.2.1-6) Debian 12 (arm) Kernel: Depends on container host Compiler: gcc (Debian 12.2.0-14) 12.2.0 Ubuntu 24.04 (ARM) Kernel: Depends on container host Compiler: gcc (Ubuntu 13.3.0-6ubuntu2~24.04) 13.3.0 Ubuntu 20.04 aarch32 GCC Cross Compile Kernel: Depends on container host Compiler: gcc 9.4.0 To view detailed results, visit: https://lab.dpdk.org/results/dashboard/patchsets/33174/ UNH-IOL DPDK Community Lab To manage your email subscriptions, visit: https://lab.dpdk.org/results/dashboard/preferences/subscriptions/