From mboxrd@z Thu Jan 1 00:00:00 1970 Return-Path: Received: from mails.dpdk.org (mails.dpdk.org [217.70.189.124]) by inbox.dpdk.org (Postfix) with ESMTP id A1EC646755 for ; Thu, 15 May 2025 14:33:32 +0200 (CEST) Received: from mails.dpdk.org (localhost [127.0.0.1]) by mails.dpdk.org (Postfix) with ESMTP id 9C6D140E3E; Thu, 15 May 2025 14:33:32 +0200 (CEST) Received: from mail-pl1-f225.google.com (mail-pl1-f225.google.com [209.85.214.225]) by mails.dpdk.org (Postfix) with ESMTP id 2D53E402DC for ; Thu, 15 May 2025 14:33:31 +0200 (CEST) Received: by mail-pl1-f225.google.com with SMTP id d9443c01a7336-22e45088d6eso10253575ad.0 for ; Thu, 15 May 2025 05:33:31 -0700 (PDT) DKIM-Signature: v=1; a=rsa-sha256; c=relaxed/relaxed; d=iol.unh.edu; s=unh-iol; t=1747312410; x=1747917210; darn=dpdk.org; h=references:in-reply-to:cc:to:from:subject:message-id:date:from:to :cc:subject:date:message-id:reply-to; bh=V9lt2HWO3Ex1LwS9ZtxuLp99eEtdl0gQzMfHy7H5RFA=; b=DoNUlTkLlPucpYHMvpb9h6PabXPPjqf6GfbRDXiazKWU6gzZk0YH6QNkPxwrlT9TL3 195z8D3jzsXXr1DEE9F2PaV5PjXfNuzTD6jmdsF8Uy15jqtluEL6iTZpyZf7ZxFrDaCY 47XjCdEN4r6LMgxIlcytJo4VPYpvUfgjYMuPM= X-Google-DKIM-Signature: v=1; a=rsa-sha256; c=relaxed/relaxed; d=1e100.net; s=20230601; t=1747312410; x=1747917210; h=references:in-reply-to:cc:to:from:subject:message-id:date :x-gm-message-state:from:to:cc:subject:date:message-id:reply-to; bh=V9lt2HWO3Ex1LwS9ZtxuLp99eEtdl0gQzMfHy7H5RFA=; b=te2i2GQvuISQpKrAvXcdK5x4mVrnKav3tpAqcoErj+XITD4MFR5r7G4AhueqrccPft +jtpucq/ehEfqz81sw7Ii4M7o7jxS8sJg//P4PqRyRtGjElycMr08SaqFy9ejLkCIotB pbGIJvN9H6CV2CEOSMEbPcyRZQyhxT2tpcUdi8OXqf634C10BDWv7gwVebOhNhHUAnGJ WdTeinbUpbrOxDO9VpRPf5nnKi+yRmek2E564+KKbPARBFDY6lC6dO9nJ2srml/dy7fW 7MfpdLCC4Ira71WCZLVrMSIlkQZyDScd7reP1gSu904mwrRP+ImHMb66+Zqy4MD3M5lG lpxQ== X-Gm-Message-State: AOJu0YyGKAWMhJ+AX8107zyHItr2TzbEA6iADIJXjyssQk2BtvOXFlp7 uizUsisZP2EeUHaJGDYFwCmyd/jDadi7rPbwiozFGtpK4G8DDwUU9Tndgg9sM5QZ6LApM0I+4P9 oiEC0yhJleuL8jTZhb6Ncg1urE+z5wpIAhndatXIeOExvGRuBAWoHXA3/ X-Gm-Gg: ASbGncuAYdBvE6b/GN4YqJXjW8Nj4Dg6wTPl88/UD+zXqI32rMjNuwZOpzSJ7yfE5VD OCi5xYqQ4dSUst16ud/xir7faoljyo+rIZiPcsXOTVrJMATyE+n5pCH7FHYDBd4VQSxMSPu0IWd odIrnyYvo3zAqWg8r/uEnxBJodilx/oKEy98ZMWIdWuteTz/hm/g/SPRKA4wKtkOJ66jrNeWFdi n1OjbI8sUt+9p0Hnu/Px4kc7SOFggaau8YC9Vr54rQ+PiG93RiPelpvIT0EP3YOYEkebZCkaPtd 31oCZ7pGl+qQz89lU4vW8QZRJ5v1dAJilZjc X-Google-Smtp-Source: AGHT+IEZM8B7zhya0UXx8pu1eXb0wX96q+Ht2LD9gIBmZBqAKXTojN7YI9u0Ymf4eqdxO5tQfO4T8PWeRHMJ X-Received: by 2002:a17:902:d488:b0:22e:3f1e:a106 with SMTP id d9443c01a7336-231980bbe62mr102696985ad.5.1747312410262; Thu, 15 May 2025 05:33:30 -0700 (PDT) Received: from postal.iol.unh.edu (postal.iol.unh.edu. [2606:4100:3880:1234::84]) by smtp-relay.gmail.com with ESMTPS id d9443c01a7336-22fc5821007sm7983835ad.3.2025.05.15.05.33.30 (version=TLS1_2 cipher=ECDHE-ECDSA-AES128-GCM-SHA256 bits=128/128); Thu, 15 May 2025 05:33:30 -0700 (PDT) X-Relaying-Domain: iol.unh.edu Date: Thu, 15 May 2025 05:33:30 -0700 (PDT) Message-ID: <6825df1a.170a0220.1a1808.a385SMTPIN_ADDED_MISSING@mx.google.com> Received: from [172.21.0.5] (unknown [172.18.0.240]) by postal.iol.unh.edu (Postfix) with ESMTP id B61B26052471; Thu, 15 May 2025 08:33:29 -0400 (EDT) Subject: |SUCCESS| pw153448 [PATCH] vhost/crypto: fix uninitialized variable From: dpdklab@iol.unh.edu To: Test Report Cc: dpdk-test-reports@iol.unh.edu In-Reply-To: <20250515081004.1742-1-gmuthukrishn@marvell.com> References: <20250515081004.1742-1-gmuthukrishn@marvell.com> Content-Type: text/plain X-BeenThere: test-report@dpdk.org X-Mailman-Version: 2.1.29 Precedence: list List-Id: automatic DPDK test reports List-Unsubscribe: , List-Archive: List-Post: List-Help: List-Subscribe: , Errors-To: test-report-bounces@dpdk.org Test-Label: iol-abi-testing Test-Status: SUCCESS http://dpdk.org/patch/153448 _Testing PASS_ Submitter: Gowrishankar Muthukrishnan Date: Thursday, May 15 2025 08:10:01 DPDK git baseline: Repo:dpdk Branch: master CommitID:42417cbc1615f56fce1927b655bfe0d2f72c18aa 153448 --> testing pass Upstream job id: Generic-DPDK-Compile-ABI#126425 Test environment and result as below: +-------------------+----------+ | Environment | abi_test | +===================+==========+ | CentOS Stream 9 | PASS | +-------------------+----------+ | CentOS Stream 10 | PASS | +-------------------+----------+ | Debian 12 | PASS | +-------------------+----------+ | Fedora 40 (Clang) | PASS | +-------------------+----------+ | Fedora 41 (Clang) | PASS | +-------------------+----------+ | Fedora 40 | PASS | +-------------------+----------+ | Fedora 41 | PASS | +-------------------+----------+ | openSUSE Leap 15 | PASS | +-------------------+----------+ | RHEL9 | PASS | +-------------------+----------+ | Ubuntu 22.04 | PASS | +-------------------+----------+ | RHEL8 | PASS | +-------------------+----------+ | Ubuntu 24.04 | PASS | +-------------------+----------+ CentOS Stream 9 Kernel: Depends on container host Compiler: gcc 11.5.0 20240719 (Red Hat 11.5.0-2) CentOS Stream 10 Kernel: Depends on container host Compiler: gcc 14.2.1 20241104 (Red Hat 14.2.1-6) Debian 12 Kernel: Depends on container host Compiler: gcc (Debian 12.2.0-14) 12.2.0 Fedora 40 (Clang) Kernel: Depends on container host Compiler: clang 18.1.8 (Fedora 18.1.8-1.fc40) Fedora 41 (Clang) Kernel: Depends on container host Compiler: clang 19.1.5 (Fedora 19.1.5-1.fc41) Fedora 40 Kernel: Depends on container host Compiler: gcc 14.2.1 20240912 (Red Hat 14.2.1-3) Fedora 41 Kernel: Depends on container host Compiler: gcc 14.2.1 20240912 (Red Hat 14.2.1-3) openSUSE Leap 15 Kernel: Depends on container host Compiler: gcc (SUSE Linux) 7.5.0 RHEL9 Kernel: Depends on container host Compiler: gcc 11.5.0 20240719 (Red Hat 11.5.0-2) Ubuntu 22.04 Kernel: Depends on container host Compiler: gcc (Ubuntu 11.4.0-1ubuntu1~22.04) 11.4.0 RHEL8 Kernel: Depends on container host Compiler: gcc 8.5.0 20210514 (Red Hat 8.5.0-22) Ubuntu 24.04 Kernel: Depends on container host Compiler: gcc (Ubuntu 13.3.0-6ubuntu2~24.04) 13.3.0 To view detailed results, visit: https://lab.dpdk.org/results/dashboard/patchsets/33179/ UNH-IOL DPDK Community Lab To manage your email subscriptions, visit: https://lab.dpdk.org/results/dashboard/preferences/subscriptions/