automatic DPDK test reports
 help / color / mirror / Atom feed
From: dpdklab@iol.unh.edu
To: Test Report <test-report@dpdk.org>
Cc: dpdk-test-reports@iol.unh.edu
Subject: |SUCCESS| pw153447 [PATCH] test/crypto: fix return value in RSA test
Date: Thu, 15 May 2025 05:34:46 -0700 (PDT)	[thread overview]
Message-ID: <6825df66.170a0220.123995.b9a6SMTPIN_ADDED_MISSING@mx.google.com> (raw)
In-Reply-To: <20250515080853.1708-1-gmuthukrishn@marvell.com>

Test-Label: iol-sample-apps-testing
Test-Status: SUCCESS
http://dpdk.org/patch/153447

_Testing PASS_

Submitter: Gowrishankar Muthukrishnan <gmuthukrishn@marvell.com>
Date: Thursday, May 15 2025 08:08:50 
DPDK git baseline: Repo:dpdk
  Branch: master
  CommitID:ca1690ebd224f148268285b15b97441ccdbdd07e

153447 --> testing pass

Upstream job id: Template-DTS-Pipeline#225882

Test environment and result as below:

+--------------------+----------------------+
|    Environment     | compressdev_zlib_pmd |
+====================+======================+
| Ubuntu 22.04 (ARM) | PASS                 |
+--------------------+----------------------+


Ubuntu 22.04 (ARM)
	Kernel: 5.15.0-97-generic
	Compiler: gcc gcc (Ubuntu 11.4.0-1ubuntu1~22.04) 11.4.0

To view detailed results, visit:
https://lab.dpdk.org/results/dashboard/patchsets/33178/

UNH-IOL DPDK Community Lab

To manage your email subscriptions, visit: 
https://lab.dpdk.org/results/dashboard/preferences/subscriptions/

  parent reply	other threads:[~2025-05-15 12:34 UTC|newest]

Thread overview: 29+ messages / expand[flat|nested]  mbox.gz  Atom feed  top
     [not found] <20250515080853.1708-1-gmuthukrishn@marvell.com>
2025-05-15  7:49 ` qemudev
2025-05-15  7:53 ` qemudev
2025-05-15  8:08 ` checkpatch
2025-05-15  9:43 ` 0-day Robot
2025-05-15 12:14 ` dpdklab
2025-05-15 12:20 ` dpdklab
2025-05-15 12:20 ` dpdklab
2025-05-15 12:21 ` dpdklab
2025-05-15 12:26 ` dpdklab
2025-05-15 12:34 ` dpdklab [this message]
2025-05-15 12:37 ` dpdklab
2025-05-15 12:39 ` dpdklab
2025-05-15 12:46 ` dpdklab
2025-05-15 12:57 ` dpdklab
2025-05-15 13:02 ` |PENDING| " dpdklab
2025-05-15 13:14 ` dpdklab
2025-05-15 13:54 ` dpdklab
2025-05-15 14:11 ` |SUCCESS| " dpdklab
2025-05-15 14:12 ` dpdklab
2025-05-15 14:19 ` dpdklab
2025-05-15 14:19 ` dpdklab
2025-05-15 14:26 ` |WARNING| " dpdklab
2025-05-15 14:41 ` |SUCCESS| " dpdklab
2025-05-15 14:42 ` dpdklab
2025-05-15 15:33 ` |WARNING| " dpdklab
2025-05-15 15:47 ` |SUCCESS| " dpdklab
2025-05-15 16:24 ` dpdklab
2025-05-15 16:41 ` dpdklab
2025-05-15 17:20 ` dpdklab

Reply instructions:

You may reply publicly to this message via plain-text email
using any one of the following methods:

* Save the following mbox file, import it into your mail client,
  and reply-to-all from there: mbox

  Avoid top-posting and favor interleaved quoting:
  https://en.wikipedia.org/wiki/Posting_style#Interleaved_style

* Reply using the --to, --cc, and --in-reply-to
  switches of git-send-email(1):

  git send-email \
    --in-reply-to=6825df66.170a0220.123995.b9a6SMTPIN_ADDED_MISSING@mx.google.com \
    --to=dpdklab@iol.unh.edu \
    --cc=dpdk-test-reports@iol.unh.edu \
    --cc=test-report@dpdk.org \
    /path/to/YOUR_REPLY

  https://kernel.org/pub/software/scm/git/docs/git-send-email.html

* If your mail client supports setting the In-Reply-To header
  via mailto: links, try the mailto: link
Be sure your reply has a Subject: header at the top and a blank line before the message body.
This is a public inbox, see mirroring instructions
for how to clone and mirror all data and code used for this inbox;
as well as URLs for NNTP newsgroup(s).