From mboxrd@z Thu Jan 1 00:00:00 1970 Return-Path: Received: from mails.dpdk.org (mails.dpdk.org [217.70.189.124]) by inbox.dpdk.org (Postfix) with ESMTP id A9B1346755 for ; Thu, 15 May 2025 14:48:38 +0200 (CEST) Received: from mails.dpdk.org (localhost [127.0.0.1]) by mails.dpdk.org (Postfix) with ESMTP id 8B49040E3E; Thu, 15 May 2025 14:48:38 +0200 (CEST) Received: from mail-oi1-f227.google.com (mail-oi1-f227.google.com [209.85.167.227]) by mails.dpdk.org (Postfix) with ESMTP id DE061402DC for ; Thu, 15 May 2025 14:48:36 +0200 (CEST) Received: by mail-oi1-f227.google.com with SMTP id 5614622812f47-4033c89f2aaso788176b6e.0 for ; Thu, 15 May 2025 05:48:36 -0700 (PDT) DKIM-Signature: v=1; a=rsa-sha256; c=relaxed/relaxed; d=iol.unh.edu; s=unh-iol; t=1747313316; x=1747918116; darn=dpdk.org; h=references:in-reply-to:cc:to:from:subject:message-id:date:from:to :cc:subject:date:message-id:reply-to; bh=JSSj10jZLJEqseMvwwHGC+HzcNasE2iHsN/nVP7NtXY=; b=gbOnPfYTplGRH0Lx12okw2j7rinMIdc6Ua5hvM4+O+IH6VxxOGNuq8ZB0OQQ5LGfb5 UBciKANo1rksvo1CdX3IFqUkY8uivt5HfH3sGOeaJU2gFUoM+oDLAzJWwIy5OQzVBj1B k9Wkhz3oAI7dcd20SKPQeficsEUFAFp2BKR3g= X-Google-DKIM-Signature: v=1; a=rsa-sha256; c=relaxed/relaxed; d=1e100.net; s=20230601; t=1747313316; x=1747918116; h=references:in-reply-to:cc:to:from:subject:message-id:date :x-gm-message-state:from:to:cc:subject:date:message-id:reply-to; bh=JSSj10jZLJEqseMvwwHGC+HzcNasE2iHsN/nVP7NtXY=; b=pcZGh3AQxxakbtUnijz9wz9q38MAR9lWUuTeSEspkhwgpmhqNEZ5j0JcZb3DJvaa5o 8n7Z9ow/BQ/8EqjBFWUVdzix7mMZLtcxL2Tgahx09nLukiZZ4LG1HgiVBwjRqi13awiS lVV30s9Z9NAdygovs2OTtJuW5KYhj7bFJ1GdjHFMlbYEVx92DhQHGjlTNg2Seeihr8Oz Hb6hvu4L8YAzFGU0kwFwjiXA7Xe4B7QwO1wOw5IiKpu3zJakKGnPeNcbl+PuNqNtRoZN 01S5RRjAEVRfnUoU3BuRVtKu5Mv9wjjkXEmy7m+0J5NvMbKmVYKQQGLukO35pl1MPa9W BsfQ== X-Gm-Message-State: AOJu0Yysz9wCph3/1gQEkhtkj4rcnozzhq15usPUBDBfHZLOLvz7UIGN SSc5UQqVzPLj9mQQwb25f5FwKKnhGJOfbHJgqJ3JO2BGm2IH8gjLms+vs2dtuxmlt6O3eLC7D63 ZiMvDg3LK/aWtc3jsipFobz9mFQB68gvQa3dbR/2V X-Gm-Gg: ASbGncuw2y6xmCamXP8m++k7UU4iAP9lckpisYk4viq6xWlepo+wkH6XLMHkykLfS30 21OQ70sY75zL9mYJeMAn9/hLI5N+rzG0TbGTj8MvmB/9ig8aTln1sP4i/9vFDbvmM30F5qxvdwc 4hbZSu1SeEzHNt+vdhn6dM8hm6VdPYxezAe7sELocMwiiJ6QnTQJCrjnNgdnNpDGejO64Fz8Wvt N8aj2gN4l9Wc+zogun3iRlNRv3q+nuHwbHYtNWeym2Mn75Q17pk/S1UPzd315mpYEBxQpsI2Yv+ kE0XsfWMPzsBYR1R9I92H4DDXsQ58tqSta4zz48EfO4A/SNYWgQCo+oLktM= X-Google-Smtp-Source: AGHT+IEdkQ8zTOUWb6N4jeb7rJwVsQW4bk82rJKrbv2gjxj5rf02PIBM9WF1N67OGvTxVyVyOCDFVh0uGlxi X-Received: by 2002:a05:6870:8908:b0:2c2:3eb4:e53 with SMTP id 586e51a60fabf-2e3488643b6mr4058452fac.37.1747313315946; Thu, 15 May 2025 05:48:35 -0700 (PDT) Received: from postal.iol.unh.edu (postal.iol.unh.edu. [132.177.123.84]) by smtp-relay.gmail.com with ESMTPS id 586e51a60fabf-2dba063c8efsm646564fac.4.2025.05.15.05.48.35 (version=TLS1_2 cipher=ECDHE-ECDSA-AES128-GCM-SHA256 bits=128/128); Thu, 15 May 2025 05:48:35 -0700 (PDT) X-Relaying-Domain: iol.unh.edu Date: Thu, 15 May 2025 05:48:35 -0700 (PDT) Message-ID: <6825e2a3.050a0220.3322ec.237fSMTPIN_ADDED_MISSING@mx.google.com> Received: from [172.21.0.5] (unknown [172.18.0.240]) by postal.iol.unh.edu (Postfix) with ESMTP id 68D396052471; Thu, 15 May 2025 08:48:35 -0400 (EDT) Subject: |SUCCESS| pw153448 [PATCH] vhost/crypto: fix uninitialized variable From: dpdklab@iol.unh.edu To: Test Report Cc: dpdk-test-reports@iol.unh.edu In-Reply-To: <20250515081004.1742-1-gmuthukrishn@marvell.com> References: <20250515081004.1742-1-gmuthukrishn@marvell.com> Content-Type: text/plain X-BeenThere: test-report@dpdk.org X-Mailman-Version: 2.1.29 Precedence: list List-Id: automatic DPDK test reports List-Unsubscribe: , List-Archive: List-Post: List-Help: List-Subscribe: , Errors-To: test-report-bounces@dpdk.org Test-Label: iol-sample-apps-testing Test-Status: SUCCESS http://dpdk.org/patch/153448 _Testing PASS_ Submitter: Gowrishankar Muthukrishnan Date: Thursday, May 15 2025 08:10:01 DPDK git baseline: Repo:dpdk Branch: master CommitID:42417cbc1615f56fce1927b655bfe0d2f72c18aa 153448 --> testing pass Upstream job id: ACVP-FIPS-testing#9815 Test environment and result as below: +--------------------+----------------------+----------------------+ | Environment | compressdev_zlib_pmd | dpdk_fips_validation | +====================+======================+======================+ | Ubuntu 22.04 (ARM) | PASS | SKIPPED | +--------------------+----------------------+----------------------+ | Ubuntu 22.04 | PASS | SKIPPED | +--------------------+----------------------+----------------------+ | Ubuntu 20.04 | SKIPPED | PASS | +--------------------+----------------------+----------------------+ Ubuntu 22.04 (ARM) Kernel: 5.15.0-97-generic Compiler: gcc gcc (Ubuntu 11.4.0-1ubuntu1~22.04) 11.4.0 Ubuntu 22.04 Kernel: 5.15.0-100-generic Compiler: gcc gcc (Ubuntu 11.4.0-1ubuntu1~22.04) 11.4.0 Ubuntu 20.04 Kernel: Depends on container host Compiler: gcc (Ubuntu 9.4.0-1ubuntu1~20.04.2) 9.4.0 To view detailed results, visit: https://lab.dpdk.org/results/dashboard/patchsets/33179/ UNH-IOL DPDK Community Lab To manage your email subscriptions, visit: https://lab.dpdk.org/results/dashboard/preferences/subscriptions/