From mboxrd@z Thu Jan 1 00:00:00 1970 Return-Path: Received: from mails.dpdk.org (mails.dpdk.org [217.70.189.124]) by inbox.dpdk.org (Postfix) with ESMTP id 0A29D46755 for ; Thu, 15 May 2025 15:30:12 +0200 (CEST) Received: from mails.dpdk.org (localhost [127.0.0.1]) by mails.dpdk.org (Postfix) with ESMTP id D85D640E3E; Thu, 15 May 2025 15:30:11 +0200 (CEST) Received: from mail-oi1-f226.google.com (mail-oi1-f226.google.com [209.85.167.226]) by mails.dpdk.org (Postfix) with ESMTP id D4710402DC for ; Thu, 15 May 2025 15:30:10 +0200 (CEST) Received: by mail-oi1-f226.google.com with SMTP id 5614622812f47-401f6513cb2so1262308b6e.0 for ; Thu, 15 May 2025 06:30:10 -0700 (PDT) DKIM-Signature: v=1; a=rsa-sha256; c=relaxed/relaxed; d=iol.unh.edu; s=unh-iol; t=1747315810; x=1747920610; darn=dpdk.org; h=references:in-reply-to:cc:to:from:subject:message-id:date:from:to :cc:subject:date:message-id:reply-to; bh=GuUCIiYe1nPiVcpYFNJPSxH/I0+0XzPu/rwyk62QWRs=; b=iz7NTzyt7DGTZ8y6p7eogpxp0v5+Nxim8CbElPxnp/J92H86r6HXtXGinu2ZMYHROM 5mkiJ8N3k4nwQD/9xaVobmR+5fjxpaCS7+Tv6NI2JtPWcFf70T+IT+iKqcuVYS66CPHU ZffIRawhW9qoktKJ7/YTe9OZ0KxncYSvSLQMM= X-Google-DKIM-Signature: v=1; a=rsa-sha256; c=relaxed/relaxed; d=1e100.net; s=20230601; t=1747315810; x=1747920610; h=references:in-reply-to:cc:to:from:subject:message-id:date :x-gm-message-state:from:to:cc:subject:date:message-id:reply-to; bh=GuUCIiYe1nPiVcpYFNJPSxH/I0+0XzPu/rwyk62QWRs=; b=HjQMbC6VEnzLheG9eNkHccCfScWyt/7k+jsKp0mnUUiHDHM3enmA19XDLFEprR81YH lWGGcunm6bqe2ulveV8UZzC+GMSWeJS5BLa9uK7O88nOU0Tt58l8nN21gwc2Q6sosr1b HT86HT9BiMGMl3ZcSSQOSjfKqSMfVaXM1isEUBhRCeH2Sy3XYeeEDHZAs0ziwBtlbcjJ ndlD+AFCztz9QZtfB8qLDBML31QRH1WAbTkie/5ql+5mXTDaCryNvuU50I53Ytq6WSvs LtJ83QXlkhlbbJUdhzZOZ32aW5BjzKWDdpqbJX/D3eVFMoarJu9uIuJUrpnHT4cD/u9w Lgcw== X-Gm-Message-State: AOJu0YxpZs7VdWzSEBDEZ2xZqawi1m/qIahjZMLQbikVYCyH7oDBnR26 Hct/tINV0HQ0JZ/rpnNvwzShlD+7z84yDbc9RfGigJkjE6zQyDX3dQMINcvunFrb+xRFTSWQLsw JdV/ASJ/TsikPPZwmBItWa9zNo1/bkWfEOKJrssO/lb9CaOQbIuxeDIoM X-Gm-Gg: ASbGncsd4mygE34FVNWYVXTdouABpx+B7kbaobNrHQ/lU9y/eXzxgkO+Q1a8tnf02Vx wHmSIWI+skfKzmkEOY1/XEmGfM6ERslxxCi6X0lECy0cBl/2AO0Zj/U4E7WCsuuo1ofO6+0Jb6X Kb7IPNFDk1C+8b7d++jcz24asFVcRvwGCfMOJB1368PAcV3alyMOgCoE1zSMiX5rDzXXCvtlYrZ EQnI/YK2vXS3E7Yr+eqhx2dIHSpohVDxgAwS+OCk5PyAD6M2uvXb1OlUurWTJ7Bg24A/hY+7799 KLncWr/Nj6c188X4D2v4KzuIxmeU7/WxsPTh X-Google-Smtp-Source: AGHT+IFUoXdx7glqU20yJuEq3RSGm2ysNqp18aovrnOLO06iPoKgEhcURLO1/5HIpPut80DT1oXP/tRKJlT2 X-Received: by 2002:a05:6871:4108:b0:2d5:307f:cc5f with SMTP id 586e51a60fabf-2e39bda4c28mr1750540fac.12.1747315809794; Thu, 15 May 2025 06:30:09 -0700 (PDT) Received: from postal.iol.unh.edu (postal.iol.unh.edu. [2606:4100:3880:1234::84]) by smtp-relay.gmail.com with ESMTPS id 586e51a60fabf-2dba0ae9010sm645757fac.30.2025.05.15.06.30.09 (version=TLS1_2 cipher=ECDHE-ECDSA-AES128-GCM-SHA256 bits=128/128); Thu, 15 May 2025 06:30:09 -0700 (PDT) X-Relaying-Domain: iol.unh.edu Date: Thu, 15 May 2025 06:30:09 -0700 (PDT) Message-ID: <6825ec61.050a0220.3c5826.1ac6SMTPIN_ADDED_MISSING@mx.google.com> Received: from [172.21.0.5] (unknown [172.18.0.240]) by postal.iol.unh.edu (Postfix) with ESMTP id 3FB676052471; Thu, 15 May 2025 09:30:09 -0400 (EDT) Subject: |SUCCESS| pw153448 [PATCH] vhost/crypto: fix uninitialized variable From: dpdklab@iol.unh.edu To: Test Report Cc: dpdk-test-reports@iol.unh.edu In-Reply-To: <20250515081004.1742-1-gmuthukrishn@marvell.com> References: <20250515081004.1742-1-gmuthukrishn@marvell.com> Content-Type: text/plain X-BeenThere: test-report@dpdk.org X-Mailman-Version: 2.1.29 Precedence: list List-Id: automatic DPDK test reports List-Unsubscribe: , List-Archive: List-Post: List-Help: List-Subscribe: , Errors-To: test-report-bounces@dpdk.org Test-Label: iol-unit-arm64-testing Test-Status: SUCCESS http://dpdk.org/patch/153448 _Testing PASS_ Submitter: Gowrishankar Muthukrishnan Date: Thursday, May 15 2025 08:10:01 DPDK git baseline: Repo:dpdk Branch: master CommitID:42417cbc1615f56fce1927b655bfe0d2f72c18aa 153448 --> testing pass Upstream job id: Generic-Unit-Test-DPDK#337932 Test environment and result as below: +-----------------------------+----------------+--------------+---------------------------+------------------------------+ | Environment | dpdk_unit_test | lpm_autotest | cryptodev_sw_zuc_autotest | cryptodev_sw_snow3g_autotest | +=============================+================+==============+===========================+==============================+ | CentOS Stream 9 (ARM) | PASS | SKIPPED | SKIPPED | SKIPPED | +-----------------------------+----------------+--------------+---------------------------+------------------------------+ | Debian 12 (arm) | PASS | SKIPPED | PASS | PASS | +-----------------------------+----------------+--------------+---------------------------+------------------------------+ | Fedora 40 (ARM Clang) | PASS | SKIPPED | SKIPPED | SKIPPED | +-----------------------------+----------------+--------------+---------------------------+------------------------------+ | CentOS Stream 10 (ARM) | PASS | SKIPPED | SKIPPED | SKIPPED | +-----------------------------+----------------+--------------+---------------------------+------------------------------+ | Fedora 41 (ARM) | PASS | SKIPPED | SKIPPED | SKIPPED | +-----------------------------+----------------+--------------+---------------------------+------------------------------+ | Ubuntu 22.04 (ARM) | PASS | SKIPPED | SKIPPED | SKIPPED | +-----------------------------+----------------+--------------+---------------------------+------------------------------+ | Fedora 40 (ARM) | PASS | SKIPPED | SKIPPED | SKIPPED | +-----------------------------+----------------+--------------+---------------------------+------------------------------+ | Fedora 41 (ARM Clang) | PASS | SKIPPED | SKIPPED | SKIPPED | +-----------------------------+----------------+--------------+---------------------------+------------------------------+ | RHEL9 (ARM) | PASS | SKIPPED | SKIPPED | SKIPPED | +-----------------------------+----------------+--------------+---------------------------+------------------------------+ | Ubuntu 20.04 (ARM) | PASS | SKIPPED | SKIPPED | SKIPPED | +-----------------------------+----------------+--------------+---------------------------+------------------------------+ | Ubuntu 24.04 (ARM) | PASS | SKIPPED | SKIPPED | SKIPPED | +-----------------------------+----------------+--------------+---------------------------+------------------------------+ | 32-bit Ubuntu 22.04.4 (ARM) | PASS | SKIPPED | SKIPPED | SKIPPED | +-----------------------------+----------------+--------------+---------------------------+------------------------------+ | Ubuntu 20.04 ARM SVE | SKIPPED | PASS | SKIPPED | SKIPPED | +-----------------------------+----------------+--------------+---------------------------+------------------------------+ CentOS Stream 9 (ARM) Kernel: Depends on container host Compiler: gcc 11.5.0 20240719 (Red Hat 11.5.0-2) Debian 12 (arm) Kernel: Depends on container host Compiler: gcc (Debian 12.2.0-14) 12.2.0 Fedora 40 (ARM Clang) Kernel: Depends on container host Compiler: clang 18.1.8 (Fedora 18.1.8-1.fc40) CentOS Stream 10 (ARM) Kernel: Depends on container host Compiler: gcc 14.2.1 20241104 (Red Hat 14.2.1-6) Fedora 41 (ARM) Kernel: Depends on container host Compiler: gcc 14.2.1 20240912 (Red Hat 14.2.1-3) Ubuntu 22.04 (ARM) Kernel: Depends on container host Compiler: gcc (Ubuntu 11.4.0-1ubuntu1~22.04) 11.4.0 Fedora 40 (ARM) Kernel: Depends on container host Compiler: gcc 14.2.1 20240912 (Red Hat 14.2.1-3) Fedora 41 (ARM Clang) Kernel: Depends on container host Compiler: clang 19.1.5 (Fedora 19.1.5-1.fc41) RHEL9 (ARM) Kernel: Depends on container host Compiler: gcc 11.5.0 20240719 (Red Hat 11.5.0-2) Ubuntu 20.04 (ARM) Kernel: Depends on container host Compiler: gcc (Ubuntu 9.4.0-1ubuntu1~20.04.2) 9.4.0 Ubuntu 24.04 (ARM) Kernel: Depends on container host Compiler: gcc (Ubuntu 13.3.0-6ubuntu2~24.04) 13.3.0 32-bit Ubuntu 22.04.4 (ARM) Kernel: 5.15.83+ aarch64 Compiler: gcc (Ubuntu 11.4.0-1ubuntu1~22.04) 11.4.0 Ubuntu 20.04 ARM SVE Kernel: Depends on container host Compiler: gcc (Ubuntu 10.5.0-1ubuntu1~20.04) 10.5.0 To view detailed results, visit: https://lab.dpdk.org/results/dashboard/patchsets/33179/ UNH-IOL DPDK Community Lab To manage your email subscriptions, visit: https://lab.dpdk.org/results/dashboard/preferences/subscriptions/