From mboxrd@z Thu Jan 1 00:00:00 1970 Return-Path: Received: from mails.dpdk.org (mails.dpdk.org [217.70.189.124]) by inbox.dpdk.org (Postfix) with ESMTP id 5508746755 for ; Thu, 15 May 2025 16:01:22 +0200 (CEST) Received: from mails.dpdk.org (localhost [127.0.0.1]) by mails.dpdk.org (Postfix) with ESMTP id 40E8040E3E; Thu, 15 May 2025 16:01:22 +0200 (CEST) Received: from mail-oo1-f97.google.com (mail-oo1-f97.google.com [209.85.161.97]) by mails.dpdk.org (Postfix) with ESMTP id 5F370402DC for ; Thu, 15 May 2025 16:01:21 +0200 (CEST) Received: by mail-oo1-f97.google.com with SMTP id 006d021491bc7-60658e1fedfso541450eaf.2 for ; Thu, 15 May 2025 07:01:21 -0700 (PDT) DKIM-Signature: v=1; a=rsa-sha256; c=relaxed/relaxed; d=iol.unh.edu; s=unh-iol; t=1747317680; x=1747922480; darn=dpdk.org; h=references:in-reply-to:cc:to:from:subject:message-id:date:from:to :cc:subject:date:message-id:reply-to; bh=Bqc8vFI7NYklAQdxjceeDUXKCq4FoeEPACb8O8wsjG8=; b=OpIuEneooeIz1p+PYIlyqb/aNzE/93eH/HZHLhKCiu02n5LKCaJ0HUKnqOopjDp2S/ kIYzQvtEop63gQGhj5eY8QmVrWd3bWbSnKGw08uMvMWvPbTVyl3Um9jjzEHQIYFnb8/O vzgLae6esoFDc2vaMTRWoJyvgzoNWbBUInDu0= X-Google-DKIM-Signature: v=1; a=rsa-sha256; c=relaxed/relaxed; d=1e100.net; s=20230601; t=1747317680; x=1747922480; h=references:in-reply-to:cc:to:from:subject:message-id:date :x-gm-message-state:from:to:cc:subject:date:message-id:reply-to; bh=Bqc8vFI7NYklAQdxjceeDUXKCq4FoeEPACb8O8wsjG8=; b=W12xIaSKM8NmwmMbt1M52JMAOewASwdxokMzq5zC48EP2ArYuefGOmdGbHIwUITkAj ASeUltS4Z4saXNm0S0MzuKpqwGAEdID5HvjYbu+eUh4NjAc7c3LeXog4gSohOH7/WVbd RcN8BiuVoi+Pm/HB9j1NJSQRYuiB72Xg/VuFvgxLzWZ6/yJXH1MMk1G0KcOlRy/qCbnT bGQ7Ao2sogf3K2CtDbFjSjDbYrFVJO+6qtPMA6u2qUP8bQ2ZH5rp/WQIW/HG70XRjqI6 +sXjP5dxeXDBOWc6lF0Usw0Wo07p0V7HvV1hWyVtILrRLSsSAOTkcHE6sEUFTismpSOg 9jkQ== X-Gm-Message-State: AOJu0YzpmfJZJ/KRsiXenEI0GPQ4H+65Avgq6Uhx4R66yp5EvAJfKOe0 Ea/XBP9SADp+w0xscjQV9hRRzZ9NCJEnS/K6DzFhw33XChrSyswJXKXniv+vwnQS59J1RDr7U6y rCXpCkqsxPDKP1n9zjeQAU3DlpESYqKBpeLF3awNQ X-Gm-Gg: ASbGncvmq/ZmPW4nWb29SVZ0eN1AUadilxtHDEwucE9kPDC6Idfv7exPDks275a6UQp ooZmEqsf9MA3mJl6n1hMJLDZW152N4vAjwvEF5kAjSCOOUOh6xWAOFgOFmV20tg6GZ1+20mvtGS vKqZ2zWrCLSg8EveLeZAJ4fTPkaQBiudKZZFs5uzLyU5SUnjB2IHnH65HHzMCtcicNGNvzVtX+i AGgJhUUedTEoixLxsUkLJX+zd7Yt12RfxqJonJVM15P1NfcP9X1wgyd6/mwjHdL87LoXfY39NkB j7gAiTK9yovn6C1T/IpX4spA9f9o4Ou5431KjRfFqiCZ6m0N439gSKCbvgU= X-Google-Smtp-Source: AGHT+IEcV6C67ioPQGouly7MO9IZQMZJiiK60cAmxCUn0ukx1oBklxBqLZMuDFMwvpkpFA/Vz8UGjjY8aed7 X-Received: by 2002:a05:6830:d08:b0:72b:7e3c:727c with SMTP id 46e09a7af769-734e1543570mr4301267a34.23.1747317664645; Thu, 15 May 2025 07:01:04 -0700 (PDT) Received: from postal.iol.unh.edu (postal.iol.unh.edu. [132.177.123.84]) by smtp-relay.gmail.com with ESMTPS id 3f1490d57ef6-e78fd4a575csm856206276.12.2025.05.15.07.01.04 (version=TLS1_2 cipher=ECDHE-ECDSA-AES128-GCM-SHA256 bits=128/128); Thu, 15 May 2025 07:01:04 -0700 (PDT) X-Relaying-Domain: iol.unh.edu Date: Thu, 15 May 2025 07:01:04 -0700 (PDT) Message-ID: <6825f3a0.250a0220.fd34c.f4caSMTPIN_ADDED_MISSING@mx.google.com> Received: from [172.21.0.7] (unknown [172.18.0.240]) by postal.iol.unh.edu (Postfix) with ESMTP id 2538F6052471; Thu, 15 May 2025 10:01:04 -0400 (EDT) Subject: |WARNING| pw153448 [PATCH] vhost/crypto: fix uninitialized variable From: dpdklab@iol.unh.edu To: Test Report Cc: dpdk-test-reports@iol.unh.edu In-Reply-To: <20250515081004.1742-1-gmuthukrishn@marvell.com> References: <20250515081004.1742-1-gmuthukrishn@marvell.com> Content-Type: text/plain X-BeenThere: test-report@dpdk.org X-Mailman-Version: 2.1.29 Precedence: list List-Id: automatic DPDK test reports List-Unsubscribe: , List-Archive: List-Post: List-Help: List-Subscribe: , Errors-To: test-report-bounces@dpdk.org Test-Label: iol-compile-amd64-testing Test-Status: WARNING http://dpdk.org/patch/153448 _Testing issues_ Submitter: Gowrishankar Muthukrishnan Date: Thursday, May 15 2025 08:10:01 DPDK git baseline: Repo:dpdk Branch: master CommitID:42417cbc1615f56fce1927b655bfe0d2f72c18aa 153448 --> testing issues Upstream job id: Generic-DPDK-Compile-Meson#388109 Test environment and result as below: +-----------------------------------+--------------------+-------------------+------------------+-------------------+-------------------------+----------------------+ | Environment | dpdk_meson_compile | dpdk_compile_spdk | dpdk_compile_ovs | dpdk_msvc_compile | dpdk_llvm_clang_compile | dpdk_mingw64_compile | +===================================+====================+===================+==================+===================+=========================+======================+ | CentOS Stream 9 | PASS | PASS | SKIPPED | SKIPPED | SKIPPED | SKIPPED | +-----------------------------------+--------------------+-------------------+------------------+-------------------+-------------------------+----------------------+ | Debian 12 | PASS | PASS | SKIPPED | SKIPPED | SKIPPED | SKIPPED | +-----------------------------------+--------------------+-------------------+------------------+-------------------+-------------------------+----------------------+ | CentOS Stream 10 | PASS | SKIPPED | SKIPPED | SKIPPED | SKIPPED | SKIPPED | +-----------------------------------+--------------------+-------------------+------------------+-------------------+-------------------------+----------------------+ | Fedora 41 | PASS | PASS | PASS | SKIPPED | SKIPPED | SKIPPED | +-----------------------------------+--------------------+-------------------+------------------+-------------------+-------------------------+----------------------+ | Fedora 41 (Clang) | PASS | WARN | PASS | SKIPPED | SKIPPED | SKIPPED | +-----------------------------------+--------------------+-------------------+------------------+-------------------+-------------------------+----------------------+ | Fedora 40 (Clang) | PASS | WARN | SKIPPED | SKIPPED | SKIPPED | SKIPPED | +-----------------------------------+--------------------+-------------------+------------------+-------------------+-------------------------+----------------------+ | Fedora 40 | PASS | PASS | SKIPPED | SKIPPED | SKIPPED | SKIPPED | +-----------------------------------+--------------------+-------------------+------------------+-------------------+-------------------------+----------------------+ | openSUSE Leap 15 | PASS | SKIPPED | SKIPPED | SKIPPED | SKIPPED | SKIPPED | +-----------------------------------+--------------------+-------------------+------------------+-------------------+-------------------------+----------------------+ | RHEL8 | PASS | SKIPPED | SKIPPED | SKIPPED | SKIPPED | SKIPPED | +-----------------------------------+--------------------+-------------------+------------------+-------------------+-------------------------+----------------------+ | RHEL9 | PASS | SKIPPED | SKIPPED | SKIPPED | SKIPPED | SKIPPED | +-----------------------------------+--------------------+-------------------+------------------+-------------------+-------------------------+----------------------+ | Ubuntu 20.04 | PASS | SKIPPED | SKIPPED | SKIPPED | SKIPPED | SKIPPED | +-----------------------------------+--------------------+-------------------+------------------+-------------------+-------------------------+----------------------+ | Ubuntu 22.04 | PASS | PASS | SKIPPED | SKIPPED | SKIPPED | SKIPPED | +-----------------------------------+--------------------+-------------------+------------------+-------------------+-------------------------+----------------------+ | Ubuntu 24.04 | PASS | PASS | PASS | SKIPPED | SKIPPED | SKIPPED | +-----------------------------------+--------------------+-------------------+------------------+-------------------+-------------------------+----------------------+ | Alpine | PASS | SKIPPED | SKIPPED | SKIPPED | SKIPPED | SKIPPED | +-----------------------------------+--------------------+-------------------+------------------+-------------------+-------------------------+----------------------+ | Ubuntu 24.04 32 Bit Cross Compile | PASS | SKIPPED | SKIPPED | SKIPPED | SKIPPED | SKIPPED | +-----------------------------------+--------------------+-------------------+------------------+-------------------+-------------------------+----------------------+ | FreeBSD 13.5 | PASS | SKIPPED | SKIPPED | SKIPPED | SKIPPED | SKIPPED | +-----------------------------------+--------------------+-------------------+------------------+-------------------+-------------------------+----------------------+ | FreeBSD 14.2 | PASS | SKIPPED | SKIPPED | SKIPPED | SKIPPED | SKIPPED | +-----------------------------------+--------------------+-------------------+------------------+-------------------+-------------------------+----------------------+ | Windows Server 2022 | SKIPPED | SKIPPED | SKIPPED | PASS | PASS | PASS | +-----------------------------------+--------------------+-------------------+------------------+-------------------+-------------------------+----------------------+ ==== 20 line log output for Fedora 40 (Clang) (dpdk_compile_spdk): ==== --- Failed to get log output --- ==== End log output ==== CentOS Stream 9 Kernel: Depends on container host Compiler: gcc 11.5.0 20240719 (Red Hat 11.5.0-2) Debian 12 Kernel: Depends on container host Compiler: gcc (Debian 12.2.0-14) 12.2.0 CentOS Stream 10 Kernel: Depends on container host Compiler: gcc 14.2.1 20241104 (Red Hat 14.2.1-6) Fedora 41 Kernel: Depends on container host Compiler: gcc 14.2.1 20240912 (Red Hat 14.2.1-3) Fedora 41 (Clang) Kernel: Depends on container host Compiler: clang 19.1.5 (Fedora 19.1.5-1.fc41) Fedora 40 (Clang) Kernel: Depends on container host Compiler: clang 18.1.8 (Fedora 18.1.8-1.fc40) Fedora 40 Kernel: Depends on container host Compiler: gcc 14.2.1 20240912 (Red Hat 14.2.1-3) openSUSE Leap 15 Kernel: Depends on container host Compiler: gcc (SUSE Linux) 7.5.0 RHEL8 Kernel: Depends on container host Compiler: gcc 8.5.0 20210514 (Red Hat 8.5.0-22) RHEL9 Kernel: Depends on container host Compiler: gcc 11.5.0 20240719 (Red Hat 11.5.0-2) Ubuntu 20.04 Kernel: Depends on container host Compiler: gcc (Ubuntu 9.4.0-1ubuntu1~20.04.2) 9.4.0 Ubuntu 22.04 Kernel: Depends on container host Compiler: gcc (Ubuntu 11.4.0-1ubuntu1~22.04) 11.4.0 Ubuntu 24.04 Kernel: Depends on container host Compiler: gcc (Ubuntu 13.3.0-6ubuntu2~24.04) 13.3.0 Alpine Kernel: Depends on container host Compiler: gcc (Alpine 14.2.0) 14.2.0 Ubuntu 24.04 32 Bit Cross Compile Kernel: Depends on container host Compiler: gcc (Ubuntu 13.3.0-6ubuntu2~24.04) 13.3.0 FreeBSD 13.5 Kernel: 13.5-RELEASE Compiler: clang 19.1.7 FreeBSD 14.2 Kernel: 14.2-RELEASE Compiler: clang 18.1.6 Windows Server 2022 Kernel: 10.0.20348.2031 Compiler: clang 15.0.7, gcc 14.1.0 (MinGW), and MSVC VS 19.39.33521 To view detailed results, visit: https://lab.dpdk.org/results/dashboard/patchsets/33179/ UNH-IOL DPDK Community Lab To manage your email subscriptions, visit: https://lab.dpdk.org/results/dashboard/preferences/subscriptions/