From mboxrd@z Thu Jan 1 00:00:00 1970 Return-Path: Received: from mails.dpdk.org (mails.dpdk.org [217.70.189.124]) by inbox.dpdk.org (Postfix) with ESMTP id 697D046755 for ; Thu, 15 May 2025 16:11:20 +0200 (CEST) Received: from mails.dpdk.org (localhost [127.0.0.1]) by mails.dpdk.org (Postfix) with ESMTP id 4050E40E3E; Thu, 15 May 2025 16:11:20 +0200 (CEST) Received: from mail-ot1-f97.google.com (mail-ot1-f97.google.com [209.85.210.97]) by mails.dpdk.org (Postfix) with ESMTP id 08ADD402DC for ; Thu, 15 May 2025 16:11:19 +0200 (CEST) Received: by mail-ot1-f97.google.com with SMTP id 46e09a7af769-72c13802133so403514a34.3 for ; Thu, 15 May 2025 07:11:18 -0700 (PDT) DKIM-Signature: v=1; a=rsa-sha256; c=relaxed/relaxed; d=iol.unh.edu; s=unh-iol; t=1747318278; x=1747923078; darn=dpdk.org; h=references:in-reply-to:cc:to:from:subject:message-id:date:from:to :cc:subject:date:message-id:reply-to; bh=7nRL8bdVWo957OTh82UCNCxkM6qRBvIwcWh4Yg1PWkY=; b=JhF8OSdFkl/ckoVSTM+ORTFY9lEnAjjwzqXGfjD3LoVGg5Foh42XCJbZgMrLhCwSDa T4jQhzM9Q0wPp2K/g+ZlEKZZOxmmA28mnEwCpV0N75nRDVxpj/d5pmMo8VXzjDd+NVre Jha60LfaDx9jt4GTmcSbROgzOARwZ4cXQ2tIA= X-Google-DKIM-Signature: v=1; a=rsa-sha256; c=relaxed/relaxed; d=1e100.net; s=20230601; t=1747318278; x=1747923078; h=references:in-reply-to:cc:to:from:subject:message-id:date :x-gm-message-state:from:to:cc:subject:date:message-id:reply-to; bh=7nRL8bdVWo957OTh82UCNCxkM6qRBvIwcWh4Yg1PWkY=; b=cXpIdG1MdpEipvlJzj4uq+eDrGCM4MEwSG4MBNGvXSCh0XShnMMGPOh7k2Y3JT52r2 FkVRSItSAk86hfTYzFyBnNEAYMwBnFArxP6O/G1Ow0ooDu2IYxVNL8lEldvHyfhOF2+h 0pAG+vSGHQj8OefY1ZKuEj3lpoedLIUamNy11bkV1efnrFX9Q5BA7C7TnzkFQxuGGw8E wouoEF7CM2kv68EwCk65gWFyEWUHdLjLb2NRR6sUK4GGxKRCUtm28zhvgp/3MsRHSohN KgWXtk94QOsrXtgfq51u3IwblngZlQMSB193AIxlNksNTPwqro63vHu2Uevw6Qqqkdhj MnEg== X-Gm-Message-State: AOJu0YyEKhrGXcTTY8siz3LwqYmESTR9t3x1AX7BZiVLyYavdx8oLmTz CyRU1w20GLEKKKAvPJOX73FJXoydaCylg0QdQsZgZtJ1fgrhS+yCc88IKjLh34Py9IvOSLkAaKn lkASn3KLn1CKJh+gkSCzAX30SE0QO+vrqtcFFYP1O X-Gm-Gg: ASbGnctAaT/ZtwLmv1m/gwaAE2JWXlu6EBgrJnpE54NdYOqvOFlPiR5jphpA0/BDhe2 cXOhHRIfXtOIHDvpd6UN7MpzcQx5JFbNUeMhyudjm3DrZOT1PY/3NDfRX5X3XyQd/QFdPXVFYW7 bmqsHQYVShgEsvC3R2ao67zAbC/dNMWUZDHQ/KRBlNNfFRhv1fl52dqOQvxNzUp6QMMQF/W8rwC r2XVf59KtUHv3M65LfzcggWFyuDAgVCSnbUulTMiPMpOvaakMLj0OOW53x7DoMvMJ+94SujIv6A HycZpLm/oNm7LNQZI4CtXJ4juy2zvZE17LxZZ3FaiMFWAjjCTTWtSQNuOR0= X-Google-Smtp-Source: AGHT+IHbrX3T+NFP+T6iu5ggHyJ5P8GwhMWqcuhAfo3d7f49YzQQbQtsHUT5J8+Lgz7CzEtmEkZ4U27/R9Nf X-Received: by 2002:a05:6830:448e:b0:731:e808:be5f with SMTP id 46e09a7af769-734eed2e416mr1549524a34.28.1747318278040; Thu, 15 May 2025 07:11:18 -0700 (PDT) Received: from postal.iol.unh.edu (postal.iol.unh.edu. [132.177.123.84]) by smtp-relay.gmail.com with ESMTPS id 8926c6da1cb9f-4fa2262ef91sm282134173.71.2025.05.15.07.11.17 (version=TLS1_2 cipher=ECDHE-ECDSA-AES128-GCM-SHA256 bits=128/128); Thu, 15 May 2025 07:11:18 -0700 (PDT) X-Relaying-Domain: iol.unh.edu Date: Thu, 15 May 2025 07:11:18 -0700 (PDT) Message-ID: <6825f606.050a0220.ca609.ef82SMTPIN_ADDED_MISSING@mx.google.com> Received: from [172.21.0.5] (unknown [172.18.0.240]) by postal.iol.unh.edu (Postfix) with ESMTP id 75AB06052471; Thu, 15 May 2025 10:11:17 -0400 (EDT) Subject: |SUCCESS| pw153447 [PATCH] test/crypto: fix return value in RSA test From: dpdklab@iol.unh.edu To: Test Report Cc: dpdk-test-reports@iol.unh.edu In-Reply-To: <20250515080853.1708-1-gmuthukrishn@marvell.com> References: <20250515080853.1708-1-gmuthukrishn@marvell.com> Content-Type: text/plain X-BeenThere: test-report@dpdk.org X-Mailman-Version: 2.1.29 Precedence: list List-Id: automatic DPDK test reports List-Unsubscribe: , List-Archive: List-Post: List-Help: List-Subscribe: , Errors-To: test-report-bounces@dpdk.org Test-Label: iol-unit-amd64-testing Test-Status: SUCCESS http://dpdk.org/patch/153447 _Testing PASS_ Submitter: Gowrishankar Muthukrishnan Date: Thursday, May 15 2025 08:08:50 DPDK git baseline: Repo:dpdk Branch: master CommitID:ca1690ebd224f148268285b15b97441ccdbdd07e 153447 --> testing pass Upstream job id: Generic-Unit-Test-DPDK#337946 Test environment and result as below: +-------------------+----------------+ | Environment | dpdk_unit_test | +===================+================+ | CentOS Stream 9 | PASS | +-------------------+----------------+ | CentOS Stream 10 | PASS | +-------------------+----------------+ | Debian 12 | PASS | +-------------------+----------------+ | Fedora 40 | PASS | +-------------------+----------------+ | Fedora 40 (Clang) | PASS | +-------------------+----------------+ | Fedora 41 | PASS | +-------------------+----------------+ | RHEL8 | PASS | +-------------------+----------------+ | Fedora 41 (Clang) | PASS | +-------------------+----------------+ | RHEL9 | PASS | +-------------------+----------------+ | Ubuntu 22.04 | PASS | +-------------------+----------------+ | Ubuntu 24.04 | PASS | +-------------------+----------------+ | Ubuntu 20.04 | PASS | +-------------------+----------------+ CentOS Stream 9 Kernel: Depends on container host Compiler: gcc 11.5.0 20240719 (Red Hat 11.5.0-2) CentOS Stream 10 Kernel: Depends on container host Compiler: gcc 14.2.1 20241104 (Red Hat 14.2.1-6) Debian 12 Kernel: Depends on container host Compiler: gcc (Debian 12.2.0-14) 12.2.0 Fedora 40 Kernel: Depends on container host Compiler: gcc 14.2.1 20240912 (Red Hat 14.2.1-3) Fedora 40 (Clang) Kernel: Depends on container host Compiler: clang 18.1.8 (Fedora 18.1.8-1.fc40) Fedora 41 Kernel: Depends on container host Compiler: gcc 14.2.1 20240912 (Red Hat 14.2.1-3) RHEL8 Kernel: Depends on container host Compiler: gcc 8.5.0 20210514 (Red Hat 8.5.0-22) Fedora 41 (Clang) Kernel: Depends on container host Compiler: clang 19.1.5 (Fedora 19.1.5-1.fc41) RHEL9 Kernel: Depends on container host Compiler: gcc 11.5.0 20240719 (Red Hat 11.5.0-2) Ubuntu 22.04 Kernel: Depends on container host Compiler: gcc (Ubuntu 11.4.0-1ubuntu1~22.04) 11.4.0 Ubuntu 24.04 Kernel: Depends on container host Compiler: gcc (Ubuntu 13.3.0-6ubuntu2~24.04) 13.3.0 Ubuntu 20.04 Kernel: Depends on container host Compiler: gcc (Ubuntu 9.4.0-1ubuntu1~20.04.2) 9.4.0 To view detailed results, visit: https://lab.dpdk.org/results/dashboard/patchsets/33178/ UNH-IOL DPDK Community Lab To manage your email subscriptions, visit: https://lab.dpdk.org/results/dashboard/preferences/subscriptions/