From mboxrd@z Thu Jan 1 00:00:00 1970 Return-Path: Received: from mails.dpdk.org (mails.dpdk.org [217.70.189.124]) by inbox.dpdk.org (Postfix) with ESMTP id 5FE0746755 for ; Thu, 15 May 2025 16:12:02 +0200 (CEST) Received: from mails.dpdk.org (localhost [127.0.0.1]) by mails.dpdk.org (Postfix) with ESMTP id 5B2D940E3E; Thu, 15 May 2025 16:12:02 +0200 (CEST) Received: from mail-pg1-f228.google.com (mail-pg1-f228.google.com [209.85.215.228]) by mails.dpdk.org (Postfix) with ESMTP id 04D40402DC for ; Thu, 15 May 2025 16:12:01 +0200 (CEST) Received: by mail-pg1-f228.google.com with SMTP id 41be03b00d2f7-7fd581c2bf4so750287a12.3 for ; Thu, 15 May 2025 07:12:00 -0700 (PDT) DKIM-Signature: v=1; a=rsa-sha256; c=relaxed/relaxed; d=iol.unh.edu; s=unh-iol; t=1747318320; x=1747923120; darn=dpdk.org; h=references:in-reply-to:cc:to:from:subject:message-id:date:from:to :cc:subject:date:message-id:reply-to; bh=PULH2C0cjUN6fhtrTfg9Fnca3MePw4YH9ENep/ADEzI=; b=VjvRCVTsfa1RZIu5uBL7VOef37TfYP5F5iAiF6+2W8POFMgwbUVTtlVMNEnXTKudYO WazH27GeVArhS0gnoBioSNmk5OsqUkN1m3xjK4KaoDs/yVEi0EKYGMrFpbdwL8kVAd9p sbIBMcT9eAavsbuiWTRV4N9cMJgaQ4ziiwoVY= X-Google-DKIM-Signature: v=1; a=rsa-sha256; c=relaxed/relaxed; d=1e100.net; s=20230601; t=1747318320; x=1747923120; h=references:in-reply-to:cc:to:from:subject:message-id:date :x-gm-message-state:from:to:cc:subject:date:message-id:reply-to; bh=PULH2C0cjUN6fhtrTfg9Fnca3MePw4YH9ENep/ADEzI=; b=elHoEiYuaGI20rNllt9y7Ed2/CEFCBhn6FucYFmasFaLgiTNopiagMMIK9AvQUZJyA SsCH8YvnLK1f0gee8M4CnXTCswJgW+PvP8KeeXwZIXM3FRkb47MItK7b3U7VnPqLvweg UBu1kqanFSg51JucIqYwbAX6NZCTFYpztzxJ5KZkT6KJG80cudTRrC0znCjgqAijEqDk ZzNPWe9iwEhndmvOaGOa8RAlkHLmzJiOBq4BokDFtsNDITvzGI8DEOs5IVocJmHh5gON K7CJCPwsatPHCUAO1+SDNWqO3TlTPMG/Vqq5utrCoINjilWLHT3TMFyuPMlhA5MUIy7P 1L2g== X-Gm-Message-State: AOJu0YwCLNSLiiL9wZNyHkkT8VQuVx6KcFE+XBxAGxPnYWm0UZ4lsLMd KINNOY9Dctt95xkTa4N2PrQNV4Xzon+/a+ga0+wMWYMVF0jVQLS0lcmvhBRZRQx5gaTFb2amio+ 8E9Z2A1ydxKQ0JDOfERnOF/L84uYltiRmoX0dygA3 X-Gm-Gg: ASbGnct/C+zZtWKNELLzMY7er/SokowBWkbn3KdFwL2O4fShDbhki2RK+PFHfpc3Ens uGRKZHxZVUlZI2laCN3mmwBWI0S3YfKFZI3i1t5Uotwd9BCV8z+YCrY6gtEFG9QOS43xwz26mFT ilEVclBf6YuiQ6kEP/I7bGMikvTsJFwN0fKCZ19NyahW14AlcxVlxVnMt4xFBgpW376bYZ79VTM nDbGuP/G7g7s4fzOUuT409X4V+P7F0X/vhZ82HqbPp1mGemYKl8GGugMBdl9xxpb6xLV8Zn4s/b gBhpNxqzb9V24+8D+d910q+gir/wWkJpV1TRRCePQ2yKxF/7f+NsX7x/h4w= X-Google-Smtp-Source: AGHT+IH+iizyyFliwlDGBdTjZicGIGz+SYuxhSJPNBtZI1xC/5vzdWY6oKaW/9B/oa2gAoRjjKitNxJrZsO0 X-Received: by 2002:a17:903:2442:b0:21f:bd66:cafa with SMTP id d9443c01a7336-231980ef24dmr94755405ad.17.1747318320066; Thu, 15 May 2025 07:12:00 -0700 (PDT) Received: from postal.iol.unh.edu (postal.iol.unh.edu. [132.177.123.84]) by smtp-relay.gmail.com with ESMTPS id d9443c01a7336-22fc6f0b8f3sm7967765ad.93.2025.05.15.07.11.59 (version=TLS1_2 cipher=ECDHE-ECDSA-AES128-GCM-SHA256 bits=128/128); Thu, 15 May 2025 07:12:00 -0700 (PDT) X-Relaying-Domain: iol.unh.edu Date: Thu, 15 May 2025 07:12:00 -0700 (PDT) Message-ID: <6825f630.170a0220.e6c50.ae39SMTPIN_ADDED_MISSING@mx.google.com> Received: from [172.21.0.5] (unknown [172.18.0.240]) by postal.iol.unh.edu (Postfix) with ESMTP id 8447A6052471; Thu, 15 May 2025 10:11:59 -0400 (EDT) Subject: |SUCCESS| pw153447 [PATCH] test/crypto: fix return value in RSA test From: dpdklab@iol.unh.edu To: Test Report Cc: dpdk-test-reports@iol.unh.edu In-Reply-To: <20250515080853.1708-1-gmuthukrishn@marvell.com> References: <20250515080853.1708-1-gmuthukrishn@marvell.com> Content-Type: text/plain X-BeenThere: test-report@dpdk.org X-Mailman-Version: 2.1.29 Precedence: list List-Id: automatic DPDK test reports List-Unsubscribe: , List-Archive: List-Post: List-Help: List-Subscribe: , Errors-To: test-report-bounces@dpdk.org Test-Label: iol-unit-arm64-testing Test-Status: SUCCESS http://dpdk.org/patch/153447 _Testing PASS_ Submitter: Gowrishankar Muthukrishnan Date: Thursday, May 15 2025 08:08:50 DPDK git baseline: Repo:dpdk Branch: master CommitID:ca1690ebd224f148268285b15b97441ccdbdd07e 153447 --> testing pass Upstream job id: Generic-Unit-Test-DPDK#337949 Test environment and result as below: +------------------------+----------------+ | Environment | dpdk_unit_test | +========================+================+ | CentOS Stream 10 (ARM) | PASS | +------------------------+----------------+ | CentOS Stream 9 (ARM) | PASS | +------------------------+----------------+ | Debian 12 (arm) | PASS | +------------------------+----------------+ | Fedora 41 (ARM) | PASS | +------------------------+----------------+ | Fedora 41 (ARM Clang) | PASS | +------------------------+----------------+ | Fedora 40 (ARM) | PASS | +------------------------+----------------+ | Fedora 40 (ARM Clang) | PASS | +------------------------+----------------+ | RHEL9 (ARM) | PASS | +------------------------+----------------+ | Ubuntu 22.04 (ARM) | PASS | +------------------------+----------------+ | Ubuntu 20.04 (ARM) | PASS | +------------------------+----------------+ | Ubuntu 24.04 (ARM) | PASS | +------------------------+----------------+ CentOS Stream 10 (ARM) Kernel: Depends on container host Compiler: gcc 14.2.1 20241104 (Red Hat 14.2.1-6) CentOS Stream 9 (ARM) Kernel: Depends on container host Compiler: gcc 11.5.0 20240719 (Red Hat 11.5.0-2) Debian 12 (arm) Kernel: Depends on container host Compiler: gcc (Debian 12.2.0-14) 12.2.0 Fedora 41 (ARM) Kernel: Depends on container host Compiler: gcc 14.2.1 20240912 (Red Hat 14.2.1-3) Fedora 41 (ARM Clang) Kernel: Depends on container host Compiler: clang 19.1.5 (Fedora 19.1.5-1.fc41) Fedora 40 (ARM) Kernel: Depends on container host Compiler: gcc 14.2.1 20240912 (Red Hat 14.2.1-3) Fedora 40 (ARM Clang) Kernel: Depends on container host Compiler: clang 18.1.8 (Fedora 18.1.8-1.fc40) RHEL9 (ARM) Kernel: Depends on container host Compiler: gcc 11.5.0 20240719 (Red Hat 11.5.0-2) Ubuntu 22.04 (ARM) Kernel: Depends on container host Compiler: gcc (Ubuntu 11.4.0-1ubuntu1~22.04) 11.4.0 Ubuntu 20.04 (ARM) Kernel: Depends on container host Compiler: gcc (Ubuntu 9.4.0-1ubuntu1~20.04.2) 9.4.0 Ubuntu 24.04 (ARM) Kernel: Depends on container host Compiler: gcc (Ubuntu 13.3.0-6ubuntu2~24.04) 13.3.0 To view detailed results, visit: https://lab.dpdk.org/results/dashboard/patchsets/33178/ UNH-IOL DPDK Community Lab To manage your email subscriptions, visit: https://lab.dpdk.org/results/dashboard/preferences/subscriptions/