From mboxrd@z Thu Jan 1 00:00:00 1970 Return-Path: Received: from mails.dpdk.org (mails.dpdk.org [217.70.189.124]) by inbox.dpdk.org (Postfix) with ESMTP id 3680146755 for ; Thu, 15 May 2025 16:19:07 +0200 (CEST) Received: from mails.dpdk.org (localhost [127.0.0.1]) by mails.dpdk.org (Postfix) with ESMTP id 15DD140E3E; Thu, 15 May 2025 16:19:07 +0200 (CEST) Received: from mail-io1-f97.google.com (mail-io1-f97.google.com [209.85.166.97]) by mails.dpdk.org (Postfix) with ESMTP id 36479402DC for ; Thu, 15 May 2025 16:19:06 +0200 (CEST) Received: by mail-io1-f97.google.com with SMTP id ca18e2360f4ac-86135ad7b4cso46410039f.1 for ; Thu, 15 May 2025 07:19:06 -0700 (PDT) DKIM-Signature: v=1; a=rsa-sha256; c=relaxed/relaxed; d=iol.unh.edu; s=unh-iol; t=1747318745; x=1747923545; darn=dpdk.org; h=references:in-reply-to:cc:to:from:subject:message-id:date:from:to :cc:subject:date:message-id:reply-to; bh=49wYhI8MwoofwG/uSYt5zIjQukXzXlfk0whrpggZAdo=; b=ME/KKz1L/4a4I2e08/0ULexseS02tDw99jS1tH13ky0pACE/e/8bp3FqrnEkpJXXPG /MWdmLCGl3yLS46Az6c9oqv/z8vIX2KLJR9FicyKhej0kXiEH/ZnCNlm6o2Z97qsuT6t vqxJ2/2Kb49KAypOkKcWHAiv8ckxUhD3hraaY= X-Google-DKIM-Signature: v=1; a=rsa-sha256; c=relaxed/relaxed; d=1e100.net; s=20230601; t=1747318745; x=1747923545; h=references:in-reply-to:cc:to:from:subject:message-id:date :x-gm-message-state:from:to:cc:subject:date:message-id:reply-to; bh=49wYhI8MwoofwG/uSYt5zIjQukXzXlfk0whrpggZAdo=; b=a67zy0l963updA4JVooJz+XKpimJBT31kduNL0onbtSx3w9k1qcx2/IRuMhR7gGukf BtwFXpYq3EpXKv6zwTuMUu5dTqT6ssEsyERYkyMRpMsf8Cx1O9Dxyz+PHRPFen7NxtYP fEiVlfl6BmvQS5FQQRjwmeKbCio/DMC09qfTInljECXf4YsTn0KYk84glKWrdrleTPwN kkZSlACoGR16aaGkUKPHTzV+vDjbOvI3cEnQYp2CR7XdDENoRNYph51m+9ILQzaMs6t0 7bFJ9rhcZ/qiGEIdMDd+kiK66aPxi4SKwTecGQkZ7JjFkZCMD9HSlFE+QuTtkSw03zsB xKYQ== X-Gm-Message-State: AOJu0YxiDNTMjHI8k6nNHRyezIkJcinpLh0kTj2Ojl8EnhkbVzqxsVN4 6Phd58NFRkxk7kNhzvHC6BV7i3tBVt/LqhD0rN+BrrITkHRcrfOc6Jglie9iL3338V5s+TaWRuM UU9JpJXHGL9O/m2wfzTE1DOPCS9jWboGVRhk7Qmun X-Gm-Gg: ASbGncv7xDW7Ti1HFUYYNcj/IFSK5HbyPsxzmGjAAKxNbFJOeQh514T+8IgWghnMz8Y sRGXokjLk9iPbmrNusm+XplEqjjnokt1P7m/Qkzu3qfXJHvV/BC6Tp6VgiBs8LWiEVQwr1gz2d1 g2eKtA9sqVyJr5DxRyvT/upEOPbPhsAw4dGbWHub/Brpvxg3zMzZl9+GYiPxC/BGlHU1/wxGXqw J2ND5dRAoh2G/ZDa+TK3J2Z3kJJ+aOdeibD60BoWnsQaWXgCE/ZLmrS5y4iIThH2L7nIt6PUZt1 GjORdqXwGF7fJmqT/xZK27bywIokaQH+6/YgzSfiHnYVNsKUjIaJcdYErJk= X-Google-Smtp-Source: AGHT+IFezATdzxzR71MgrA9yCnCqqg5IDus7kmTzhzP564weEkZDT0rlWTEnT6rCQ4XofXI36bqKqQX+KpJv X-Received: by 2002:a05:6602:368e:b0:861:c238:bf03 with SMTP id ca18e2360f4ac-86a08deca6amr1013319339f.8.1747318745390; Thu, 15 May 2025 07:19:05 -0700 (PDT) Received: from postal.iol.unh.edu (postal.iol.unh.edu. [132.177.123.84]) by smtp-relay.gmail.com with ESMTPS id ca18e2360f4ac-869de6dfd5bsm48170439f.12.2025.05.15.07.19.05 (version=TLS1_2 cipher=ECDHE-ECDSA-AES128-GCM-SHA256 bits=128/128); Thu, 15 May 2025 07:19:05 -0700 (PDT) X-Relaying-Domain: iol.unh.edu Date: Thu, 15 May 2025 07:19:05 -0700 (PDT) Message-ID: <6825f7d9.050a0220.304075.8d54SMTPIN_ADDED_MISSING@mx.google.com> Received: from [172.21.0.7] (unknown [172.18.0.240]) by postal.iol.unh.edu (Postfix) with ESMTP id DE4266052471; Thu, 15 May 2025 10:19:04 -0400 (EDT) Subject: |SUCCESS| pw153447 [PATCH] test/crypto: fix return value in RSA test From: dpdklab@iol.unh.edu To: Test Report Cc: dpdk-test-reports@iol.unh.edu In-Reply-To: <20250515080853.1708-1-gmuthukrishn@marvell.com> References: <20250515080853.1708-1-gmuthukrishn@marvell.com> Content-Type: text/plain X-BeenThere: test-report@dpdk.org X-Mailman-Version: 2.1.29 Precedence: list List-Id: automatic DPDK test reports List-Unsubscribe: , List-Archive: List-Post: List-Help: List-Subscribe: , Errors-To: test-report-bounces@dpdk.org Test-Label: iol-abi-testing Test-Status: SUCCESS http://dpdk.org/patch/153447 _Testing PASS_ Submitter: Gowrishankar Muthukrishnan Date: Thursday, May 15 2025 08:08:50 DPDK git baseline: Repo:dpdk Branch: master CommitID:ca1690ebd224f148268285b15b97441ccdbdd07e 153447 --> testing pass Upstream job id: Generic-DPDK-Compile-ABI#126447 Test environment and result as below: +-------------------+----------+ | Environment | abi_test | +===================+==========+ | CentOS Stream 9 | PASS | +-------------------+----------+ | CentOS Stream 10 | PASS | +-------------------+----------+ | Fedora 41 (Clang) | PASS | +-------------------+----------+ | Fedora 40 (Clang) | PASS | +-------------------+----------+ | Fedora 40 | PASS | +-------------------+----------+ | RHEL8 | PASS | +-------------------+----------+ | openSUSE Leap 15 | PASS | +-------------------+----------+ | Fedora 41 | PASS | +-------------------+----------+ | RHEL9 | PASS | +-------------------+----------+ | Ubuntu 24.04 | PASS | +-------------------+----------+ | Ubuntu 22.04 | PASS | +-------------------+----------+ | Debian 12 | PASS | +-------------------+----------+ CentOS Stream 9 Kernel: Depends on container host Compiler: gcc 11.5.0 20240719 (Red Hat 11.5.0-2) CentOS Stream 10 Kernel: Depends on container host Compiler: gcc 14.2.1 20241104 (Red Hat 14.2.1-6) Fedora 41 (Clang) Kernel: Depends on container host Compiler: clang 19.1.5 (Fedora 19.1.5-1.fc41) Fedora 40 (Clang) Kernel: Depends on container host Compiler: clang 18.1.8 (Fedora 18.1.8-1.fc40) Fedora 40 Kernel: Depends on container host Compiler: gcc 14.2.1 20240912 (Red Hat 14.2.1-3) RHEL8 Kernel: Depends on container host Compiler: gcc 8.5.0 20210514 (Red Hat 8.5.0-22) openSUSE Leap 15 Kernel: Depends on container host Compiler: gcc (SUSE Linux) 7.5.0 Fedora 41 Kernel: Depends on container host Compiler: gcc 14.2.1 20240912 (Red Hat 14.2.1-3) RHEL9 Kernel: Depends on container host Compiler: gcc 11.5.0 20240719 (Red Hat 11.5.0-2) Ubuntu 24.04 Kernel: Depends on container host Compiler: gcc (Ubuntu 13.3.0-6ubuntu2~24.04) 13.3.0 Ubuntu 22.04 Kernel: Depends on container host Compiler: gcc (Ubuntu 11.4.0-1ubuntu1~22.04) 11.4.0 Debian 12 Kernel: Depends on container host Compiler: gcc (Debian 12.2.0-14) 12.2.0 To view detailed results, visit: https://lab.dpdk.org/results/dashboard/patchsets/33178/ UNH-IOL DPDK Community Lab To manage your email subscriptions, visit: https://lab.dpdk.org/results/dashboard/preferences/subscriptions/