From mboxrd@z Thu Jan 1 00:00:00 1970 Return-Path: Received: from mails.dpdk.org (mails.dpdk.org [217.70.189.124]) by inbox.dpdk.org (Postfix) with ESMTP id 4EE9146755 for ; Thu, 15 May 2025 16:26:42 +0200 (CEST) Received: from mails.dpdk.org (localhost [127.0.0.1]) by mails.dpdk.org (Postfix) with ESMTP id 3F30440E3E; Thu, 15 May 2025 16:26:42 +0200 (CEST) Received: from mail-vk1-f225.google.com (mail-vk1-f225.google.com [209.85.221.225]) by mails.dpdk.org (Postfix) with ESMTP id 02E61402DC for ; Thu, 15 May 2025 16:26:41 +0200 (CEST) Received: by mail-vk1-f225.google.com with SMTP id 71dfb90a1353d-51eb1a714bfso579709e0c.3 for ; Thu, 15 May 2025 07:26:40 -0700 (PDT) DKIM-Signature: v=1; a=rsa-sha256; c=relaxed/relaxed; d=iol.unh.edu; s=unh-iol; t=1747319200; x=1747924000; darn=dpdk.org; h=references:in-reply-to:cc:to:from:subject:message-id:date:from:to :cc:subject:date:message-id:reply-to; bh=0KTewESQh7+IY5iso+zcGHMqNr519YPK7ahshdpjvU8=; b=f8MP8yAk3kshpYFu46jdsg3g5qO+HLAbroYwQP6UDMhf3EYeoCeKtnJfRHaAnhk7b2 UFN1N10OACwwiwEDcXrVza7Sakrj5Bw2xZGyO9vkfEZwLz1dSYz7m0qLd8w0JA/xEhp2 Feo65J1zKkMNKWXSSf155U0DjCtpiZreFmphc= X-Google-DKIM-Signature: v=1; a=rsa-sha256; c=relaxed/relaxed; d=1e100.net; s=20230601; t=1747319200; x=1747924000; h=references:in-reply-to:cc:to:from:subject:message-id:date :x-gm-message-state:from:to:cc:subject:date:message-id:reply-to; bh=0KTewESQh7+IY5iso+zcGHMqNr519YPK7ahshdpjvU8=; b=dLoyBpeqMTKlXGJTN5vGsAvdLlIdvh3TkyOtPKgxm/kUClt9alzwNSAgz2FViU9HPQ 9k494zFMlCcbW2JaOaWJMUTkxebfxUrftfhInzEbc5D13lE9KzjYP35VvLff2RwEoU/9 q6iIa5Pgmj9JnUhO2I1pzYKWJhUgpedAQtLVyAcUtzZv1ThasZwwSaHuFEXSU5/pRcCd UArG1vHjobEBW4lqREbYS4rf9MW+h9niVbxIECOVXpe4MEyjogehDVgwGVyv0K2F07zX 7cT0gdGdNqAUqDaGHCPgEgZJDXw/Hnq53QMTBWEAgbtB4V4r8iJr28ugKXC37CjGXdyr YAZA== X-Gm-Message-State: AOJu0YxC2MZtAzkPaRuzsaYGpHlk3fpi/ryu0/Y0IyOPrYfQdAR5QtWb H35T4elvuc+gG5AalXZASA9XC3+S7zng/1ziQRARkb/lMvdHGqCK4I3X4dkSOhwdSiexwhzaasG KaxZpQ2tENlrX5a/xVBhvF2QUWfEY+0ADq3AA+MBt X-Gm-Gg: ASbGncs4FqkM0g5W1mE8iKX/e0Eq0LSFDT4LvCc0cSkvKYWS2XXHqAr99uZGrhuIlJh f1e2hYxZJQjcST+jHx+Ti6UqXmOQEiHm0147NaNIoXnjfsTjtNVpSebUFoQqa8triQF1Hq9R8Aa dV0IdbzYwCyGtEvLPBhwr4Vy7+YBog46iatbdhQX12yrjmfCs0VbtnxwIOxl3xOu3/KyMMH2tnW 1i5AbXfzOJGX0JYruZoGwmA0fbL8FJB7k4elfwTvoDQ259N1H1Dv0cKibj/7g7Iff+E4209APpD TXp97nsKX3vhggJ7jWu9b2XQdkNExfer1N7wT+m4dDtSQUx++k1zCgyhQeM= X-Google-Smtp-Source: AGHT+IGciESz2WuSi8nBKjjLPc9a+FsVc4QAW0Zro0f60uzGxU/cN8yM75ScxW8XQ2Oo7JiQpSrgCniCADTa X-Received: by 2002:a05:6122:4594:b0:526:2210:5b68 with SMTP id 71dfb90a1353d-52d9c5a5a4dmr7751823e0c.4.1747319200204; Thu, 15 May 2025 07:26:40 -0700 (PDT) Received: from postal.iol.unh.edu (postal.iol.unh.edu. [132.177.123.84]) by smtp-relay.gmail.com with ESMTPS id 71dfb90a1353d-52c536ff1e4sm343625e0c.1.2025.05.15.07.26.40 (version=TLS1_2 cipher=ECDHE-ECDSA-AES128-GCM-SHA256 bits=128/128); Thu, 15 May 2025 07:26:40 -0700 (PDT) X-Relaying-Domain: iol.unh.edu Date: Thu, 15 May 2025 07:26:40 -0700 (PDT) Message-ID: <6825f9a0.050a0220.3ab11.15c5SMTPIN_ADDED_MISSING@mx.google.com> Received: from [172.21.0.7] (unknown [172.18.0.240]) by postal.iol.unh.edu (Postfix) with ESMTP id DF5F36052471; Thu, 15 May 2025 10:26:39 -0400 (EDT) Subject: |WARNING| pw153447 [PATCH] test/crypto: fix return value in RSA test From: dpdklab@iol.unh.edu To: Test Report Cc: dpdk-test-reports@iol.unh.edu In-Reply-To: <20250515080853.1708-1-gmuthukrishn@marvell.com> References: <20250515080853.1708-1-gmuthukrishn@marvell.com> Content-Type: text/plain X-BeenThere: test-report@dpdk.org X-Mailman-Version: 2.1.29 Precedence: list List-Id: automatic DPDK test reports List-Unsubscribe: , List-Archive: List-Post: List-Help: List-Subscribe: , Errors-To: test-report-bounces@dpdk.org Test-Label: iol-compile-amd64-testing Test-Status: WARNING http://dpdk.org/patch/153447 _Testing issues_ Submitter: Gowrishankar Muthukrishnan Date: Thursday, May 15 2025 08:08:50 DPDK git baseline: Repo:dpdk Branch: master CommitID:ca1690ebd224f148268285b15b97441ccdbdd07e 153447 --> testing issues Upstream job id: Generic-DPDK-Compile-Meson#388133 Test environment and result as below: +-----------------------------------+--------------------+-------------------+------------------+-------------------------+-------------------+ | Environment | dpdk_meson_compile | dpdk_compile_spdk | dpdk_compile_ovs | dpdk_llvm_clang_compile | dpdk_msvc_compile | +===================================+====================+===================+==================+=========================+===================+ | CentOS Stream 9 | PASS | PASS | SKIPPED | SKIPPED | SKIPPED | +-----------------------------------+--------------------+-------------------+------------------+-------------------------+-------------------+ | Debian 12 | PASS | PASS | SKIPPED | SKIPPED | SKIPPED | +-----------------------------------+--------------------+-------------------+------------------+-------------------------+-------------------+ | CentOS Stream 10 | PASS | SKIPPED | SKIPPED | SKIPPED | SKIPPED | +-----------------------------------+--------------------+-------------------+------------------+-------------------------+-------------------+ | Fedora 41 (Clang) | PASS | WARN | PASS | SKIPPED | SKIPPED | +-----------------------------------+--------------------+-------------------+------------------+-------------------------+-------------------+ | Fedora 41 | PASS | PASS | PASS | SKIPPED | SKIPPED | +-----------------------------------+--------------------+-------------------+------------------+-------------------------+-------------------+ | Fedora 40 | PASS | PASS | SKIPPED | SKIPPED | SKIPPED | +-----------------------------------+--------------------+-------------------+------------------+-------------------------+-------------------+ | Fedora 40 (Clang) | PEND | PEND | SKIPPED | SKIPPED | SKIPPED | +-----------------------------------+--------------------+-------------------+------------------+-------------------------+-------------------+ | RHEL9 | PASS | SKIPPED | SKIPPED | SKIPPED | SKIPPED | +-----------------------------------+--------------------+-------------------+------------------+-------------------------+-------------------+ | Ubuntu 22.04 | PEND | PEND | SKIPPED | SKIPPED | SKIPPED | +-----------------------------------+--------------------+-------------------+------------------+-------------------------+-------------------+ | RHEL8 | PASS | SKIPPED | SKIPPED | SKIPPED | SKIPPED | +-----------------------------------+--------------------+-------------------+------------------+-------------------------+-------------------+ | openSUSE Leap 15 | PASS | SKIPPED | SKIPPED | SKIPPED | SKIPPED | +-----------------------------------+--------------------+-------------------+------------------+-------------------------+-------------------+ | Ubuntu 20.04 | PASS | SKIPPED | SKIPPED | SKIPPED | SKIPPED | +-----------------------------------+--------------------+-------------------+------------------+-------------------------+-------------------+ | Ubuntu 24.04 | PASS | PASS | PASS | SKIPPED | SKIPPED | +-----------------------------------+--------------------+-------------------+------------------+-------------------------+-------------------+ | FreeBSD 13.5 | PASS | SKIPPED | SKIPPED | SKIPPED | SKIPPED | +-----------------------------------+--------------------+-------------------+------------------+-------------------------+-------------------+ | Alpine | PEND | SKIPPED | SKIPPED | SKIPPED | SKIPPED | +-----------------------------------+--------------------+-------------------+------------------+-------------------------+-------------------+ | Ubuntu 24.04 32 Bit Cross Compile | PEND | SKIPPED | SKIPPED | SKIPPED | SKIPPED | +-----------------------------------+--------------------+-------------------+------------------+-------------------------+-------------------+ | FreeBSD 14.2 | PASS | SKIPPED | SKIPPED | SKIPPED | SKIPPED | +-----------------------------------+--------------------+-------------------+------------------+-------------------------+-------------------+ | Windows Server 2022 | SKIPPED | SKIPPED | SKIPPED | PASS | PASS | +-----------------------------------+--------------------+-------------------+------------------+-------------------------+-------------------+ ==== 20 line log output for Fedora 41 (Clang) (dpdk_compile_spdk): ==== --- Failed to get log output --- ==== End log output ==== CentOS Stream 9 Kernel: Depends on container host Compiler: gcc 11.5.0 20240719 (Red Hat 11.5.0-2) Debian 12 Kernel: Depends on container host Compiler: gcc (Debian 12.2.0-14) 12.2.0 CentOS Stream 10 Kernel: Depends on container host Compiler: gcc 14.2.1 20241104 (Red Hat 14.2.1-6) Fedora 41 (Clang) Kernel: Depends on container host Compiler: clang 19.1.5 (Fedora 19.1.5-1.fc41) Fedora 41 Kernel: Depends on container host Compiler: gcc 14.2.1 20240912 (Red Hat 14.2.1-3) Fedora 40 Kernel: Depends on container host Compiler: gcc 14.2.1 20240912 (Red Hat 14.2.1-3) Fedora 40 (Clang) Kernel: Depends on container host Compiler: clang 18.1.8 (Fedora 18.1.8-1.fc40) RHEL9 Kernel: Depends on container host Compiler: gcc 11.5.0 20240719 (Red Hat 11.5.0-2) Ubuntu 22.04 Kernel: Depends on container host Compiler: gcc (Ubuntu 11.4.0-1ubuntu1~22.04) 11.4.0 RHEL8 Kernel: Depends on container host Compiler: gcc 8.5.0 20210514 (Red Hat 8.5.0-22) openSUSE Leap 15 Kernel: Depends on container host Compiler: gcc (SUSE Linux) 7.5.0 Ubuntu 20.04 Kernel: Depends on container host Compiler: gcc (Ubuntu 9.4.0-1ubuntu1~20.04.2) 9.4.0 Ubuntu 24.04 Kernel: Depends on container host Compiler: gcc (Ubuntu 13.3.0-6ubuntu2~24.04) 13.3.0 FreeBSD 13.5 Kernel: 13.5-RELEASE Compiler: clang 19.1.7 Alpine Kernel: Depends on container host Compiler: gcc (Alpine 14.2.0) 14.2.0 Ubuntu 24.04 32 Bit Cross Compile Kernel: Depends on container host Compiler: gcc (Ubuntu 13.3.0-6ubuntu2~24.04) 13.3.0 FreeBSD 14.2 Kernel: 14.2-RELEASE Compiler: clang 18.1.6 Windows Server 2022 Kernel: 10.0.20348.2031 Compiler: clang 15.0.7, gcc 14.1.0 (MinGW), and MSVC VS 19.39.33521 To view detailed results, visit: https://lab.dpdk.org/results/dashboard/patchsets/33178/ UNH-IOL DPDK Community Lab To manage your email subscriptions, visit: https://lab.dpdk.org/results/dashboard/preferences/subscriptions/